Workbook

Sheet май 2014 (2)
E1: апрель 2014
A2: № п/п | B2: Ф.И.О. ученика | C2: Сальдо апрель | D2: Внесено | E2: 1-я неделя | J2: Внесено | K2: 2-я неделя | P2: Внесено | Q2: 3-я неделя | V2: Внесено | W2: 4-я неделя | AB2: Внесено | AC2: 5-я неделя | AH2: Сальдо май
E3: 5 | F3: 6 | G3: 7 | H3: 8 | K3: 12 | L3: 13 | M3: 14 | N3: 15 | O3: 16 | Q3: 19 | R3: 20 | S3: 21 | T3: 22 | U3: 23
A4: 1 | B4: Баркова Александра | C4: -729.94 | D4: 2000 | E4: 93 | F4: 93 | G4: 93 | H4: 93 | K4: 93 | L4: 93 | M4: 93 | N4: 93 | O4: 93 | Q4: 93 | S4: 93 | T4: 93 | U4: 93 | AH4: =(C4+D4+J4+P4+AB4)-(SUM(E4:I4)+SUM(K4:O4)+SUM(Q4:U4)+SUM(AC4:AG4)) -> 61.06
A5: 2 | B5: Васильев Сергей | C5: 1233.16 | E5: 93 | M5: 93 | O5: 93 | S5: 93 | U5: 93 | AH5: =(C5+D5+J5+P5+AB5)-(SUM(E5:I5)+SUM(K5:O5)+SUM(Q5:U5)+SUM(AC5:AG5)) -> 768.16
A6: 3 | B6: Горностаев Владислав | C6: 0 | AH6: =(C6+D6+J6+P6+AB6)-(SUM(E6:I6)+SUM(K6:O6)+SUM(Q6:U6)+SUM(AC6:AG6)) -> 0
A7: 4 | B7: Дашков Никита | C7: 1988.61 | M7: 93 | S7: 93 | AH7: =(C7+D7+J7+P7+AB7)-(SUM(E7:I7)+SUM(K7:O7)+SUM(Q7:U7)+SUM(AC7:AG7)) -> 1802.61
A8: 5 | B8: Девина София | C8: -1427.37 | D8: 3000 | E8: 93 | F8: 93 | G8: 93 | H8: 93 | K8: 93 | L8: 93 | M8: 93 | N8: 93 | O8: 93 | Q8: 93 | R8: 93 | S8: 93 | T8: 93 | U8: 93 | AH8: =(C8+D8+J8+P8+AB8)-(SUM(E8:I8)+SUM(K8:O8)+SUM(Q8:U8)+SUM(AC8:AG8)) -> 270.63
A9: 6 | B9: Ендерова Марина | C9: -2893.39 | D9: 3400 | E9: 93 | F9: 93 | G9: 93 | H9: 93 | K9: 93 | L9: 93 | M9: 93 | N9: 93 | O9: 93 | Q9: 93 | R9: 93 | S9: 93 | T9: 93 | U9: 93 | AH9: =(C9+D9+J9+P9+AB9)-(SUM(E9:I9)+SUM(K9:O9)+SUM(Q9:U9)+SUM(AC9:AG9)) -> -795.39
A10: 7 | B10: Журавлёв Сергей | C10: 1679.44 | F10: 93 | K10: 93 | L10: 93 | M10: 93 | N10: 93 | O10: 93 | Q10: 93 | S10: 93 | T10: 93 | U10: 93 | AH10: =(C10+D10+J10+P10+AB10)-(SUM(E10:I10)+SUM(K10:O10)+SUM(Q10:U10)+SUM(AC10:AG10)) -> 749.44
A11: 8 | B11: Каранадце Диана | C11: -2880.22 | D11: 4000 | E11: 93 | F11: 93 | G11: 93 | H11: 93 | K11: 93 | L11: 93 | M11: 93 | N11: 93 | O11: 93 | Q11: 93 | R11: 93 | S11: 93 | T11: 93 | AH11: =(C11+D11+J11+P11+AB11)-(SUM(E11:I11)+SUM(K11:O11)+SUM(Q11:U11)+SUM(AC11:AG11)) -> -89.22
A12: 9 | B12: Крац Александр | C12: -158 | AH12: =(C12+D12+J12+P12+AB12)-(SUM(E12:I12)+SUM(K12:O12)+SUM(Q12:U12)+SUM(AC12:AG12)) -> -158
A13: 10 | B13: Круглова Мария | C13: -275.12 | D13: 2000 | F13: 93 | K13: 93 | L13: 93 | M13: 93 | N13: 93 | O13: 93 | Q13: 93 | R13: 93 | S13: 93 | T13: 93 | U13: 93 | AH13: =(C13+D13+J13+P13+AB13)-(SUM(E13:I13)+SUM(K13:O13)+SUM(Q13:U13)+SUM(AC13:AG13)) -> 701.88
A14: 11 | B14: Кузьмин Степан | C14: 0 | AH14: =(C14+D14+J14+P14+AB14)-(SUM(E14:I14)+SUM(K14:O14)+SUM(Q14:U14)+SUM(AC14:AG14)) -> 0
A15: 12 | B15: Кулинкович Ева | C15: 975.12 | D15: 600 | E15: 93 | F15: 93 | H15: 93 | K15: 93 | L15: 93 | M15: 93 | N15: 93 | O15: 93 | Q15: 93 | R15: 93 | S15: 93 | T15: 93 | U15: 93 | AH15: =(C15+D15+J15+P15+AB15)-(SUM(E15:I15)+SUM(K15:O15)+SUM(Q15:U15)+SUM(AC15:AG15)) -> 366.12
A16: 13 | B16: Куст Ольга | C16: 959.12 | E16: 93 | G16: 93 | K16: 93 | M16: 93 | O16: 93 | Q16: 93 | S16: 93 | T16: 93 | AH16: =(C16+D16+J16+P16+AB16)-(SUM(E16:I16)+SUM(K16:O16)+SUM(Q16:U16)+SUM(AC16:AG16)) -> 215.12
A17: 14 | B17: Кученкова Анна | C17: 0 | AH17: 0
A18: 15 | B18: Ларионова Марина | C18: 0 | AH18: 0
A19: 16 | B19: Лацузбая Елизавета | C19: 0 | AH19: 0
A20: 17 | B20: Лызинцев Евгений | C20: 447.79 | G20: 93 | H20: 93 | O20: 93 | Q20: 93 | S20: 93 | T20: 93 | U20: 93 | AH20: =(C20+D20+J20+P20+AB20)-(SUM(E20:I20)+SUM(K20:O20)+SUM(Q20:U20)+SUM(AC20:AG20)) -> -203.21
A21: 18 | B21: Макаренко Влад | C21: 0 | AH21: =(C21+D21+J21+P21+AB21)-(SUM(E21:I21)+SUM(K21:O21)+SUM(Q21:U21)+SUM(AC21:AG21)) -> 0
A22: 19 | B22: Никонова Алиса | C22: 96.41 | D22: 1500 | E22: 93 | F22: 93 | G22: 93 | H22: 93 | I22: 93 | K22: 93 | L22: 93 | M22: 93 | N22: 93 | O22: 93 | Q22: 93 | R22: 93 | S22: 93 | T22: 93 | AH22: =(C22+D22+J22+P22+AB22)-(SUM(E22:I22)+SUM(K22:O22)+SUM(Q22:U22)+SUM(AC22:AG22)) -> 294.41
A23: 20 | B23: Пахилина Дарья | C23: -980.77 | D23: 2000 | F23: 93 | L23: 93 | S23: 93 | T23: 93 | U23: 93 | AH23: =(C23+D23+J23+P23+AB23)-(SUM(E23:I23)+SUM(K23:O23)+SUM(Q23:U23)+SUM(AC23:AG23)) -> 554.23
A24: 21 | B24: Погорелова Таисия | C24: -465 | D24: 465 | AH24: =(C24+D24+J24+P24+AB24)-(SUM(E24:I24)+SUM(K24:O24)+SUM(Q24:U24)+SUM(AC24:AG24)) -> 0
A25: 22 | B25: Полякова Софья | C25: 763.51 | E25: 93 | F25: 93 | G25: 93 | H25: 93 | I25: 93 | K25: 93 | L25: 93 | M25: 93 | N25: 93 | O25: 93 | Q25: 93 | R25: 93 | S25: 93 | T25: 93 | U25: 93 | AH25: =(C25+D25+J25+P25+AB25)-(SUM(E25:I25)+SUM(K25:O25)+SUM(Q25:U25)+SUM(AC25:AG25)) -> -631.49
A26: 23 | B26: Савенков Станислав | C26: 0 | AH26: =(C26+D26+J26+P26+AB26)-(SUM(E26:I26)+SUM(K26:O26)+SUM(Q26:U26)+SUM(AC26:AG26)) -> 0
A27: 24 | B27: Седых Алёна | C27: 0 | AH27: =(C27+D27+J27+P27+AB27)-(SUM(E27:I27)+SUM(K27:O27)+SUM(Q27:U27)+SUM(AC27:AG27)) -> 0
A28: 25 | B28: Спасская Софья | C28: -1085.53 | D28: 2000 | E28: 93 | F28: 93 | G28: 93 | H28: 93 | I28: 93 | K28: 93 | L28: 93 | M28: 93 | N28: 93 | O28: 93 | Q28: 93 | R28: 93 | S28: 93 | T28: 93 | U28: 93 | AH28: =(C28+D28+J28+P28+AB28)-(SUM(E28:I28)+SUM(K28:O28)+SUM(Q28:U28)+SUM(AC28:AG28)) -> -480.53
A29: 26 | B29: Харольская Софья | C29: -105.97 | D29: 500 | T29: 93 | AH29: =(C29+D29+J29+P29+AB29)-(SUM(E29:I29)+SUM(K29:O29)+SUM(Q29:U29)+SUM(AC29:AG29)) -> 301.03
A30: 27 | B30: Чебунина Кристина | C30: 640.58 | E30: 93 | F30: 93 | G30: 93 | H30: 93 | I30: 93 | K30: 93 | L30: 93 | M30: 93 | N30: 93 | O30: 93 | Q30: 93 | R30: 93 | S30: 93 | AH30: =(C30+D30+J30+P30+AB30)-(SUM(E30:I30)+SUM(K30:O30)+SUM(Q30:U30)+SUM(AC30:AG30)) -> -568.42
A31: Сумма к уплате по дням | E31: =SUM(E4:E30) -> 1023 | F31: =SUM(F4:F30) -> 1116 | G31: =SUM(G4:G30) -> 930 | H31: =SUM(H4:H30) -> 930 | I31: =SUM(I4:I30) -> 372 | K31: =SUM(K4:K30) -> 1116 | L31: =SUM(L4:L30) -> 1116 | M31: =SUM(M4:M30) -> 1302 | N31: =SUM(N4:N30) -> 1023 | O31: =SUM(O4:O30) -> 1302 | Q31: =SUM(Q4:Q30) -> 1209 | R31: =SUM(R4:R30) -> 837 | S31: =SUM(S4:S30) -> 1488 | T31: =SUM(T4:T30) -> 1302 | U31: =SUM(U4:U30) -> 1023 | W31: =SUM(W4:W30) -> 0 | X31: =SUM(X4:X30) -> 0 | Y31: =SUM(Y4:Y30) -> 0 | Z31: =SUM(Z4:Z30) -> 0 | AA31: =SUM(AA4:AA30) -> 0 | AC31: =SUM(AC4:AC30) -> 0 | AD31: =SUM(AD4:AD30) -> 0 | AE31: =SUM(AE4:AE30) -> 0 | AF31: =SUM(AF4:AF30) -> 0 | AG31: =SUM(AG4:AG30) -> 0
A34: Сумма к зачету столовой на конец месяца (оплачено, но не использовано) | AH34: =SUM(AH4:AH30) -> 3158.43

Sheet ЯНВАРЬ 2013
E2: ЯНВАРЬ 2013 года
A3: № п/п | B3: Ф.И.О. ученика | C3: Сальдо дек. 2012 | D3: Внесено | E3: 1 неделя | J3: Внесено | K3: 2-я неделя | P3: Внесено | Q3: 3-я неделя | V3: Внесено | W3: 4-я неделя | AB3: Сальдо январь
G4: 9 | H4: 10 | I4: 11 | K4: 14 | L4: 15 | M4: 16 | N4: 17 | O4: 18 | Q4: 21 | R4: 22 | S4: 23 | T4: 24 | U4: 25 | W4: 28 | X4: 29 | Y4: 30 | Z4: 31 | AA4: 1
A5: 1 | B5: Баркова Александра | C5: 59.64 | D5: 5000 | K5: 90.74 | L5: 90.74 | M5: 90.74 | N5: 90.74 | O5: 90.74 | Q5: 90.74 | R5: 90.74 | S5: 90.74 | T5: 90.74 | U5: 90.74 | W5: 90.74 | X5: 90.74 | Y5: 90.74 | Z5: 90.74 | AB5: =(C5+D5+J5+P5+V5)-(SUM(E5:I5)+SUM(K5:O5)+SUM(Q5:U5)+SUM(W5:AA5)) -> 3789.28
A6: 2 | B6: Батюшкова Алиса | C6: 244.87 | D6: 1000 | G6: 90.74 | H6: 90.74 | I6: 90.74 | K6: 90.74 | L6: 90.74 | M6: 90.74 | N6: 90.74 | O6: 90.74 | W6: 90.74 | X6: 90.74 | Y6: 90.74 | Z6: 90.74 | AA6: 90.74 | AB6: =(C6+D6+J6+P6+V6)-(SUM(E6:I6)+SUM(K6:O6)+SUM(Q6:U6)+SUM(W6:AA6)) -> 65.25
A7: 3 | B7: Васильев Сергей | C7: 1289.08 | G7: 90.74 | K7: 90.74 | L7: 90.74 | M7: 90.74 | N7: 90.74 | Q7: 90.74 | R7: 90.74 | S7: 90.74 | T7: 90.74 | W7: 90.74 | X7: 90.74 | Y7: 90.74 | Z7: 90.74 | AB7: =(C7+D7+J7+P7+V7)-(SUM(E7:I7)+SUM(K7:O7)+SUM(Q7:U7)+SUM(W7:AA7)) -> 109.46
A8: 4 | B8: Горностаев Владислав | C8: 749.48 | D8: 2000 | G8: 90.74 | H8: 90.74 | I8: 90.74 | K8: 90.74 | L8: 90.74 | Y8: 90.74 | Z8: 90.74 | AA8: 90.74 | AB8: =(C8+D8+J8+P8+V8)-(SUM(E8:I8)+SUM(K8:O8)+SUM(Q8:U8)+SUM(W8:AA8)) -> 2023.56
A9: 5 | B9: Дашков Никита | C9: 1178.89 | D9: 2000 | G9: 90.74 | H9: 90.74 | I9: 90.74 | K9: 90.74 | L9: 90.74 | M9: 90.74 | N9: 90.74 | O9: 90.74 | Q9: 90.74 | R9: 90.74 | S9: 90.74 | T9: 90.74 | U9: 90.74 | W9: 90.74 | X9: 90.74 | Y9: 90.74 | Z9: 90.74 | AA9: 90.74 | AB9: =(C9+D9+J9+P9+V9)-(SUM(E9:I9)+SUM(K9:O9)+SUM(Q9:U9)+SUM(W9:AA9)) -> 1545.57
A10: 6 | B10: Девина София | C10: 1044.87 | D10: 1500 | G10: 90.74 | H10: 90.74 | I10: 90.74 | K10: 90.74 | L10: 90.74 | M10: 90.74 | N10: 90.74 | O10: 90.74 | Q10: 90.74 | R10: 90.74 | S10: 90.74 | T10: 90.74 | U10: 90.74 | AB10: =(C10+D10+J10+P10+V10)-(SUM(E10:I10)+SUM(K10:O10)+SUM(Q10:U10)+SUM(W10:AA10)) -> 1365.25
A11: 7 | B11: Ендерова Марина | C11: 409.59 | D11: 1500 | G11: 90.74 | H11: 90.74 | I11: 90.74 | K11: 90.74 | L11: 90.74 | M11: 90.74 | N11: 90.74 | O11: 90.74 | Q11: 90.74 | R11: 90.74 | S11: 90.74 | T11: 90.74 | U11: 90.74 | Y11: 90.74 | Z11: 90.74 | AA11: 90.74 | AB11: =(C11+D11+J11+P11+V11)-(SUM(E11:I11)+SUM(K11:O11)+SUM(Q11:U11)+SUM(W11:AA11)) -> 457.75
A12: 8 | B12: Журавлёв Сергей | C12: 95.2 | D12: 2000 | G12: 90.74 | H12: 90.74 | I12: 90.74 | K12: 90.74 | L12: 90.74 | M12: 90.74 | N12: 90.74 | O12: 90.74 | Q12: 90.74 | R12: 90.74 | S12: 90.74 | T12: 90.74 | U12: 90.74 | AB12: =(C12+D12+J12+P12+V12)-(SUM(E12:I12)+SUM(K12:O12)+SUM(Q12:U12)+SUM(W12:AA12)) -> 915.58
A13: 9 | B13: Каранадце Диана | C13: 880.36 | G13: 90.74 | H13: 90.74 | I13: 90.74 | K13: 90.74 | L13: 90.74 | M13: 90.74 | N13: 90.74 | O13: 90.74 | Q13: 90.74 | R13: 90.74 | S13: 90.74 | T13: 90.74 | U13: 90.74 | W13: 90.74 | X13: 90.74 | Y13: 90.74 | Z13: 90.74 | AB13: =(C13+D13+J13+P13+V13)-(SUM(E13:I13)+SUM(K13:O13)+SUM(Q13:U13)+SUM(W13:AA13)) -> -662.22
A14: 10 | B14: Крац Александр | C14: 0 | AB14: =(C14+D14+J14+P14+V14)-(SUM(E14:I14)+SUM(K14:O14)+SUM(Q14:U14)+SUM(W14:AA14)) -> 0
A15: 11 | B15: Круглова Мария | C15: 1080.36 | D15: 1000 | K15: 90.74 | L15: 90.74 | M15: 90.74 | N15: 90.74 | O15: 90.74 | Q15: 90.74 | R15: 90.74 | S15: 90.74 | T15: 90.74 | U15: 90.74 | W15: 90.74 | X15: 90.74 | Y15: 90.74 | Z15: 90.74 | AA15: 90.74 | AB15: =(C15+D15+J15+P15+V15)-(SUM(E15:I15)+SUM(K15:O15)+SUM(Q15:U15)+SUM(W15:AA15)) -> 719.26
A16: 12 | B16: Кузьмин Степан | C16: 359.17 | AB16: =(C16+D16+J16+P16+V16)-(SUM(E16:I16)+SUM(K16:O16)+SUM(Q16:U16)+SUM(W16:AA16)) -> 359.17
A17: 13 | B17: Кулинкович Ева | C17: 1249.48 | D17: 1000 | G17: 90.74 | H17: 90.74 | I17: 90.74 | K17: 90.74 | L17: 90.74 | M17: 90.74 | N17: 90.74 | O17: 90.74 | Q17: 90.74 | R17: 90.74 | S17: 90.74 | T17: 90.74 | U17: 90.74 | AB17: =(C17+D17+J17+P17+V17)-(SUM(E17:I17)+SUM(K17:O17)+SUM(Q17:U17)+SUM(W17:AA17)) -> 1069.86
A18: 14 | B18: Куст Ольга | C18: 943.96 | H18: 90.74 | T18: 90.74 | Z18: 90.74 | AB18: =(C18+D18+J18+P18+V18)-(SUM(E18:I18)+SUM(K18:O18)+SUM(Q18:U18)+SUM(W18:AA18)) -> 671.74
A19: 15 | B19: Кученкова Анна | C19: 0 | AB19: =(C19+D19+J19+P19+V19)-(SUM(E19:I19)+SUM(K19:O19)+SUM(Q19:U19)+SUM(W19:AA19)) -> 0
A20: 16 | B20: Ларионова Марина | C20: 0 | AB20: =(C20+D20+J20+P20+V20)-(SUM(E20:I20)+SUM(K20:O20)+SUM(Q20:U20)+SUM(W20:AA20)) -> 0
A21: 17 | B21: Лацузбая Елизавета | C21: 0 | AB21: =(C21+D21+J21+P21+V21)-(SUM(E21:I21)+SUM(K21:O21)+SUM(Q21:U21)+SUM(W21:AA21)) -> 0
A22: 18 | B22: Лызинцев Евгений | C22: 1037.73 | K22: 90.74 | Y22: 90.74 | AB22: =(C22+D22+J22+P22+V22)-(SUM(E22:I22)+SUM(K22:O22)+SUM(Q22:U22)+SUM(W22:AA22)) -> 856.25
A23: 19 | B23: Михайлов Иван | C23: 0 | AB23: =(C23+D23+J23+P23+V23)-(SUM(E23:I23)+SUM(K23:O23)+SUM(Q23:U23)+SUM(W23:AA23)) -> 0
A24: 20 | B24: Никонова Алиса | C24: 644.87 | D24: 1500 | G24: 90.74 | H24: 90.74 | I24: 90.74 | K24: 90.74 | L24: 90.74 | M24: 90.74 | N24: 90.74 | O24: 90.74 | Q24: 90.74 | R24: 90.74 | S24: 90.74 | T24: 90.74 | U24: 90.74 | W24: 90.74 | X24: 90.74 | Y24: 90.74 | Z24: 90.74 | AA24: 90.74 | AB24: =(C24+D24+J24+P24+V24)-(SUM(E24:I24)+SUM(K24:O24)+SUM(Q24:U24)+SUM(W24:AA24)) -> 511.55
A25: 21 | B25: Пахилина Дарья | C25: 757.55 | D25: 2000 | I25: 90.74 | K25: 90.74 | L25: 90.74 | M25: 90.74 | N25: 90.74 | O25: 90.74 | Q25: 90.74 | R25: 90.74 | S25: 90.74 | T25: 90.74 | U25: 90.74 | W25: 90.74 | X25: 90.74 | Y25: 90.74 | AB25: =(C25+D25+J25+P25+V25)-(SUM(E25:I25)+SUM(K25:O25)+SUM(Q25:U25)+SUM(W25:AA25)) -> 1487.19
A26: 22 | B26: Погорелова Таисия | C26: 0 | AB26: =(C26+D26+J26+P26+V26)-(SUM(E26:I26)+SUM(K26:O26)+SUM(Q26:U26)+SUM(W26:AA26)) -> 0
A27: 23 | B27: Полякова Софья | C27: 450.59 | H27: 90.74 | K27: 90.74 | L27: 90.74 | N27: 90.74 | Q27: 90.74 | R27: 90.74 | T27: 90.74 | W27: 90.74 | X27: 90.74 | Z27: 90.74 | AB27: =(C27+D27+J27+P27+V27)-(SUM(E27:I27)+SUM(K27:O27)+SUM(Q27:U27)+SUM(W27:AA27)) -> -456.81
A28: 24 | B28: Савенков Станислав | C28: 0 | AB28: =(C28+D28+J28+P28+V28)-(SUM(E28:I28)+SUM(K28:O28)+SUM(Q28:U28)+SUM(W28:AA28)) -> 0
A29: 25 | B29: Седых Алёна | C29: 0 | AB29: =(C29+D29+J29+P29+V29)-(SUM(E29:I29)+SUM(K29:O29)+SUM(Q29:U29)+SUM(W29:AA29)) -> 0
A30: 26 | B30: Спасская Софья | C30: -329.95 | D30: 2500 | G30: 90.74 | H30: 90.74 | I30: 90.74 | K30: 90.74 | L30: 90.74 | M30: 90.74 | N30: 90.74 | O30: 90.74 | Q30: 90.74 | R30: 90.74 | S30: 90.74 | T30: 90.74 | U30: 90.74 | W30: 90.74 | X30: 90.74 | AB30: =(C30+D30+J30+P30+V30)-(SUM(E30:I30)+SUM(K30:O30)+SUM(Q30:U30)+SUM(W30:AA30)) -> 808.95
A31: 27 | B31: Харольская Софья | C31: 2044.87 | K31: 90.74 | M31: 90.74 | N31: 90.74 | O31: 90.74 | Q31: 90.74 | R31: 90.74 | S31: 90.74 | T31: 90.74 | U31: 90.74 | W31: 90.74 | X31: 90.74 | Y31: 90.74 | AB31: =(C31+D31+J31+P31+V31)-(SUM(E31:I31)+SUM(K31:O31)+SUM(Q31:U31)+SUM(W31:AA31)) -> 955.99
A32: 28 | B32: Чебунина Кристина | C32: 859.98 | K32: 90.74 | L32: 90.74 | N32: 90.74 | Q32: 90.74 | R32: 90.74 | T32: 90.74 | W32: 90.74 | X32: 90.74 | Y32: 90.74 | Z32: 90.74 | AB32: =(C32+D32+J32+P32+V32)-(SUM(E32:I32)+SUM(K32:O32)+SUM(Q32:U32)+SUM(W32:AA32)) -> -47.42
A33: Сумма к уплате за обеды по дням | E33: =SUM(E5:E32) -> 0 | F33: =SUM(F5:F32) -> 0 | G33: =SUM(G5:G32) -> 998.14 | H33: =SUM(H5:H32) -> 1088.88 | I33: =SUM(I5:I32) -> 998.14 | K33: =SUM(K5:K32) -> 1633.32 | L33: =SUM(L5:L32) -> 1451.84 | M33: =SUM(M5:M32) -> 1270.36 | N33: =SUM(N5:N32) -> 1451.84 | O33: =SUM(O5:O32) -> 1179.62 | Q33: =SUM(Q5:Q32) -> 1361.1 | R33: =SUM(R5:R32) -> 1361.1 | S33: =SUM(S5:S32) -> 1179.62 | T33: =SUM(T5:T32) -> 1451.84 | U33: =SUM(U5:U32) -> 1088.88 | W33: =SUM(W5:W32) -> 1088.88 | X33: =SUM(X5:X32) -> 1088.88 | Y33: =SUM(Y5:Y32) -> 1179.62 | Z33: =SUM(Z5:Z32) -> 1088.88 | AA33: =SUM(AA5:AA32) -> 544.44
A36: Сумма к зачету столовой на конец месяца (оплачено, но не использовано) | AB36: =SUM(AB5:AB35) -> 16545.21

Sheet ФЕВРАЛЬ 2013
E2: ФЕВРАЛЬ 2013
A3: № п/п | B3: Ф.И.О. ученика | C3: Сальдо январь | D3: Внесено | E3: 1-я неделя | J3: Внесено | K3: 2-я неделя | P3: Внесено | Q3: 3-я неделя | V3: Внесено | W3: 4-я неделя | AB3: Сальдо февраль
E4: 4 | F4: 5 | G4: 6 | H4: 7 | I4: 8 | K4: 11 | L4: 12 | M4: 13 | N4: 14 | O4: 15 | Q4: 18 | R4: 19 | S4: 20 | T4: 21 | U4: 22 | W4: 25 | X4: 26 | Y4: 27 | Z4: 28 | AA4: 1
A5: 1 | B5: Баркова Александра | C5: ='ЯНВАРЬ 2013'!AB5 -> 3789.28 | K5: 90.74 | L5: 90.74 | M5: 90.74 | N5: 90.74 | O5: 90.74 | W5: 90.74 | X5: 90.74 | Y5: 90.74 | Z5: 90.74 | AA5: 90.74 | AB5: =(C5+D5+J5+P5+V5)-(SUM(E5:I5)+SUM(K5:O5)+SUM(Q5:U5)+SUM(W5:AA5)) -> 2881.88
A6: 2 | B6: Батюшкова Алиса | C6: ='ЯНВАРЬ 2013'!AB6 -> 65.25 | D6: 1000 | E6: 90.74 | F6: 90.74 | G6: 90.74 | H6: 90.74 | I6: 90.74 | K6: 90.74 | L6: 90.74 | M6: 90.74 | N6: 90.74 | O6: 90.74 | W6: 90.74 | X6: 90.74 | Y6: 90.74 | Z6: 90.74 | AA6: 90.74 | AB6: =(C6+D6+J6+P6+V6)-(SUM(E6:I6)+SUM(K6:O6)+SUM(Q6:U6)+SUM(W6:AA6)) -> -295.85
A7: 3 | B7: Васильев Сергей | C7: ='ЯНВАРЬ 2013'!AB7 -> 109.46 | D7: 1000 | K7: 90.74 | L7: 90.74 | M7: 90.74 | N7: 90.74 | AB7: =(C7+D7+J7+P7+V7)-(SUM(E7:I7)+SUM(K7:O7)+SUM(Q7:U7)+SUM(W7:AA7)) -> 746.5
A8: 4 | B8: Горностаев Владислав | C8: ='ЯНВАРЬ 2013'!AB8 -> 2023.56 | L8: 90.74 | M8: 90.74 | N8: 90.74 | O8: 90.74 | W8: 90.74 | X8: 90.74 | Y8: 90.74 | Z8: 90.74 | AA8: 90.74 | AB8: =(C8+D8+J8+P8+V8)-(SUM(E8:I8)+SUM(K8:O8)+SUM(Q8:U8)+SUM(W8:AA8)) -> 1206.9
A9: 5 | B9: Дашков Никита | C9: ='ЯНВАРЬ 2013'!AB9 -> 1545.57 | D9: 2000 | H9: 90.74 | I9: 90.74 | K9: 90.74 | L9: 90.74 | M9: 90.74 | N9: 90.74 | O9: 90.74 | W9: 90.74 | X9: 90.74 | Y9: 90.74 | Z9: 90.74 | AA9: 90.74 | AB9: =(C9+D9+J9+P9+V9)-(SUM(E9:I9)+SUM(K9:O9)+SUM(Q9:U9)+SUM(W9:AA9)) -> 2456.69
A10: 6 | B10: Девина София | C10: ='ЯНВАРЬ 2013'!AB10 -> 1365.25 | D10: 1000 | E10: 90.74 | F10: 90.74 | G10: 90.74 | H10: 90.74 | I10: 90.74 | K10: 90.74 | L10: 90.74 | M10: 90.74 | N10: 90.74 | O10: 90.74 | W10: 90.74 | X10: 90.74 | Y10: 90.74 | Z10: 90.74 | AA10: 90.74 | AB10: =(C10+D10+J10+P10+V10)-(SUM(E10:I10)+SUM(K10:O10)+SUM(Q10:U10)+SUM(W10:AA10)) -> 1004.15
A11: 7 | B11: Ендерова Марина | C11: ='ЯНВАРЬ 2013'!AB11 -> 457.75 | E11: 90.74 | F11: 90.74 | G11: 90.74 | H11: 90.74 | I11: 90.74 | K11: 90.74 | L11: 90.74 | M11: 90.74 | N11: 90.74 | O11: 90.74 | W11: 90.74 | X11: 90.74 | Y11: 90.74 | Z11: 90.74 | AA11: 90.74 | AB11: =(C11+D11+J11+P11+V11)-(SUM(E11:I11)+SUM(K11:O11)+SUM(Q11:U11)+SUM(W11:AA11)) -> -903.35
A12: 8 | B12: Журавлёв Сергей | C12: ='ЯНВАРЬ 2013'!AB12 -> 915.58 | D12: 2000 | E12: 90.74 | F12: 90.74 | G12: 90.74 | H12: 90.74 | I12: 90.74 | K12: 90.74 | L12: 90.74 | M12: 90.74 | N12: 90.74 | O12: 90.74 | W12: 90.74 | X12: 90.74 | Y12: 90.74 | Z12: 90.74 | AA12: 90.74 | AB12: =(C12+D12+J12+P12+V12)-(SUM(E12:I12)+SUM(K12:O12)+SUM(Q12:U12)+SUM(W12:AA12)) -> 1554.48
A13: 9 | B13: Каранадце Диана | C13: ='ЯНВАРЬ 2013'!AB13 -> -662.22 | E13: 90.74 | F13: 90.74 | G13: 90.74 | K13: 90.74 | M13: 90.74 | N13: 90.74 | O13: 90.74 | W13: 90.74 | X13: 90.74 | Y13: 90.74 | Z13: 90.74 | AA13: 90.74 | AB13: =(C13+D13+J13+P13+V13)-(SUM(E13:I13)+SUM(K13:O13)+SUM(Q13:U13)+SUM(W13:AA13)) -> -1751.1
A14: 10 | B14: Крац Александр | C14: ='ЯНВАРЬ 2013'!AB14 -> 0 | AB14: =(C14+D14+J14+P14+V14)-(SUM(E14:I14)+SUM(K14:O14)+SUM(Q14:U14)+SUM(W14:AA14)) -> 0
A15: 11 | B15: Круглова Мария | C15: ='ЯНВАРЬ 2013'!AB15 -> 719.26 | AB15: =(C15+D15+J15+P15+V15)-(SUM(E15:I15)+SUM(K15:O15)+SUM(Q15:U15)+SUM(W15:AA15)) -> 719.26
A16: 12 | B16: Кузьмин Степан | C16: ='ЯНВАРЬ 2013'!AB16 -> 359.17 | AB16: =(C16+D16+J16+P16+V16)-(SUM(E16:I16)+SUM(K16:O16)+SUM(Q16:U16)+SUM(W16:AA16)) -> 359.17
A17: 13 | B17: Кулинкович Ева | C17: ='ЯНВАРЬ 2013'!AB17 -> 1069.86 | L17: 90.74 | M17: 90.74 | N17: 90.74 | O17: 90.74 | W17: 90.74 | X17: 90.74 | Y17: 90.74 | Z17: 90.74 | AA17: 90.74 | AB17: =(C17+D17+J17+P17+V17)-(SUM(E17:I17)+SUM(K17:O17)+SUM(Q17:U17)+SUM(W17:AA17)) -> 253.2
A18: 14 | B18: Куст Ольга | C18: ='ЯНВАРЬ 2013'!AB18 -> 671.74 | D18: 1000 | F18: 90.74 | H18: 90.74 | N18: 90.74 | Z18: 90.74 | AB18: =(C18+D18+J18+P18+V18)-(SUM(E18:I18)+SUM(K18:O18)+SUM(Q18:U18)+SUM(W18:AA18)) -> 1308.78
A19: 15 | B19: Кученкова Анна | C19: ='ЯНВАРЬ 2013'!AB19 -> 0 | AB19: =(C19+D19+J19+P19+V19)-(SUM(E19:I19)+SUM(K19:O19)+SUM(Q19:U19)+SUM(W19:AA19)) -> 0
A20: 16 | B20: Ларионова Марина | C20: ='ЯНВАРЬ 2013'!AB20 -> 0 | AB20: =(C20+D20+J20+P20+V20)-(SUM(E20:I20)+SUM(K20:O20)+SUM(Q20:U20)+SUM(W20:AA20)) -> 0
A21: 17 | B21: Лацузбая Елизавета | C21: ='ЯНВАРЬ 2013'!AB21 -> 0 | AB21: =(C21+D21+J21+P21+V21)-(SUM(E21:I21)+SUM(K21:O21)+SUM(Q21:U21)+SUM(W21:AA21)) -> 0
A22: 18 | B22: Лызинцев Евгений | C22: ='ЯНВАРЬ 2013'!AB22 -> 856.25 | D22: 1000 | E22: 90.74 | G22: 90.74 | K22: 90.74 | M22: 90.74 | W22: 90.74 | Y22: 90.74 | AB22: =(C22+D22+J22+P22+V22)-(SUM(E22:I22)+SUM(K22:O22)+SUM(Q22:U22)+SUM(W22:AA22)) -> 1311.81
A23: 19 | B23: Михайлов Иван | C23: ='ЯНВАРЬ 2013'!AB23 -> 0 | AB23: =(C23+D23+J23+P23+V23)-(SUM(E23:I23)+SUM(K23:O23)+SUM(Q23:U23)+SUM(W23:AA23)) -> 0
A24: 20 | B24: Никонова Алиса | C24: ='ЯНВАРЬ 2013'!AB24 -> 511.55 | D24: 1800 | E24: 90.74 | F24: 90.74 | G24: 90.74 | H24: 90.74 | I24: 90.74 | K24: 90.74 | L24: 90.74 | M24: 90.74 | N24: 90.74 | O24: 90.74 | W24: 90.74 | X24: 90.74 | Y24: 90.74 | Z24: 90.74 | AA24: 90.74 | AB24: =(C24+D24+J24+P24+V24)-(SUM(E24:I24)+SUM(K24:O24)+SUM(Q24:U24)+SUM(W24:AA24)) -> 950.45
A25: 21 | B25: Пахилина Дарья | C25: ='ЯНВАРЬ 2013'!AB25 -> 1487.19 | F25: 90.74 | G25: 90.74 | H25: 90.74 | I25: 90.74 | K25: 90.74 | L25: 90.74 | M25: 90.74 | N25: 90.74 | O25: 90.74 | W25: 90.74 | X25: 90.74 | Y25: 90.74 | Z25: 90.74 | AA25: 90.74 | AB25: =(C25+D25+J25+P25+V25)-(SUM(E25:I25)+SUM(K25:O25)+SUM(Q25:U25)+SUM(W25:AA25)) -> 216.83
A26: 22 | B26: Погорелова Таисия | C26: ='ЯНВАРЬ 2013'!AB26 -> 0 | AB26: =(C26+D26+J26+P26+V26)-(SUM(E26:I26)+SUM(K26:O26)+SUM(Q26:U26)+SUM(W26:AA26)) -> 0
A27: 24 | B27: Полякова Софья | C27: ='ЯНВАРЬ 2013'!AB27 -> -456.81 | D27: 1000 | K27: 90.74 | L27: 90.74 | N27: 90.74 | AB27: =(C27+D27+J27+P27+V27)-(SUM(E27:I27)+SUM(K27:O27)+SUM(Q27:U27)+SUM(W27:AA27)) -> 270.97
A28: 25 | B28: Савенков Станислав | C28: ='ЯНВАРЬ 2013'!AB28 -> 0 | AB28: =(C28+D28+J28+P28+V28)-(SUM(E28:I28)+SUM(K28:O28)+SUM(Q28:U28)+SUM(W28:AA28)) -> 0
A29: 26 | B29: Седых Алёна | C29: ='ЯНВАРЬ 2013'!AB29 -> 0 | AB29: =(C29+D29+J29+P29+V29)-(SUM(E29:I29)+SUM(K29:O29)+SUM(Q29:U29)+SUM(W29:AA29)) -> 0
A30: 27 | B30: Спасская Софья | C30: ='ЯНВАРЬ 2013'!AB30 -> 808.95 | G30: 90.74 | H30: 90.74 | I30: 90.74 | K30: 90.74 | L30: 90.74 | M30: 90.74 | N30: 90.74 | O30: 90.74 | AB30: =(C30+D30+J30+P30+V30)-(SUM(E30:I30)+SUM(K30:O30)+SUM(Q30:U30)+SUM(W30:AA30)) -> 83.03
A31: 28 | B31: Харольская Софья | C31: ='ЯНВАРЬ 2013'!AB31 -> 955.99 | E31: 90.74 | F31: 90.74 | G31: 90.74 | H31: 90.74 | I31: 90.74 | K31: 90.74 | L31: 90.74 | M31: 90.74 | N31: 90.74 | O31: 90.74 | X31: 90.74 | Y31: 90.74 | Z31: 90.74 | AA31: 90.74 | AB31: =(C31+D31+J31+P31+V31)-(SUM(E31:I31)+SUM(K31:O31)+SUM(Q31:U31)+SUM(W31:AA31)) -> -314.37
A32: 29 | B32: Чебунина Кристина | C32: ='ЯНВАРЬ 2013'!AB32 -> -47.42 | N32: 90.74 | W32: 90.74 | X32: 90.74 | Z32: 90.74 | AB32: =(C32+D32+J32+P32+V32)-(SUM(E32:I32)+SUM(K32:O32)+SUM(Q32:U32)+SUM(W32:AA32)) -> -410.38
A33: Сумма к уплате по дням | E33: =SUM(E5:E32) -> 725.92 | F33: =SUM(F5:F32) -> 816.66 | G33: =SUM(G5:G32) -> 907.4 | H33: =SUM(H5:H32) -> 907.4 | I33: =SUM(I5:I32) -> 816.66 | K33: =SUM(K5:K32) -> 1270.36 | L33: =SUM(L5:L32) -> 1270.36 | M33: =SUM(M5:M32) -> 1361.1 | N33: =SUM(N5:N32) -> 1542.58 | O33: =SUM(O5:O32) -> 1179.62 | Q33: =SUM(Q5:Q32) -> 0 | R33: =SUM(R5:R32) -> 0 | S33: =SUM(S5:S32) -> 0 | T33: =SUM(T5:T32) -> 0 | U33: =SUM(U5:U32) -> 0 | W33: =SUM(W5:W32) -> 1179.62 | X33: =SUM(X5:X32) -> 1179.62 | Y33: =SUM(Y5:Y32) -> 1179.62 | Z33: =SUM(Z5:Z32) -> 1270.36 | AA33: =SUM(AA5:AA32) -> 1088.88
A36: Сумма к зачету столовой на конец месяца (оплачено но не использовано) | AB36: =SUM(AB5:AB32) -> 11649.05

Sheet МАРТ 2013
E2: МАРТ 2013
A3: № п/п | B3: Ф.И.О. ученика | C3: Сальдо февраль | D3: Внесено | E3: 1-я неделя | J3: Внесено | K3: 2-я неделя | P3: Внесено | Q3: 3-я неделя | V3: Внесено | W3: 4-я неделя | AB3: Сальдо март
E4: 4 | F4: 5 | G4: 6 | H4: 7 | I4: 8 | K4: 11 | L4: 12 | M4: 13 | N4: 14 | O4: 15 | Q4: 18 | R4: 19 | S4: 20 | T4: 21 | U4: 22 | W4: 25 | X4: 26 | Y4: 27 | Z4: 28 | AA4: 29
A5: 1 | B5: Баркова Александра | C5: ='ФЕВРАЛЬ 2013'!AB5 -> 2881.88 | E5: 90.74 | F5: 90.74 | G5: 90.74 | H5: 90.74 | K5: 90.74 | L5: 90.74 | M5: 90.74 | N5: 90.74 | O5: 90.74 | Q5: 90.74 | R5: 90.74 | S5: 90.74 | T5: 90.74 | U5: 90.74 | AB5: =(C5+D5+J5+P5+V5)-(SUM(E5:I5)+SUM(K5:O5)+SUM(Q5:U5)+SUM(W5:AA5)) -> 1611.52
A6: 2 | B6: Батюшкова Алиса | C6: ='ФЕВРАЛЬ 2013'!AB6 -> -295.85 | E6: 90.74 | F6: 90.74 | G6: 90.74 | H6: 90.74 | K6: 90.74 | L6: 90.74 | M6: 90.74 | N6: 90.74 | O6: 90.74 | Q6: 90.74 | R6: 90.74 | S6: 90.74 | T6: 90.74 | U6: 90.74 | AB6: =(C6+D6+J6+P6+V6)-(SUM(E6:I6)+SUM(K6:O6)+SUM(Q6:U6)+SUM(W6:AA6)) -> -1566.21
A7: 3 | B7: Васильев Сергей | C7: ='ФЕВРАЛЬ 2013'!AB7 -> 746.5 | E7: 90.74 | F7: 90.74 | G7: 90.74 | H7: 90.74 | K7: 90.74 | L7: 90.74 | M7: 90.74 | N7: 90.74 | Q7: 90.74 | R7: 90.74 | S7: 90.74 | T7: 90.74 | AB7: =(C7+D7+J7+P7+V7)-(SUM(E7:I7)+SUM(K7:O7)+SUM(Q7:U7)+SUM(W7:AA7)) -> -342.38
A8: 4 | B8: Горностаев Владислав | C8: ='ФЕВРАЛЬ 2013'!AB8 -> 1206.9 | E8: 90.74 | F8: 90.74 | G8: 90.74 | H8: 90.74 | K8: 90.74 | L8: 90.74 | M8: 90.74 | N8: 90.74 | O8: 90.74 | Q8: 90.74 | R8: 90.74 | S8: 90.74 | T8: 90.74 | U8: 90.74 | AB8: =(C8+D8+J8+P8+V8)-(SUM(E8:I8)+SUM(K8:O8)+SUM(Q8:U8)+SUM(W8:AA8)) -> -63.46
A9: 5 | B9: Дашков Никита | C9: ='ФЕВРАЛЬ 2013'!AB9 -> 2456.69 | D9: 2000 | E9: 90.74 | F9: 90.74 | G9: 90.74 | H9: 90.74 | K9: 90.74 | L9: 90.74 | M9: 90.74 | N9: 90.74 | O9: 90.74 | Q9: 90.74 | R9: 90.74 | S9: 90.74 | T9: 90.74 | U9: 90.74 | AB9: =(C9+D9+J9+P9+V9)-(SUM(E9:I9)+SUM(K9:O9)+SUM(Q9:U9)+SUM(W9:AA9)) -> 3186.33
A10: 6 | B10: Девина София | C10: ='ФЕВРАЛЬ 2013'!AB10 -> 1004.15 | D10: 1000 | E10: 90.74 | F10: 90.74 | G10: 90.74 | H10: 90.74 | K10: 90.74 | L10: 90.74 | M10: 90.74 | N10: 90.74 | O10: 90.74 | Q10: 90.74 | R10: 90.74 | S10: 90.74 | T10: 90.74 | U10: 90.74 | AB10: =(C10+D10+J10+P10+V10)-(SUM(E10:I10)+SUM(K10:O10)+SUM(Q10:U10)+SUM(W10:AA10)) -> 733.79
A11: 7 | B11: Ендерова Марина | C11: ='ФЕВРАЛЬ 2013'!AB11 -> -903.35 | D11: 1000 | E11: 90.74 | F11: 90.74 | G11: 90.74 | H11: 90.74 | K11: 90.74 | L11: 90.74 | M11: 90.74 | N11: 90.74 | O11: 90.74 | Q11: 90.74 | R11: 90.74 | S11: 90.74 | T11: 90.74 | U11: 90.74 | AB11: =(C11+D11+J11+P11+V11)-(SUM(E11:I11)+SUM(K11:O11)+SUM(Q11:U11)+SUM(W11:AA11)) -> -1173.71
A12: 8 | B12: Журавлёв Сергей | C12: ='ФЕВРАЛЬ 2013'!AB12 -> 1554.48 | E12: 90.74 | F12: 90.74 | G12: 90.74 | H12: 90.74 | K12: 90.74 | L12: 90.74 | M12: 90.74 | N12: 90.74 | O12: 90.74 | Q12: 90.74 | R12: 90.74 | S12: 90.74 | T12: 90.74 | U12: 90.74 | AB12: =(C12+D12+J12+P12+V12)-(SUM(E12:I12)+SUM(K12:O12)+SUM(Q12:U12)+SUM(W12:AA12)) -> 284.12
A13: 9 | B13: Каранадце Диана | C13: ='ФЕВРАЛЬ 2013'!AB13 -> -1751.1 | E13: 90.74 | F13: 90.74 | G13: 90.74 | H13: 90.74 | K13: 90.74 | L13: 90.74 | M13: 90.74 | N13: 90.74 | O13: 90.74 | Q13: 90.74 | R13: 90.74 | S13: 90.74 | T13: 90.74 | U13: 90.74 | AB13: =(C13+D13+J13+P13+V13)-(SUM(E13:I13)+SUM(K13:O13)+SUM(Q13:U13)+SUM(W13:AA13)) -> -3021.46
A14: 10 | B14: Крац Александр | C14: ='ФЕВРАЛЬ 2013'!AB14 -> 0 | AB14: =(C14+D14+J14+P14+V14)-(SUM(E14:I14)+SUM(K14:O14)+SUM(Q14:U14)+SUM(W14:AA14)) -> 0
A15: 11 | B15: Круглова Мария | C15: ='ФЕВРАЛЬ 2013'!AB15 -> 719.26 | D15: 2000 | E15: 90.74 | F15: 90.74 | G15: 90.74 | H15: 90.74 | K15: 90.74 | L15: 90.74 | M15: 90.74 | N15: 90.74 | O15: 90.74 | Q15: 90.74 | R15: 90.74 | S15: 90.74 | T15: 90.74 | U15: 90.74 | AB15: =(C15+D15+J15+P15+V15)-(SUM(E15:I15)+SUM(K15:O15)+SUM(Q15:U15)+SUM(W15:AA15)) -> 1448.9
A16: 12 | B16: Кузьмин Степан | C16: ='ФЕВРАЛЬ 2013'!AB16 -> 359.17 | AB16: =(C16+D16+J16+P16+V16)-(SUM(E16:I16)+SUM(K16:O16)+SUM(Q16:U16)+SUM(W16:AA16)) -> 359.17
A17: 13 | B17: Кулинкович Ева | C17: ='ФЕВРАЛЬ 2013'!AB17 -> 253.2 | D17: 2000 | E17: 90.74 | F17: 90.74 | G17: 90.74 | H17: 90.74 | K17: 90.74 | L17: 90.74 | M17: 90.74 | N17: 90.74 | O17: 90.74 | Q17: 90.74 | R17: 90.74 | S17: 90.74 | T17: 90.74 | U17: 90.74 | AB17: =(C17+D17+J17+P17+V17)-(SUM(E17:I17)+SUM(K17:O17)+SUM(Q17:U17)+SUM(W17:AA17)) -> 982.84
A18: 14 | B18: Куст Ольга | C18: ='ФЕВРАЛЬ 2013'!AB18 -> 1308.78 | H18: 90.74 | N18: 90.74 | T18: 90.74 | AB18: =(C18+D18+J18+P18+V18)-(SUM(E18:I18)+SUM(K18:O18)+SUM(Q18:U18)+SUM(W18:AA18)) -> 1036.56
A19: 15 | B19: Кученкова Анна | C19: ='ФЕВРАЛЬ 2013'!AB19 -> 0 | AB19: =(C19+D19+J19+P19+V19)-(SUM(E19:I19)+SUM(K19:O19)+SUM(Q19:U19)+SUM(W19:AA19)) -> 0
A20: 16 | B20: Ларионова Марина | C20: ='ФЕВРАЛЬ 2013'!AB20 -> 0 | AB20: =(C20+D20+J20+P20+V20)-(SUM(E20:I20)+SUM(K20:O20)+SUM(Q20:U20)+SUM(W20:AA20)) -> 0
A21: 17 | B21: Лацузбая Елизавета | C21: ='ФЕВРАЛЬ 2013'!AB21 -> 0 | AB21: =(C21+D21+J21+P21+V21)-(SUM(E21:I21)+SUM(K21:O21)+SUM(Q21:U21)+SUM(W21:AA21)) -> 0
A22: 18 | B22: Лызинцев Евгений | C22: ='ФЕВРАЛЬ 2013'!AB22 -> 1311.81 | E22: 90.74 | G22: 90.74 | K22: 90.74 | M22: 90.74 | O22: 90.74 | Q22: 90.74 | AB22: =(C22+D22+J22+P22+V22)-(SUM(E22:I22)+SUM(K22:O22)+SUM(Q22:U22)+SUM(W22:AA22)) -> 767.37
A23: 19 | B23: Михайлов Иван | C23: ='ФЕВРАЛЬ 2013'!AB23 -> 0 | AB23: =(C23+D23+J23+P23+V23)-(SUM(E23:I23)+SUM(K23:O23)+SUM(Q23:U23)+SUM(W23:AA23)) -> 0
A24: 20 | B24: Никонова Алиса | C24: ='ФЕВРАЛЬ 2013'!AB24 -> 950.45 | D24: 1000 | E24: 90.74 | F24: 90.74 | G24: 90.74 | H24: 90.74 | K24: 90.74 | L24: 90.74 | M24: 90.74 | N24: 90.74 | O24: 90.74 | Q24: 90.74 | R24: 90.74 | S24: 90.74 | T24: 90.74 | U24: 90.74 | AB24: =(C24+D24+J24+P24+V24)-(SUM(E24:I24)+SUM(K24:O24)+SUM(Q24:U24)+SUM(W24:AA24)) -> 680.09
A25: 21 | B25: Пахилина Дарья | C25: ='ФЕВРАЛЬ 2013'!AB25 -> 216.83 | E25: 90.74 | F25: 90.74 | G25: 90.74 | H25: 90.74 | K25: 90.74 | L25: 90.74 | M25: 90.74 | N25: 90.74 | O25: 90.74 | Q25: 90.74 | R25: 90.74 | S25: 90.74 | AB25: =(C25+D25+J25+P25+V25)-(SUM(E25:I25)+SUM(K25:O25)+SUM(Q25:U25)+SUM(W25:AA25)) -> -872.05
A26: 22 | B26: Погорелова Таисия | C26: ='ФЕВРАЛЬ 2013'!AB26 -> 0 | AB26: =(C26+D26+J26+P26+V26)-(SUM(E26:I26)+SUM(K26:O26)+SUM(Q26:U26)+SUM(W26:AA26)) -> 0
A27: 23 | B27: Полякова Софья | C27: ='ФЕВРАЛЬ 2013'!AB27 -> 270.97 | E27: 90.74 | F27: 90.74 | H27: 90.74 | K27: 90.74 | L27: 90.74 | N27: 90.74 | Q27: 90.74 | R27: 90.74 | T27: 90.74 | AB27: =(C27+D27+J27+P27+V27)-(SUM(E27:I27)+SUM(K27:O27)+SUM(Q27:U27)+SUM(W27:AA27)) -> -545.69
A28: 24 | B28: Савенков Станислав | C28: ='ФЕВРАЛЬ 2013'!AB28 -> 0 | AB28: =(C28+D28+J28+P28+V28)-(SUM(E28:I28)+SUM(K28:O28)+SUM(Q28:U28)+SUM(W28:AA28)) -> 0
A29: 25 | B29: Седых Алёна | C29: ='ФЕВРАЛЬ 2013'!AB29 -> 0 | AB29: =(C29+D29+J29+P29+V29)-(SUM(E29:I29)+SUM(K29:O29)+SUM(Q29:U29)+SUM(W29:AA29)) -> 0
A30: 26 | B30: Спасская Софья | C30: ='ФЕВРАЛЬ 2013'!AB30 -> 83.03 | D30: 2500 | K30: 90.74 | L30: 90.74 | M30: 90.74 | N30: 90.74 | O30: 90.74 | Q30: 90.74 | R30: 90.74 | S30: 90.74 | T30: 90.74 | U30: 90.74 | AB30: =(C30+D30+J30+P30+V30)-(SUM(E30:I30)+SUM(K30:O30)+SUM(Q30:U30)+SUM(W30:AA30)) -> 1675.63
A31: 27 | B31: Харольская Софья | C31: ='ФЕВРАЛЬ 2013'!AB31 -> -314.37 | E31: 90.74 | F31: 90.74 | G31: 90.74 | H31: 90.74 | K31: 90.74 | L31: 90.74 | M31: 90.74 | N31: 90.74 | O31: 90.74 | Q31: 90.74 | R31: 90.74 | S31: 90.74 | T31: 90.74 | AB31: =(C31+D31+J31+P31+V31)-(SUM(E31:I31)+SUM(K31:O31)+SUM(Q31:U31)+SUM(W31:AA31)) -> -1493.99
A32: 28 | B32: Чебунина Кристина | C32: ='ФЕВРАЛЬ 2013'!AB32 -> -410.38 | E32: 90.74 | F32: 90.74 | H32: 90.74 | K32: 90.74 | L32: 90.74 | N32: 90.74 | Q32: 90.74 | R32: 90.74 | T32: 90.74 | AB32: =(C32+D32+J32+P32+V32)-(SUM(E32:I32)+SUM(K32:O32)+SUM(Q32:U32)+SUM(W32:AA32)) -> -1227.04
A33: Сумма к уплате по дням | E33: =SUM(E5:E32) -> 1542.58 | F33: =SUM(F5:F32) -> 1451.84 | G33: =SUM(G5:G32) -> 1361.1 | H33: =SUM(H5:H32) -> 1542.58 | I33: =SUM(I5:I32) -> 0 | K33: =SUM(K5:K32) -> 1633.32 | L33: =SUM(L5:L32) -> 1542.58 | M33: =SUM(M5:M32) -> 1451.84 | N33: =SUM(N5:N32) -> 1633.32 | O33: =SUM(O5:O32) -> 1361.1 | Q33: =SUM(Q5:Q32) -> 1633.32 | R33: =SUM(R5:R32) -> 1542.58 | S33: =SUM(S5:S32) -> 1361.1 | T33: =SUM(T5:T32) -> 1542.58 | U33: =SUM(U5:U32) -> 1088.88 | W33: =SUM(W5:W32) -> 0 | X33: =SUM(X5:X32) -> 0 | Y33: =SUM(Y5:Y32) -> 0 | Z33: =SUM(Z5:Z32) -> 0 | AA33: =SUM(AA5:AA32) -> 0
A36: Сумма к зачету столовой на конец месяца (оплачено, но не использовано) | AB36: =SUM(AB5:AB32) -> 2460.33

Sheet АПРЕЛЬ 2013
E2: АПРЕЛЬ 2013
A3: № п/п | B3: Ф.И.О. ученика | C3: Сальдо март | D3: Внесено | E3: 1-я неделя | J3: Внесено | K3: 2-я неделя | P3: Внесено | Q3: 3-я неделя | V3: Внесено | W3: 4-я неделя | AB3: Сальдо апрель
E4: 1 | F4: 2 | G4: 3 | H4: 4 | I4: 5 | K4: 8 | L4: 9 | M4: 10 | N4: 11 | O4: 12 | Q4: 15 | R4: 16 | S4: 17 | T4: 18 | U4: 19 | W4: 22 | X4: 23 | Y4: 24 | Z4: 25 | AA4: 26
A5: 1 | B5: Баркова Александра | C5: ='МАРТ 2013'!AB5 -> 1611.52 | E5: 90.74 | F5: 90.74 | G5: 90.74 | H5: 90.74 | I5: 90.74 | K5: 90.74 | R5: 90.74 | S5: 90.74 | T5: 90.74 | U5: 90.74 | W5: 90.74 | X5: 90.74 | Y5: 90.74 | Z5: 90.74 | AA5: 90.74 | AB5: =(C5+D5+J5+P5+V5)-(SUM(E5:I5)+SUM(K5:O5)+SUM(Q5:U5)+SUM(W5:AA5)) -> 250.42
A6: 2 | B6: Батюшкова Алиса | C6: ='МАРТ 2013'!AB6 -> -1566.21 | E6: 90.74 | F6: 90.74 | G6: 90.74 | H6: 90.74 | I6: 90.74 | K6: 90.74 | L6: 90.74 | M6: 90.74 | N6: 90.74 | O6: 90.74 | Q6: 90.74 | R6: 90.74 | S6: 90.74 | T6: 90.74 | U6: 90.74 | W6: 90.74 | X6: 90.74 | Y6: 90.74 | Z6: 90.74 | AA6: 90.74 | AB6: =(C6+D6+J6+P6+V6)-(SUM(E6:I6)+SUM(K6:O6)+SUM(Q6:U6)+SUM(W6:AA6)) -> -3381.01
A7: 3 | B7: Васильев Сергей | C7: ='МАРТ 2013'!AB7 -> -342.38 | D7: 2000 | E7: 90.74 | F7: 90.74 | G7: 90.74 | H7: 90.74 | K7: 90.74 | L7: 90.74 | M7: 90.74 | N7: 90.74 | Q7: 90.74 | R7: 90.74 | S7: 90.74 | T7: 90.74 | W7: 90.74 | X7: 90.74 | Y7: 90.74 | Z7: 90.74 | AB7: =(C7+D7+J7+P7+V7)-(SUM(E7:I7)+SUM(K7:O7)+SUM(Q7:U7)+SUM(W7:AA7)) -> 205.78
A8: 4 | B8: Горностаев Владислав | C8: ='МАРТ 2013'!AB8 -> -63.46 | D8: 1000 | K8: 90.74 | N8: 90.74 | Q8: 90.74 | T8: 90.74 | Z8: 90.74 | AB8: =(C8+D8+J8+P8+V8)-(SUM(E8:I8)+SUM(K8:O8)+SUM(Q8:U8)+SUM(W8:AA8)) -> 482.84
A9: 5 | B9: Дашков Никита | C9: ='МАРТ 2013'!AB9 -> 3186.33 | E9: 90.74 | F9: 90.74 | G9: 90.74 | H9: 90.74 | I9: 90.74 | K9: 90.74 | L9: 90.74 | M9: 90.74 | N9: 90.74 | O9: 90.74 | Q9: 90.74 | R9: 90.74 | S9: 90.74 | U9: 90.74 | W9: 90.74 | X9: 90.74 | Y9: 90.74 | Z9: 90.74 | AA9: 90.74 | AB9: =(C9+D9+J9+P9+V9)-(SUM(E9:I9)+SUM(K9:O9)+SUM(Q9:U9)+SUM(W9:AA9)) -> 1462.27
A10: 6 | B10: Девина София | C10: ='МАРТ 2013'!AB10 -> 733.79 | D10: 1000 | E10: 90.74 | F10: 90.74 | G10: 90.74 | H10: 90.74 | I10: 90.74 | K10: 90.74 | L10: 90.74 | M10: 90.74 | N10: 90.74 | O10: 90.74 | Q10: 90.74 | R10: 90.74 | S10: 90.74 | T10: 90.74 | U10: 90.74 | W10: 90.74 | X10: 90.74 | Y10: 90.74 | Z10: 90.74 | AA10: 90.74 | AB10: =(C10+D10+J10+P10+V10)-(SUM(E10:I10)+SUM(K10:O10)+SUM(Q10:U10)+SUM(W10:AA10)) -> -81.01
A11: 7 | B11: Ендерова Марина | C11: ='МАРТ 2013'!AB11 -> -1173.71 | D11: 2500 | E11: 90.74 | F11: 90.74 | G11: 90.74 | H11: 90.74 | I11: 90.74 | K11: 90.74 | L11: 90.74 | M11: 90.74 | N11: 90.74 | Q11: 90.74 | R11: 90.74 | S11: 90.74 | T11: 90.74 | U11: 90.74 | X11: 90.74 | Y11: 90.74 | Z11: 90.74 | AA11: 90.74 | AB11: =(C11+D11+J11+P11+V11)-(SUM(E11:I11)+SUM(K11:O11)+SUM(Q11:U11)+SUM(W11:AA11)) -> -307.03
A12: 8 | B12: Журавлёв Сергей | C12: ='МАРТ 2013'!AB12 -> 284.12 | D12: 2000 | E12: 90.74 | G12: 90.74 | H12: 90.74 | I12: 90.74 | K12: 90.74 | L12: 90.74 | M12: 90.74 | N12: 90.74 | O12: 90.74 | Q12: 90.74 | R12: 90.74 | S12: 90.74 | U12: 90.74 | W12: 90.74 | X12: 90.74 | Y12: 90.74 | Z12: 90.74 | AA12: 90.74 | AB12: =(C12+D12+J12+P12+V12)-(SUM(E12:I12)+SUM(K12:O12)+SUM(Q12:U12)+SUM(W12:AA12)) -> 650.8
A13: 9 | B13: Каранадце Диана | C13: ='МАРТ 2013'!AB13 -> -3021.46 | D13: 2000 | E13: 90.74 | F13: 90.74 | H13: 90.74 | I13: 90.74 | K13: 90.74 | L13: 90.74 | M13: 90.74 | N13: 90.74 | O13: 90.74 | Q13: 90.74 | R13: 90.74 | S13: 90.74 | T13: 90.74 | U13: 90.74 | W13: 90.74 | X13: 90.74 | AB13: =(C13+D13+J13+P13+V13)-(SUM(E13:I13)+SUM(K13:O13)+SUM(Q13:U13)+SUM(W13:AA13)) -> -2473.3
A14: 10 | B14: Крац Александр | C14: ='МАРТ 2013'!AB14 -> 0 | AB14: =(C14+D14+J14+P14+V14)-(SUM(E14:I14)+SUM(K14:O14)+SUM(Q14:U14)+SUM(W14:AA14)) -> 0
A15: 11 | B15: Круглова Мария | C15: ='МАРТ 2013'!AB15 -> 1448.9 | D15: 2500 | E15: 90.74 | F15: 90.74 | G15: 90.74 | H15: 90.74 | I15: 90.74 | K15: 90.74 | L15: 90.74 | M15: 90.74 | N15: 90.74 | Q15: 90.74 | R15: 90.74 | S15: 90.74 | T15: 90.74 | W15: 90.74 | X15: 90.74 | Y15: 90.74 | Z15: 90.74 | AA15: 90.74 | AB15: =(C15+D15+J15+P15+V15)-(SUM(E15:I15)+SUM(K15:O15)+SUM(Q15:U15)+SUM(W15:AA15)) -> 2315.58
A16: 12 | B16: Кузьмин Степан | C16: ='МАРТ 2013'!AB16 -> 359.17 | AB16: =(C16+D16+J16+P16+V16)-(SUM(E16:I16)+SUM(K16:O16)+SUM(Q16:U16)+SUM(W16:AA16)) -> 359.17
A17: 13 | B17: Кулинкович Ева | C17: ='МАРТ 2013'!AB17 -> 982.84 | E17: 90.74 | F17: 90.74 | G17: 90.74 | H17: 90.74 | I17: 90.74 | K17: 90.74 | L17: 90.74 | M17: 90.74 | N17: 90.74 | O17: 90.74 | X17: 90.74 | Y17: 90.74 | Z17: 90.74 | AA17: 90.74 | AB17: =(C17+D17+J17+P17+V17)-(SUM(E17:I17)+SUM(K17:O17)+SUM(Q17:U17)+SUM(W17:AA17)) -> -287.52
A18: 14 | B18: Куст Ольга | C18: ='МАРТ 2013'!AB18 -> 1036.56 | H18: 90.74 | N18: 90.74 | T18: 90.74 | Z18: 90.74 | AB18: =(C18+D18+J18+P18+V18)-(SUM(E18:I18)+SUM(K18:O18)+SUM(Q18:U18)+SUM(W18:AA18)) -> 673.6
A19: 15 | B19: Кученкова Анна | C19: ='МАРТ 2013'!AB19 -> 0 | AB19: =(C19+D19+J19+P19+V19)-(SUM(E19:I19)+SUM(K19:O19)+SUM(Q19:U19)+SUM(W19:AA19)) -> 0
A20: 16 | B20: Ларионова Марина | C20: ='МАРТ 2013'!AB20 -> 0 | AB20: =(C20+D20+J20+P20+V20)-(SUM(E20:I20)+SUM(K20:O20)+SUM(Q20:U20)+SUM(W20:AA20)) -> 0
A21: 17 | B21: Лацузбая Елизавета | C21: ='МАРТ 2013'!AB21 -> 0 | AB21: =(C21+D21+J21+P21+V21)-(SUM(E21:I21)+SUM(K21:O21)+SUM(Q21:U21)+SUM(W21:AA21)) -> 0
A22: 18 | B22: Лызинцев Евгений | C22: ='МАРТ 2013'!AB22 -> 767.37 | I22: 90.74 | K22: 90.74 | M22: 90.74 | O22: 90.74 | Q22: 90.74 | S22: 90.74 | U22: 90.74 | W22: 90.74 | Y22: 90.74 | AA22: 90.74 | AB22: =(C22+D22+J22+P22+V22)-(SUM(E22:I22)+SUM(K22:O22)+SUM(Q22:U22)+SUM(W22:AA22)) -> -140.03
A23: 19 | B23: Михайлов Иван | C23: ='МАРТ 2013'!AB23 -> 0 | AB23: =(C23+D23+J23+P23+V23)-(SUM(E23:I23)+SUM(K23:O23)+SUM(Q23:U23)+SUM(W23:AA23)) -> 0
A24: 20 | B24: Никонова Алиса | C24: ='МАРТ 2013'!AB24 -> 680.09 | D24: 2000 | E24: 90.74 | F24: 90.74 | G24: 90.74 | H24: 90.74 | I24: 90.74 | K24: 90.74 | L24: 90.74 | M24: 90.74 | N24: 90.74 | O24: 90.74 | Q24: 90.74 | T24: 90.74 | U24: 90.74 | W24: 90.74 | X24: 90.74 | Y24: 90.74 | Z24: 90.74 | AA24: 90.74 | AB24: =(C24+D24+J24+P24+V24)-(SUM(E24:I24)+SUM(K24:O24)+SUM(Q24:U24)+SUM(W24:AA24)) -> 1046.77
A25: 21 | B25: Пахилина Дарья | C25: ='МАРТ 2013'!AB25 -> -872.05 | D25: 3000 | E25: 90.74 | F25: 90.74 | G25: 90.74 | H25: 90.74 | I25: 90.74 | K25: 90.74 | L25: 90.74 | M25: 90.74 | N25: 90.74 | O25: 90.74 | Q25: 90.74 | R25: 90.74 | S25: 90.74 | T25: 90.74 | U25: 90.74 | X25: 90.74 | Y25: 90.74 | Z25: 90.74 | AA25: 90.74 | AB25: =(C25+D25+J25+P25+V25)-(SUM(E25:I25)+SUM(K25:O25)+SUM(Q25:U25)+SUM(W25:AA25)) -> 403.89
A26: 22 | B26: Погорелова Таисия | C26: ='МАРТ 2013'!AB26 -> 0 | AB26: =(C26+D26+J26+P26+V26)-(SUM(E26:I26)+SUM(K26:O26)+SUM(Q26:U26)+SUM(W26:AA26)) -> 0
A27: 23 | B27: Полякова Софья | C27: ='МАРТ 2013'!AB27 -> -545.69 | E27: 90.74 | F27: 90.74 | H27: 90.74 | N27: 90.74 | Q27: 90.74 | R27: 90.74 | T27: 90.74 | W27: 90.74 | X27: 90.74 | Z27: 90.74 | AB27: =(C27+D27+J27+P27+V27)-(SUM(E27:I27)+SUM(K27:O27)+SUM(Q27:U27)+SUM(W27:AA27)) -> -1453.09
A28: 24 | B28: Савенков Станислав | C28: ='МАРТ 2013'!AB28 -> 0 | AB28: =(C28+D28+J28+P28+V28)-(SUM(E28:I28)+SUM(K28:O28)+SUM(Q28:U28)+SUM(W28:AA28)) -> 0
A29: 25 | B29: Седых Алёна | C29: ='МАРТ 2013'!AB29 -> 0 | AB29: =(C29+D29+J29+P29+V29)-(SUM(E29:I29)+SUM(K29:O29)+SUM(Q29:U29)+SUM(W29:AA29)) -> 0
A30: 26 | B30: Спасская Софья | C30: ='МАРТ 2013'!AB30 -> 1675.63 | E30: 90.74 | F30: 90.74 | G30: 90.74 | H30: 90.74 | I30: 90.74 | K30: 90.74 | L30: 90.74 | M30: 90.74 | N30: 90.74 | O30: 90.74 | Q30: 90.74 | R30: 90.74 | S30: 90.74 | T30: 90.74 | U30: 90.74 | W30: 90.74 | X30: 90.74 | Y30: 90.74 | Z30: 90.74 | AA30: 90.74 | AB30: =(C30+D30+J30+P30+V30)-(SUM(E30:I30)+SUM(K30:O30)+SUM(Q30:U30)+SUM(W30:AA30)) -> -139.17
A31: 27 | B31: Харольская Софья | C31: ='МАРТ 2013'!AB31 -> -1493.99 | D31: 2000 | E31: 90.74 | F31: 90.74 | G31: 90.74 | H31: 90.74 | I31: 90.74 | K31: 90.74 | L31: 90.74 | M31: 90.74 | N31: 90.74 | O31: 90.74 | Q31: 90.74 | R31: 90.74 | S31: 90.74 | T31: 90.74 | U31: 90.74 | W31: 90.74 | X31: 90.74 | Y31: 90.74 | Z31: 90.74 | AB31: =(C31+D31+J31+P31+V31)-(SUM(E31:I31)+SUM(K31:O31)+SUM(Q31:U31)+SUM(W31:AA31)) -> -1218.05
A32: 28 | B32: Чебунина Кристина | C32: ='МАРТ 2013'!AB32 -> -1227.04 | E32: 90.74 | F32: 90.74 | H32: 90.74 | K32: 90.74 | L32: 90.74 | N32: 90.74 | Q32: 90.74 | R32: 90.74 | T32: 90.74 | W32: 90.74 | X32: 90.74 | AB32: =(C32+D32+J32+P32+V32)-(SUM(E32:I32)+SUM(K32:O32)+SUM(Q32:U32)+SUM(W32:AA32)) -> -2225.18
A33: Сумма к уплате по дням | E33: =SUM(E5:E32) -> 1451.84 | F33: =SUM(F5:F32) -> 1361.1 | G33: =SUM(G5:G32) -> 1179.62 | H33: =SUM(H5:H32) -> 1542.58 | I33: =SUM(I5:I32) -> 1270.36 | K33: =SUM(K5:K32) -> 1542.58 | L33: =SUM(L5:L32) -> 1270.36 | M33: =SUM(M5:M32) -> 1270.36 | N33: =SUM(N5:N32) -> 1542.58 | O33: =SUM(O5:O32) -> 998.14 | Q33: =SUM(Q5:Q32) -> 1451.84 | R33: =SUM(R5:R32) -> 1270.36 | S33: =SUM(S5:S32) -> 1179.62 | T33: =SUM(T5:T32) -> 1361.1 | U33: =SUM(U5:U32) -> 1088.88 | W33: =SUM(W5:W32) -> 1270.36 | X33: =SUM(X5:X32) -> 1451.84 | Y33: =SUM(Y5:Y32) -> 1270.36 | Z33: =SUM(Z5:Z32) -> 1451.84 | AA33: =SUM(AA5:AA32) -> 1088.88
A36: Сумма к зачету столовой на конец месяца (оплачено, но не использовано) | AB36: =SUM(AB5:AB32) -> -3854.27

Sheet МАЙ 2013
E2: МАЙ 2013
A3: № п/п | B3: Ф.И.О. ученика | C3: Сальдо апрель | D3: Внесено | E3: 1-я неделя | J3: Внесено | K3: 2-я неделя | P3: Внесено | Q3: 3-я неделя | V3: Внесено | W3: 4-я неделя | AB3: Сальдо май
E4: 29 | F4: 30 | G4: 1 | H4: 2 | I4: 3 | K4: 6 | L4: 7 | M4: 8 | N4: 9 | O4: 10 | Q4: 13 | R4: 14 | S4: 15 | T4: 16 | U4: 17 | W4: 20 | X4: 21 | Y4: 22 | Z4: 23 | AA4: 24
A5: 1 | B5: Баркова Александра | C5: ='АПРЕЛЬ 2013'!AB5 -> 250.42 | D5: 2450 | E5: 90.74 | F5: 90.74 | K5: 90.74 | L5: 90.74 | M5: 90.74 | Q5: 90.74 | R5: 90.74 | S5: 90.74 | T5: 90.74 | W5: 90.74 | X5: 90.74 | Y5: 90.74 | Z5: 90.74 | AA5: 90.74 | AB5: =(C5+D5+J5+P5+V5)-(SUM(E5:I5)+SUM(K5:O5)+SUM(Q5:U5)+SUM(W5:AA5)) -> 1430.06
A6: 2 | B6: Батюшкова Алиса | C6: ='АПРЕЛЬ 2013'!AB6 -> -3381.01 | D6: 4000 | F6: 90.74 | K6: 90.74 | L6: 90.74 | M6: 90.74 | Q6: 90.74 | R6: 90.74 | S6: 90.74 | T6: 90.74 | W6: 90.74 | X6: 90.74 | Y6: 90.74 | Z6: 90.74 | AA6: 90.74 | AB6: =(C6+D6+J6+P6+V6)-(SUM(E6:I6)+SUM(K6:O6)+SUM(Q6:U6)+SUM(W6:AA6)) -> -560.63
A7: 3 | B7: Васильев Сергей | C7: ='АПРЕЛЬ 2013'!AB7 -> 205.78 | D7: 950 | E7: 90.74 | F7: 90.74 | K7: 90.74 | L7: 90.74 | M7: 90.74 | Q7: 90.74 | R7: 90.74 | S7: 90.74 | T7: 90.74 | W7: 90.74 | X7: 90.74 | Y7: 90.74 | Z7: 90.74 | AB7: =(C7+D7+J7+P7+V7)-(SUM(E7:I7)+SUM(K7:O7)+SUM(Q7:U7)+SUM(W7:AA7)) -> -23.84
A8: 4 | B8: Горностаев Владислав | C8: ='АПРЕЛЬ 2013'!AB8 -> 482.84 | AB8: =(C8+D8+J8+P8+V8)-(SUM(E8:I8)+SUM(K8:O8)+SUM(Q8:U8)+SUM(W8:AA8)) -> 482.84
A9: 5 | B9: Дашков Никита | C9: ='АПРЕЛЬ 2013'!AB9 -> 1462.27 | D9: 1500 | E9: 90.74 | F9: 90.74 | K9: 90.74 | L9: 90.74 | M9: 90.74 | Q9: 90.74 | R9: 90.74 | S9: 90.74 | T9: 90.74 | AB9: =(C9+D9+J9+P9+V9)-(SUM(E9:I9)+SUM(K9:O9)+SUM(Q9:U9)+SUM(W9:AA9)) -> 2145.61
A10: 6 | B10: Девина София | C10: ='АПРЕЛЬ 2013'!AB10 -> -81.01 | D10: 1500 | E10: 90.74 | F10: 90.74 | K10: 90.74 | L10: 90.74 | M10: 90.74 | Q10: 90.74 | R10: 90.74 | S10: 90.74 | T10: 90.74 | W10: 90.74 | X10: 90.74 | Y10: 90.74 | Z10: 90.74 | AA10: 90.74 | AB10: =(C10+D10+J10+P10+V10)-(SUM(E10:I10)+SUM(K10:O10)+SUM(Q10:U10)+SUM(W10:AA10)) -> 148.63
A11: 7 | B11: Ендерова Марина | C11: ='АПРЕЛЬ 2013'!AB11 -> -307.03 | D11: 1600 | E11: 90.74 | F11: 90.74 | K11: 90.74 | L11: 90.74 | M11: 90.74 | Q11: 90.74 | R11: 90.74 | S11: 90.74 | T11: 90.74 | W11: 90.74 | X11: 90.74 | Y11: 90.74 | Z11: 90.74 | AA11: 90.74 | AB11: =(C11+D11+J11+P11+V11)-(SUM(E11:I11)+SUM(K11:O11)+SUM(Q11:U11)+SUM(W11:AA11)) -> 22.61
A12: 8 | B12: Журавлёв Сергей | C12: ='АПРЕЛЬ 2013'!AB12 -> 650.8 | D12: 715 | E12: 90.74 | F12: 90.74 | K12: 90.74 | L12: 90.74 | M12: 90.74 | Q12: 90.74 | R12: 90.74 | S12: 90.74 | T12: 90.74 | W12: 90.74 | X12: 90.74 | Y12: 90.74 | Z12: 90.74 | AA12: 90.74 | AB12: =(C12+D12+J12+P12+V12)-(SUM(E12:I12)+SUM(K12:O12)+SUM(Q12:U12)+SUM(W12:AA12)) -> 95.44
A13: 9 | B13: Каранадце Диана | C13: ='АПРЕЛЬ 2013'!AB13 -> -2473.3 | D13: 3200 | L13: 90.74 | M13: 90.74 | Q13: 90.74 | R13: 90.74 | S13: 90.74 | T13: 90.74 | W13: 90.74 | X13: 90.74 | AB13: =(C13+D13+J13+P13+V13)-(SUM(E13:I13)+SUM(K13:O13)+SUM(Q13:U13)+SUM(W13:AA13)) -> 0.78
A14: 10 | B14: Крац Александр | C14: ='АПРЕЛЬ 2013'!AB14 -> 0 | AB14: =(C14+D14+J14+P14+V14)-(SUM(E14:I14)+SUM(K14:O14)+SUM(Q14:U14)+SUM(W14:AA14)) -> 0
A15: 11 | B15: Круглова Мария | C15: ='АПРЕЛЬ 2013'!AB15 -> 2315.58 | L15: 90.74 | Q15: 90.74 | R15: 90.74 | S15: 90.74 | T15: 90.74 | AB15: =(C15+D15+J15+P15+V15)-(SUM(E15:I15)+SUM(K15:O15)+SUM(Q15:U15)+SUM(W15:AA15)) -> 1861.88
A16: 12 | B16: Кузьмин Степан | C16: ='АПРЕЛЬ 2013'!AB16 -> 359.17 | AB16: =(C16+D16+J16+P16+V16)-(SUM(E16:I16)+SUM(K16:O16)+SUM(Q16:U16)+SUM(W16:AA16)) -> 359.17
A17: 13 | B17: Кулинкович Ева | C17: ='АПРЕЛЬ 2013'!AB17 -> -287.52 | D17: 1600 | E17: 90.74 | F17: 90.74 | K17: 90.74 | L17: 90.74 | M17: 90.74 | Q17: 90.74 | R17: 90.74 | S17: 90.74 | T17: 90.74 | W17: 90.74 | X17: 90.74 | Y17: 90.74 | Z17: 90.74 | AA17: 90.74 | AB17: =(C17+D17+J17+P17+V17)-(SUM(E17:I17)+SUM(K17:O17)+SUM(Q17:U17)+SUM(W17:AA17)) -> 42.12
A18: 14 | B18: Куст Ольга | C18: ='АПРЕЛЬ 2013'!AB18 -> 673.6 | T18: 90.74 | Z18: 90.74 | AB18: =(C18+D18+J18+P18+V18)-(SUM(E18:I18)+SUM(K18:O18)+SUM(Q18:U18)+SUM(W18:AA18)) -> 492.12
A19: 15 | B19: Кученкова Анна | C19: ='АПРЕЛЬ 2013'!AB19 -> 0 | AB19: =(C19+D19+J19+P19+V19)-(SUM(E19:I19)+SUM(K19:O19)+SUM(Q19:U19)+SUM(W19:AA19)) -> 0
A20: 16 | B20: Ларионова Марина | C20: ='АПРЕЛЬ 2013'!AB20 -> 0 | AB20: =(C20+D20+J20+P20+V20)-(SUM(E20:I20)+SUM(K20:O20)+SUM(Q20:U20)+SUM(W20:AA20)) -> 0
A21: 17 | B21: Лацузбая Елизавета | C21: ='АПРЕЛЬ 2013'!AB21 -> 0 | AB21: =(C21+D21+J21+P21+V21)-(SUM(E21:I21)+SUM(K21:O21)+SUM(Q21:U21)+SUM(W21:AA21)) -> 0
A22: 18 | B22: Лызинцев Евгений | C22: ='АПРЕЛЬ 2013'!AB22 -> -140.03 | D22: 500 | E22: 90.74 | K22: 90.74 | Q22: 90.74 | S22: 90.74 | W22: 90.74 | Y22: 90.74 | AA22: 90.74 | AB22: =(C22+D22+J22+P22+V22)-(SUM(E22:I22)+SUM(K22:O22)+SUM(Q22:U22)+SUM(W22:AA22)) -> -275.21
A23: 19 | B23: Михайлов Иван | C23: ='АПРЕЛЬ 2013'!AB23 -> 0 | AB23: =(C23+D23+J23+P23+V23)-(SUM(E23:I23)+SUM(K23:O23)+SUM(Q23:U23)+SUM(W23:AA23)) -> 0
A24: 20 | B24: Никонова Алиса | C24: ='АПРЕЛЬ 2013'!AB24 -> 1046.77 | D24: 317 | E24: 90.74 | F24: 90.74 | K24: 90.74 | L24: 90.74 | M24: 90.74 | Q24: 90.74 | R24: 90.74 | S24: 90.74 | T24: 90.74 | W24: 90.74 | X24: 90.74 | Y24: 90.74 | Z24: 90.74 | AA24: 90.74 | AB24: =(C24+D24+J24+P24+V24)-(SUM(E24:I24)+SUM(K24:O24)+SUM(Q24:U24)+SUM(W24:AA24)) -> 93.41
A25: 21 | B25: Пахилина Дарья | C25: ='АПРЕЛЬ 2013'!AB25 -> 403.89 | D25: 500 | Q25: 90.74 | R25: 90.74 | S25: 90.74 | T25: 90.74 | W25: 90.74 | X25: 90.74 | Y25: 90.74 | Z25: 90.74 | AA25: 90.74 | AB25: =(C25+D25+J25+P25+V25)-(SUM(E25:I25)+SUM(K25:O25)+SUM(Q25:U25)+SUM(W25:AA25)) -> 87.23
A26: 22 | B26: Погорелова Таисия | C26: ='АПРЕЛЬ 2013'!AB26 -> 0 | AB26: =(C26+D26+J26+P26+V26)-(SUM(E26:I26)+SUM(K26:O26)+SUM(Q26:U26)+SUM(W26:AA26)) -> 0
A27: 23 | B27: Полякова Софья | C27: ='АПРЕЛЬ 2013'!AB27 -> -1453.09 | D27: 2700 | E27: 90.74 | F27: 90.74 | K27: 90.74 | L27: 90.74 | Q27: 90.74 | R27: 90.74 | T27: 90.74 | W27: 90.74 | X27: 90.74 | Z27: 90.74 | AB27: =(C27+D27+J27+P27+V27)-(SUM(E27:I27)+SUM(K27:O27)+SUM(Q27:U27)+SUM(W27:AA27)) -> 339.51
A28: 24 | B28: Савенков Станислав | C28: ='АПРЕЛЬ 2013'!AB28 -> 0 | AB28: =(C28+D28+J28+P28+V28)-(SUM(E28:I28)+SUM(K28:O28)+SUM(Q28:U28)+SUM(W28:AA28)) -> 0
A29: 25 | B29: Седых Алёна | C29: ='АПРЕЛЬ 2013'!AB29 -> 0 | AB29: =(C29+D29+J29+P29+V29)-(SUM(E29:I29)+SUM(K29:O29)+SUM(Q29:U29)+SUM(W29:AA29)) -> 0
A30: 26 | B30: Спасская Софья | C30: ='АПРЕЛЬ 2013'!AB30 -> -139.17 | D30: 1500 | E30: 90.74 | F30: 90.74 | K30: 90.74 | L30: 90.74 | M30: 90.74 | Q30: 90.74 | R30: 90.74 | S30: 90.74 | T30: 90.74 | W30: 90.74 | X30: 90.74 | Y30: 90.74 | Z30: 90.74 | AA30: 90.74 | AB30: =(C30+D30+J30+P30+V30)-(SUM(E30:I30)+SUM(K30:O30)+SUM(Q30:U30)+SUM(W30:AA30)) -> 90.47
A31: 27 | B31: Харольская Софья | C31: ='АПРЕЛЬ 2013'!AB31 -> -1218.05 | D31: 2000 | E31: 90.74 | S31: 90.74 | T31: 90.74 | W31: 90.74 | X31: 90.74 | Y31: 90.74 | Z31: 90.74 | AA31: 90.74 | AB31: =(C31+D31+J31+P31+V31)-(SUM(E31:I31)+SUM(K31:O31)+SUM(Q31:U31)+SUM(W31:AA31)) -> 56.03
A32: 28 | B32: Чебунина Кристина | C32: ='АПРЕЛЬ 2013'!AB32 -> -2225.18 | E32: 90.74 | F32: 90.74 | K32: 90.74 | L32: 90.74 | Q32: 90.74 | R32: 90.74 | T32: 90.74 | W32: 90.74 | X32: 90.74 | Z32: 90.74 | AB32: =(C32+D32+J32+P32+V32)-(SUM(E32:I32)+SUM(K32:O32)+SUM(Q32:U32)+SUM(W32:AA32)) -> -3132.58
A33: Сумма к уплате по дням | E33: =SUM(E5:E32) -> 1179.62 | F33: =SUM(F5:F32) -> 1088.88 | G33: =SUM(G5:G32) -> 0 | H33: =SUM(H5:H32) -> 0 | I33: =SUM(I5:I32) -> 0 | K33: =SUM(K5:K32) -> 1179.62 | L33: =SUM(L5:L32) -> 1270.36 | M33: =SUM(M5:M32) -> 998.14 | N33: =SUM(N5:N32) -> 0 | O33: =SUM(O5:O32) -> 0 | Q33: =SUM(Q5:Q32) -> 1451.84 | R33: =SUM(R5:R32) -> 1361.1 | S33: =SUM(S5:S32) -> 1361.1 | T33: =SUM(T5:T32) -> 1542.58 | U33: =SUM(U5:U32) -> 0 | W33: =SUM(W5:W32) -> 1361.1 | X33: =SUM(X5:X32) -> 1270.36 | Y33: =SUM(Y5:Y32) -> 1088.88 | Z33: =SUM(Z5:Z32) -> 1270.36 | AA33: =SUM(AA5:AA32) -> 998.14
A36: Сумма к зачету столовой на конец месяца (оплачено, но не использовано) | AB36: =SUM(AB5:AB32) -> 3755.65

Sheet МАЙ 2013 - 2
E2: МАЙ 2013 ПРОДОЛЖЕНИЕ
A3: № п/п | B3: Ф.И.О. ученика | C3: Сальдо май | D3: Внесено | E3: 1-я неделя | J3: Внесено | K3: 2-я неделя | P3: Внесено | Q3: 3-я неделя | V3: Внесено | W3: 4-я неделя | AB3: Сальдо май
E4: 29 | F4: 30 | G4: 1 | H4: 2 | I4: 3 | K4: 6 | L4: 7 | M4: 8 | N4: 9 | O4: 10 | Q4: 13 | R4: 14 | S4: 15 | T4: 16 | U4: 17 | W4: 27 | X4: 28 | Y4: 29 | Z4: 30 | AA4: 31
A5: 1 | B5: Баркова Александра | C5: ='МАЙ 2013'!AB5 -> 1430.06 | AB5: =(C5+D5+J5+P5+V5)-(SUM(E5:I5)+SUM(K5:O5)+SUM(Q5:U5)+SUM(W5:AA5)) -> 1430.06
A6: 2 | B6: Батюшкова Алиса | C6: ='МАЙ 2013'!AB6 -> -560.63 | AB6: =(C6+D6+J6+P6+V6)-(SUM(E6:I6)+SUM(K6:O6)+SUM(Q6:U6)+SUM(W6:AA6)) -> -560.63
A7: 3 | B7: Васильев Сергей | C7: ='МАЙ 2013'!AB7 -> -23.84 | AB7: =(C7+D7+J7+P7+V7)-(SUM(E7:I7)+SUM(K7:O7)+SUM(Q7:U7)+SUM(W7:AA7)) -> -23.84
A8: 4 | B8: Горностаев Владислав | C8: ='МАЙ 2013'!AB8 -> 482.84 | AB8: =(C8+D8+J8+P8+V8)-(SUM(E8:I8)+SUM(K8:O8)+SUM(Q8:U8)+SUM(W8:AA8)) -> 482.84
A9: 5 | B9: Дашков Никита | C9: ='МАЙ 2013'!AB9 -> 2145.61 | AB9: =(C9+D9+J9+P9+V9)-(SUM(E9:I9)+SUM(K9:O9)+SUM(Q9:U9)+SUM(W9:AA9)) -> 2145.61
A10: 6 | B10: Девина София | C10: ='МАЙ 2013'!AB10 -> 148.63 | AB10: =(C10+D10+J10+P10+V10)-(SUM(E10:I10)+SUM(K10:O10)+SUM(Q10:U10)+SUM(W10:AA10)) -> 148.63
A11: 7 | B11: Ендерова Марина | C11: ='МАЙ 2013'!AB11 -> 22.61 | AB11: =(C11+D11+J11+P11+V11)-(SUM(E11:I11)+SUM(K11:O11)+SUM(Q11:U11)+SUM(W11:AA11)) -> 22.61
A12: 8 | B12: Журавлёв Сергей | C12: ='МАЙ 2013'!AB12 -> 95.44 | AB12: =(C12+D12+J12+P12+V12)-(SUM(E12:I12)+SUM(K12:O12)+SUM(Q12:U12)+SUM(W12:AA12)) -> 95.44
A13: 9 | B13: Каранадце Диана | C13: ='МАЙ 2013'!AB13 -> 0.78 | AB13: =(C13+D13+J13+P13+V13)-(SUM(E13:I13)+SUM(K13:O13)+SUM(Q13:U13)+SUM(W13:AA13)) -> 0.78
A14: 10 | B14: Крац Александр | C14: ='МАЙ 2013'!AB14 -> 0 | AB14: =(C14+D14+J14+P14+V14)-(SUM(E14:I14)+SUM(K14:O14)+SUM(Q14:U14)+SUM(W14:AA14)) -> 0
A15: 11 | B15: Круглова Мария | C15: ='МАЙ 2013'!AB15 -> 1861.88 | AB15: =(C15+D15+J15+P15+V15)-(SUM(E15:I15)+SUM(K15:O15)+SUM(Q15:U15)+SUM(W15:AA15)) -> 1861.88
A16: 12 | B16: Кузьмин Степан | C16: ='МАЙ 2013'!AB16 -> 359.17 | AB16: =(C16+D16+J16+P16+V16)-(SUM(E16:I16)+SUM(K16:O16)+SUM(Q16:U16)+SUM(W16:AA16)) -> 359.17
... A32: 28 | B32: Чебунина Кристина | C32: ='МАЙ 2013'!AB32 -> -3132.58 | AB32: =(C32+D32+J32+P32+V32)-(SUM(E32:I32)+SUM(K32:O32)+SUM(Q32:U32)+SUM(W32:AA32)) -> -3132.58
A33: Сумма к уплате по дням | E33: =SUM(E5:E32) -> 0 | F33: =SUM(F5:F32) -> 0 | G33: =SUM(G5:G32) -> 0 | H33: =SUM(H5:H32) -> 0 | I33: =SUM(I5:I32) -> 0 | K33: =SUM(K5:K32) -> 0 | L33: =SUM(L5:L32) -> 0 | M33: =SUM(M5:M32) -> 0 | N33: =SUM(N5:N32) -> 0 | O33: =SUM(O5:O32) -> 0 | Q33: =SUM(Q5:Q32) -> 0 | R33: =SUM(R5:R32) -> 0 | S33: =SUM(S5:S32) -> 0 | T33: =SUM(T5:T32) -> 0 | U33: =SUM(U5:U32) -> 0 | W33: =SUM(W5:W32) -> 0 | X33: =SUM(X5:X32) -> 0 | Y33: =SUM(Y5:Y32) -> 0 | Z33: =SUM(Z5:Z32) -> 0 | AA33: =SUM(AA5:AA32) -> 0
A36: Сумма к зачету столовой на конец месяца (оплачено, но не использовано) | AB36: =SUM(AB5:AB32) -> 3755.65

Sheet сентябрь 2013
E2: сентябрь 2013
A3: № п/п | B3: Ф.И.О. ученика | C3: Сальдо май | D3: Внесено | E3: 1-я неделя | J3: Внесено | K3: 2-я неделя | P3: Внесено | Q3: 3-я неделя | V3: Внесено | W3: 4-я неделя | AB3: Сальдо сен.
E4: 2 | F4: 3 | G4: 4 | H4: 5 | I4: 6 | K4: 9 | L4: 10 | M4: 11 | N4: 12 | O4: 13 | Q4: 16 | R4: 17 | S4: 18 | T4: 19 | U4: 20 | W4: 23 | X4: 24 | Y4: 25 | Z4: 26 | AA4: 27
A5: 1 | B5: Баркова Александра | C5: 1430.06 | D5: 1000 | F5: 93 | G5: 93 | H5: 93 | I5: 93 | K5: 93 | L5: 93 | M5: 93 | N5: 93 | Q5: 93 | R5: 93 | S5: 93 | T5: 93 | U5: 93 | W5: 93 | X5: 93 | Y5: 93 | Z5: 93 | AA5: 93 | AB5: =(C5+D5+J5+P5+V5)-(SUM(E5:I5)+SUM(K5:O5)+SUM(Q5:U5)+SUM(W5:AA5)) -> 756.06
A6: 2 | B6: Васильев Сергей | C6: -23.84 | D6: 2000 | F6: 93 | G6: 93 | H6: 93 | K6: 93 | M6: 93 | N6: 93 | O6: 93 | Q6: 93 | R6: 93 | S6: 93 | U6: 93 | W6: 93 | AB6: =(C6+D6+J6+P6+V6)-(SUM(E6:I6)+SUM(K6:O6)+SUM(Q6:U6)+SUM(W6:AA6)) -> 860.16
A7: 3 | B7: Горностаев Владислав | C7: 0 | AB7: =(C7+D7+J7+P7+V7)-(SUM(E7:I7)+SUM(K7:O7)+SUM(Q7:U7)+SUM(W7:AA7)) -> 0
A8: 4 | B8: Дашков Никита | C8: 2145.61 | D8: 4400 | F8: 93 | G8: 93 | H8: 93 | K8: 93 | L8: 93 | M8: 93 | N8: 93 | O8: 93 | Q8: 93 | R8: 93 | S8: 93 | U8: 93 | W8: 93 | Y8: 93 | Z8: 93 | AB8: =(C8+D8+J8+P8+V8)-(SUM(E8:I8)+SUM(K8:O8)+SUM(Q8:U8)+SUM(W8:AA8)) -> 5150.61
A9: 5 | B9: Девина София | C9: 148.63 | D9: 2000 | G9: 93 | H9: 93 | K9: 93 | L9: 93 | M9: 93 | N9: 93 | O9: 93 | Q9: 93 | R9: 93 | S9: 93 | T9: 93 | U9: 93 | W9: 93 | X9: 93 | Y9: 93 | Z9: 93 | AA9: 93 | AB9: =(C9+D9+J9+P9+V9)-(SUM(E9:I9)+SUM(K9:O9)+SUM(Q9:U9)+SUM(W9:AA9)) -> 567.63
A10: 6 | B10: Ендерова Марина | C10: 22.61 | D10: 2500 | F10: 93 | G10: 93 | H10: 93 | K10: 93 | L10: 93 | M10: 93 | N10: 93 | O10: 93 | Q10: 93 | R10: 93 | S10: 93 | T10: 93 | U10: 93 | W10: 93 | X10: 93 | Y10: 93 | Z10: 93 | AA10: 93 | AB10: =(C10+D10+J10+P10+V10)-(SUM(E10:I10)+SUM(K10:O10)+SUM(Q10:U10)+SUM(W10:AA10)) -> 848.61
A11: 7 | B11: Журавлёв Сергей | C11: 95.44 | D11: 1000 | F11: 93 | G11: 93 | H11: 93 | K11: 93 | L11: 93 | M11: 93 | N11: 93 | O11: 93 | Q11: 93 | R11: 93 | S11: 93 | T11: 93 | U11: 93 | AB11: =(C11+D11+J11+P11+V11)-(SUM(E11:I11)+SUM(K11:O11)+SUM(Q11:U11)+SUM(W11:AA11)) -> -113.56
A12: 8 | B12: Каранадце Диана | C12: 0.78 | D12: 2000 | F12: 93 | G12: 93 | H12: 93 | K12: 93 | L12: 93 | M12: 93 | N12: 93 | O12: 93 | Q12: 93 | R12: 93 | S12: 93 | T12: 93 | U12: 93 | W12: 93 | X12: 93 | Y12: 93 | Z12: 93 | AA12: 93 | AB12: =(C12+D12+J12+P12+V12)-(SUM(E12:I12)+SUM(K12:O12)+SUM(Q12:U12)+SUM(W12:AA12)) -> 326.78
A13: 9 | B13: Крац Александр | C13: ='АПРЕЛЬ 2013'!AB14 -> 0 | AB13: =(C13+D13+J13+P13+V13)-(SUM(E13:I13)+SUM(K13:O13)+SUM(Q13:U13)+SUM(W13:AA13)) -> 0
A14: 10 | B14: Круглова Мария | C14: 1861.88 | K14: 93 | L14: 93 | M14: 93 | N14: 93 | O14: 93 | Q14: 93 | R14: 93 | S14: 93 | T14: 93 | U14: 93 | W14: 93 | X14: 93 | AB14: =(C14+D14+J14+P14+V14)-(SUM(E14:I14)+SUM(K14:O14)+SUM(Q14:U14)+SUM(W14:AA14)) -> 745.88
A15: 11 | B15: Кузьмин Степан | C15: ='АПРЕЛЬ 2013'!AB16 -> 359.17 | D15: 2500 | F15: 93 | G15: 93 | H15: 93 | K15: 93 | L15: 93 | M15: 93 | N15: 93 | O15: 93 | Q15: 93 | U15: 93 | AB15: =(C15+D15+J15+P15+V15)-(SUM(E15:I15)+SUM(K15:O15)+SUM(Q15:U15)+SUM(W15:AA15)) -> 1929.17
A16: 12 | B16: Кулинкович Ева | C16: 42.12 | D16: 2500 | F16: 93 | G16: 93 | H16: 93 | I16: 93 | K16: 93 | L16: 93 | M16: 93 | N16: 93 | O16: 93 | Q16: 93 | R16: 93 | S16: 93 | T16: 93 | U16: 93 | W16: 93 | X16: 93 | Y16: 93 | Z16: 93 | AA16: 93 | AB16: =(C16+D16+J16+P16+V16)-(SUM(E16:I16)+SUM(K16:O16)+SUM(Q16:U16)+SUM(W16:AA16)) -> 775.12
A17: 13 | B17: Куст Ольга | C17: 492.12 | D17: 2000 | F17: 93 | G17: 93 | H17: 93 | K17: 93 | L17: 93 | M17: 93 | N17: 93 | O17: 93 | R17: 93 | S17: 93 | T17: 93 | U17: 93 | W17: 93 | X17: 93 | Z17: 93 | AA17: 93 | AB17: =(C17+D17+J17+P17+V17)-(SUM(E17:I17)+SUM(K17:O17)+SUM(Q17:U17)+SUM(W17:AA17)) -> 1004.12
A18: 14 | B18: Кученкова Анна | C18: ='АПРЕЛЬ 2013'!AB19 -> 0 | AB18: =(C18+D18+J18+P18+V18)-(SUM(E18:I18)+SUM(K18:O18)+SUM(Q18:U18)+SUM(W18:AA18)) -> 0
A19: 15 | B19: Ларионова Марина | C19: ='АПРЕЛЬ 2013'!AB20 -> 0 | AB19: =(C19+D19+J19+P19+V19)-(SUM(E19:I19)+SUM(K19:O19)+SUM(Q19:U19)+SUM(W19:AA19)) -> 0
A20: 16 | B20: Лацузбая Елизавета | C20: ='АПРЕЛЬ 2013'!AB21 -> 0 | AB20: =(C20+D20+J20+P20+V20)-(SUM(E20:I20)+SUM(K20:O20)+SUM(Q20:U20)+SUM(W20:AA20)) -> 0
A21: 17 | B21: Лызинцев Евгений | C21: -275.21 | D21: 1500 | G21: 93 | H21: 93 | I21: 93 | K21: 93 | M21: 93 | N21: 93 | S21: 93 | Y21: 93 | Z21: 93 | AB21: =(C21+D21+J21+P21+V21)-(SUM(E21:I21)+SUM(K21:O21)+SUM(Q21:U21)+SUM(W21:AA21)) -> 387.79
A22: 18 | B22: Макаренко Влад | C22: ='АПРЕЛЬ 2013'!AB23 -> 0 | AB22: =(C22+D22+J22+P22+V22)-(SUM(E22:I22)+SUM(K22:O22)+SUM(Q22:U22)+SUM(W22:AA22)) -> 0
A23: 19 | B23: Никонова Алиса | C23: 93.41 | D23: 4000 | F23: 93 | G23: 93 | H23: 93 | K23: 93 | L23: 93 | M23: 93 | N23: 93 | O23: 93 | Q23: 93 | R23: 93 | S23: 93 | T23: 93 | U23: 93 | W23: 93 | X23: 93 | Y23: 93 | Z23: 93 | AA23: 93 | AB23: =(C23+D23+J23+P23+V23)-(SUM(E23:I23)+SUM(K23:O23)+SUM(Q23:U23)+SUM(W23:AA23)) -> 2419.41
A24: 20 | B24: Пахилина Дарья | C24: 87.23 | D24: 1000 | I24: 93 | M24: 93 | O24: 93 | S24: 93 | U24: 93 | Y24: 93 | AA24: 93 | AB24: =(C24+D24+J24+P24+V24)-(SUM(E24:I24)+SUM(K24:O24)+SUM(Q24:U24)+SUM(W24:AA24)) -> 436.23
A25: 21 | B25: Погорелова Таисия | C25: ='АПРЕЛЬ 2013'!AB26 -> 0 | L25: 93 | O25: 93 | R25: 93 | U25: 93 | X25: 93 | AA25: 93 | AB25: =(C25+D25+J25+P25+V25)-(SUM(E25:I25)+SUM(K25:O25)+SUM(Q25:U25)+SUM(W25:AA25)) -> -558
A26: 22 | B26: Полякова Софья | C26: 339.51 | D26: 1900 | F26: 93 | G26: 93 | H26: 93 | K26: 93 | L26: 93 | M26: 93 | N26: 93 | O26: 93 | Q26: 93 | S26: 93 | T26: 93 | U26: 93 | W26: 93 | X26: 93 | Y26: 93 | Z26: 93 | AA26: 93 | AB26: =(C26+D26+J26+P26+V26)-(SUM(E26:I26)+SUM(K26:O26)+SUM(Q26:U26)+SUM(W26:AA26)) -> 658.51
A27: 23 | B27: Савенков Станислав | C27: ='АПРЕЛЬ 2013'!AB28 -> 0 | AB27: =(C27+D27+J27+P27+V27)-(SUM(E27:I27)+SUM(K27:O27)+SUM(Q27:U27)+SUM(W27:AA27)) -> 0
A28: 24 | B28: Седых Алёна | C28: ='АПРЕЛЬ 2013'!AB29 -> 0 | G28: 93 | H28: 93 | K28: 93 | L28: 93 | M28: 93 | N28: 93 | Q28: 93 | R28: 93 | S28: 93 | T28: 93 | U28: 93 | Y28: 93 | AB28: =(C28+D28+J28+P28+V28)-(SUM(E28:I28)+SUM(K28:O28)+SUM(Q28:U28)+SUM(W28:AA28)) -> -1116
A29: 25 | B29: Спасская Софья | C29: 90.47 | D29: 2500 | F29: 93 | G29: 93 | H29: 93 | K29: 93 | L29: 93 | M29: 93 | N29: 93 | O29: 93 | Q29: 93 | R29: 93 | S29: 93 | T29: 93 | U29: 93 | W29: 93 | X29: 93 | Y29: 93 | Z29: 93 | AA29: 93 | AB29: =(C29+D29+J29+P29+V29)-(SUM(E29:I29)+SUM(K29:O29)+SUM(Q29:U29)+SUM(W29:AA29)) -> 916.47
A30: 26 | B30: Харольская Софья | C30: 56.03 | D30: 1000 | I30: 93 | R30: 93 | T30: 93 | X30: 93 | Y30: 93 | Z30: 93 | AB30: =(C30+D30+J30+P30+V30)-(SUM(E30:I30)+SUM(K30:O30)+SUM(Q30:U30)+SUM(W30:AA30)) -> 498.03
A31: 27 | B31: Чебунина Кристина | C31: -47.42 | D31: 1000 | G31: 93 | H31: 93 | M31: 93 | Q31: 93 | U31: 93 | Y31: 93 | Z31: 93 | AB31: =(C31+D31+J31+P31+V31)-(SUM(E31:I31)+SUM(K31:O31)+SUM(Q31:U31)+SUM(W31:AA31)) -> 301.58
A32: Сумма к уплате по дням | E32: =SUM(E5:E31) -> 0 | F32: =SUM(F5:F31) -> 1116 | G32: =SUM(G5:G31) -> 1488 | H32: =SUM(H5:H31) -> 1488 | I32: =SUM(I5:I31) -> 465 | K32: =SUM(K5:K31) -> 1488 | L32: =SUM(L5:L31) -> 1395 | M32: =SUM(M5:M31) -> 1674 | N32: =SUM(N5:N31) -> 1488 | O32: =SUM(O5:O31) -> 1395 | Q32: =SUM(Q5:Q31) -> 1395 | R32: =SUM(R5:R31) -> 1395 | S32: =SUM(S5:S31) -> 1488 | T32: =SUM(T5:T31) -> 1209 | U32: =SUM(U5:U31) -> 1674 | W32: =SUM(W5:W31) -> 1116 | X32: =SUM(X5:X31) -> 1116 | Y32: =SUM(Y5:Y31) -> 1302 | Z32: =SUM(Z5:Z31) -> 1209 | AA32: =SUM(AA5:AA31) -> 1023
A35: Сумма к зачету столовой на конец месяца (оплачено, но не использовано) | AB35: =SUM(AB5:AB31) -> 16794.6

Sheet октябрь 2013
E1: октябрь 2013
A2: № п/п | B2: Ф.И.О. ученика | C2: Сальдо сентябрь | D2: Внесено | E2: 1-я неделя | J2: Внесено | K2: 2-я неделя | P2: Внесено | Q2: 3-я неделя | V2: Внесено | W2: 4-я неделя | AB2: Внесено | AC2: 5-я неделя | AH2: Сальдо октябрь
E3: 1 | F3: 2 | G3: 3 | H3: 4 | K3: 7 | L3: 8 | M3: 9 | N3: 10 | O3: 11 | Q3: 14 | R3: 15 | S3: 16 | T3: 17 | U3: 18 | W3: 21 | X3: 22 | Y3: 23 | Z3: 24 | AA3: 25 | AC3: 28 | AD3: 29 | AE3: 30 | AF3: 31 | AG3: 0
A4: 1 | B4: Баркова Александра | C4: 756.06 | D4: 1000 | E4: 93 | F4: 93 | G4: 93 | H4: 93 | K4: 93 | L4: 93 | M4: 93 | N4: 93 | Q4: 93 | R4: 93 | S4: 93 | T4: 93 | U4: 93 | W4: 93 | X4: 93 | Y4: 93 | Z4: 93 | AA4: 93 | AH4: =(C4+D4+J4+P4+V4+AB4)-(SUM(E4:I4)+SUM(K4:O4)+SUM(Q4:U4)+SUM(W4:AA4)+SUM(AC4:AG4)) -> 82.06
A5: 2 | B5: Васильев Сергей | C5: 860.16 | D5: 1000 | F5: 93 | H5: 93 | M5: 93 | N5: 93 | O5: 93 | AA5: 93 | AC5: 93 | AE5: 93 | AH5: =(C5+D5+J5+P5+V5+AB5)-(SUM(E5:I5)+SUM(K5:O5)+SUM(Q5:U5)+SUM(W5:AA5)+SUM(AC5:AG5)) -> 1116.16
A6: 3 | B6: Горностаев Владислав | C6: 0 | AH6: =(C6+D6+J6+P6+V6+AB6)-(SUM(E6:I6)+SUM(K6:O6)+SUM(Q6:U6)+SUM(W6:AA6)+SUM(AC6:AG6)) -> 0
A7: 4 | B7: Дашков Никита | C7: 5150.61 | F7: 93 | K7: 93 | M7: 93 | O7: 93 | Z7: 93 | AA7: 93 | AC7: 93 | AE7: 93 | AH7: =(C7+D7+J7+P7+V7+AB7)-(SUM(E7:I7)+SUM(K7:O7)+SUM(Q7:U7)+SUM(W7:AA7)+SUM(AC7:AG7)) -> 4406.61
A8: 5 | B8: Девина София | C8: 567.63 | D8: 2000 | E8: 93 | F8: 93 | G8: 93 | H8: 93 | K8: 93 | L8: 93 | M8: 93 | N8: 93 | O8: 93 | Q8: 93 | R8: 93 | S8: 93 | T8: 93 | U8: 93 | W8: 93 | X8: 93 | AD8: 93 | AE8: 93 | AH8: =(C8+D8+J8+P8+V8+AB8)-(SUM(E8:I8)+SUM(K8:O8)+SUM(Q8:U8)+SUM(W8:AA8)+SUM(AC8:AG8)) -> 893.63
A9: 6 | B9: Ендерова Марина | C9: 848.61 | E9: 93 | F9: 93 | G9: 93 | H9: 93 | K9: 93 | L9: 93 | M9: 93 | N9: 93 | O9: 93 | Q9: 93 | R9: 93 | S9: 93 | U9: 93 | X9: 93 | Y9: 93 | Z9: 93 | AA9: 93 | AC9: 93 | AD9: 93 | AE9: 93 | AF9: 93 | AH9: =(C9+D9+J9+P9+V9+AB9)-(SUM(E9:I9)+SUM(K9:O9)+SUM(Q9:U9)+SUM(W9:AA9)+SUM(AC9:AG9)) -> -1104.39
A10: 7 | B10: Журавлёв Сергей | C10: -113.56 | D10: 1000 | E10: 93 | F10: 93 | G10: 93 | H10: 93 | K10: 93 | L10: 93 | M10: 93 | N10: 93 | Q10: 93 | R10: 93 | S10: 93 | T10: 93 | U10: 93 | W10: 93 | X10: 93 | Y10: 93 | Z10: 93 | AA10: 93 | AC10: 93 | AD10: 93 | AE10: 93 | AF10: 93 | AH10: =(C10+D10+J10+P10+V10+AB10)-(SUM(E10:I10)+SUM(K10:O10)+SUM(Q10:U10)+SUM(W10:AA10)+SUM(AC10:AG10)) -> -1159.56
A11: 8 | B11: Каранадце Диана | C11: 326.78 | D11: 3000 | E11: 93 | F11: 93 | G11: 93 | H11: 93 | K11: 93 | M11: 93 | N11: 93 | O11: 93 | Q11: 93 | R11: 93 | S11: 93 | T11: 93 | U11: 93 | W11: 93 | X11: 93 | Y11: 93 | Z11: 93 | AA11: 93 | AC11: 93 | AD11: 93 | AE11: 93 | AF11: 93 | AH11: =(C11+D11+J11+P11+V11+AB11)-(SUM(E11:I11)+SUM(K11:O11)+SUM(Q11:U11)+SUM(W11:AA11)+SUM(AC11:AG11)) -> 1280.78
A12: 9 | B12: Крац Александр | C12: 0 | AH12: =(C12+D12+J12+P12+V12+AB12)-(SUM(E12:I12)+SUM(K12:O12)+SUM(Q12:U12)+SUM(W12:AA12)+SUM(AC12:AG12)) -> 0
A13: 10 | B13: Круглова Мария | C13: 745.88 | D13: 2000 | E13: 93 | F13: 93 | G13: 93 | H13: 93 | K13: 93 | L13: 93 | M13: 93 | N13: 93 | O13: 93 | W13: 93 | X13: 93 | Y13: 93 | Z13: 93 | AA13: 93 | AC13: 93 | AD13: 93 | AE13: 93 | AF13: 93 | AH13: =(C13+D13+J13+P13+V13+AB13)-(SUM(E13:I13)+SUM(K13:O13)+SUM(Q13:U13)+SUM(W13:AA13)+SUM(AC13:AG13)) -> 1071.88
A14: 11 | B14: Кузьмин Степан | C14: 1929.17 | K14: 93 | T14: 93 | U14: 93 | W14: 93 | X14: 93 | AF14: 93 | AH14: =(C14+D14+J14+P14+V14+AB14)-(SUM(E14:I14)+SUM(K14:O14)+SUM(Q14:U14)+SUM(W14:AA14)+SUM(AC14:AG14)) -> 1371.17
A15: 12 | B15: Кулинкович Ева | C15: 775.12 | D15: 2000 | E15: 93 | F15: 93 | G15: 93 | H15: 93 | K15: 93 | L15: 93 | M15: 93 | N15: 93 | O15: 93 | Q15: 93 | R15: 93 | S15: 93 | T15: 93 | U15: 93 | W15: 93 | X15: 93 | Y15: 93 | Z15: 93 | AC15: 93 | AD15: 93 | AE15: 93 | AF15: 93 | AH15: =(C15+D15+J15+P15+V15+AB15)-(SUM(E15:I15)+SUM(K15:O15)+SUM(Q15:U15)+SUM(W15:AA15)+SUM(AC15:AG15)) -> 729.12
A16: 13 | B16: Куст Ольга | C16: 1004.12 | D16: 1000 | E16: 93 | F16: 93 | G16: 93 | K16: 93 | L16: 93 | M16: 93 | N16: 93 | O16: 93 | Q16: 93 | R16: 93 | S16: 93 | T16: 93 | U16: 93 | W16: 93 | X16: 93 | Y16: 93 | Z16: 93 | AA16: 93 | AC16: 93 | AD16: 93 | AE16: 93 | AF16: 93 | AH16: =(C16+D16+J16+P16+V16+AB16)-(SUM(E16:I16)+SUM(K16:O16)+SUM(Q16:U16)+SUM(W16:AA16)+SUM(AC16:AG16)) -> -41.88
A17: 14 | B17: Кученкова Анна | C17: 0 | AH17: =(C17+D17+J17+P17+V17+AB17)-(SUM(E17:I17)+SUM(K17:O17)+SUM(Q17:U17)+SUM(W17:AA17)+SUM(AC17:AG17)) -> 0
A18: 15 | B18: Ларионова Марина | C18: 0 | AH18: =(C18+D18+J18+P18+V18+AB18)-(SUM(E18:I18)+SUM(K18:O18)+SUM(Q18:U18)+SUM(W18:AA18)+SUM(AC18:AG18)) -> 0
A19: 16 | B19: Лацузбая Елизавета | C19: 0 | AH19: =(C19+D19+J19+P19+V19+AB19)-(SUM(E19:I19)+SUM(K19:O19)+SUM(Q19:U19)+SUM(W19:AA19)+SUM(AC19:AG19)) -> 0
A20: 17 | B20: Лызинцев Евгений | C20: 387.79 | F20: 93 | M20: 93 | O20: 93 | R20: 93 | S20: 93 | T20: 93 | U20: 93 | Y20: 93 | Z20: 93 | AA20: 93 | AC20: 93 | AE20: 93 | AH20: =(C20+D20+J20+P20+V20+AB20)-(SUM(E20:I20)+SUM(K20:O20)+SUM(Q20:U20)+SUM(W20:AA20)+SUM(AC20:AG20)) -> -728.21
A21: 18 | B21: Макаренко Влад | C21: 0 | AH21: =(C21+D21+J21+P21+V21+AB21)-(SUM(E21:I21)+SUM(K21:O21)+SUM(Q21:U21)+SUM(W21:AA21)+SUM(AC21:AG21)) -> 0
A22: 19 | B22: Никонова Алиса | C22: 2419.41 | D22: 3000 | E22: 93 | F22: 93 | G22: 93 | H22: 93 | K22: 93 | L22: 93 | M22: 93 | N22: 93 | O22: 93 | Q22: 93 | R22: 93 | S22: 93 | T22: 93 | U22: 93 | W22: 93 | X22: 93 | Y22: 93 | Z22: 93 | AA22: 93 | AC22: 93 | AD22: 93 | AE22: 93 | AF22: 93 | AH22: =(C22+D22+J22+P22+V22+AB22)-(SUM(E22:I22)+SUM(K22:O22)+SUM(Q22:U22)+SUM(W22:AA22)+SUM(AC22:AG22)) -> 3280.41
A23: 20 | B23: Пахилина Дарья | C23: 436.23 | E23: 93 | F23: 93 | G23: 93 | K23: 93 | L23: 93 | M23: 93 | N23: 93 | O23: 93 | Q23: 93 | S23: 93 | T23: 93 | U23: 93 | W23: 93 | Y23: 93 | Z23: 93 | AA23: 93 | AC23: 93 | AE23: 93 | AF23: 93 | AH23: =(C23+D23+J23+P23+V23+AB23)-(SUM(E23:I23)+SUM(K23:O23)+SUM(Q23:U23)+SUM(W23:AA23)+SUM(AC23:AG23)) -> -1330.77
A24: 21 | B24: Погорелова Таисия | C24: -558 | H24: 93 | AH24: =(C24+D24+J24+P24+V24+AB24)-(SUM(E24:I24)+SUM(K24:O24)+SUM(Q24:U24)+SUM(W24:AA24)+SUM(AC24:AG24)) -> -651
A25: 22 | B25: Полякова Софья | C25: 658.51 | D25: 800 | E25: 93 | F25: 93 | G25: 93 | H25: 93 | K25: 93 | L25: 93 | M25: 93 | N25: 93 | O25: 93 | Q25: 93 | R25: 93 | S25: 93 | T25: 93 | U25: 93 | W25: 93 | X25: 93 | Y25: 93 | Z25: 93 | AA25: 93 | AC25: 93 | AD25: 93 | AE25: 93 | AF25: 93 | AH25: =(C25+D25+J25+P25+V25+AB25)-(SUM(E25:I25)+SUM(K25:O25)+SUM(Q25:U25)+SUM(W25:AA25)+SUM(AC25:AG25)) -> -680.49
A26: 23 | B26: Савенков Станислав | C26: 0 | AH26: =(C26+D26+J26+P26+V26+AB26)-(SUM(E26:I26)+SUM(K26:O26)+SUM(Q26:U26)+SUM(W26:AA26)+SUM(AC26:AG26)) -> 0
A27: 24 | B27: Седых Алёна | C27: -1116 | E27: 93 | G27: 93 | H27: 93 | K27: 93 | M27: 93 | N27: 93 | O27: 93 | Q27: 93 | S27: 93 | T27: 93 | U27: 93 | W27: 93 | Y27: 93 | Z27: 93 | AA27: 93 | AD27: 93 | AE27: 93 | AF27: 93 | AH27: =(C27+D27+J27+P27+V27+AB27)-(SUM(E27:I27)+SUM(K27:O27)+SUM(Q27:U27)+SUM(W27:AA27)+SUM(AC27:AG27)) -> -2790
A28: 25 | B28: Спасская Софья | C28: 916.47 | D28: 1600 | E28: 93 | F28: 93 | G28: 93 | H28: 93 | K28: 93 | L28: 93 | M28: 93 | N28: 93 | O28: 93 | Q28: 93 | R28: 93 | S28: 93 | T28: 93 | U28: 93 | W28: 93 | X28: 93 | Y28: 93 | Z28: 93 | AA28: 93 | AC28: 93 | AH28: =(C28+D28+J28+P28+V28+AB28)-(SUM(E28:I28)+SUM(K28:O28)+SUM(Q28:U28)+SUM(W28:AA28)+SUM(AC28:AG28)) -> 656.47
A29: 26 | B29: Харольская Софья | C29: 498.03 | E29: 93 | G29: 93 | L29: 93 | N29: 93 | R29: 93 | S29: 93 | T29: 93 | U29: 93 | W29: 93 | X29: 93 | Z29: 93 | AA29: 93 | AD29: 93 | AH29: =(C29+D29+J29+P29+V29+AB29)-(SUM(E29:I29)+SUM(K29:O29)+SUM(Q29:U29)+SUM(W29:AA29)+SUM(AC29:AG29)) -> -710.97
A30: 27 | B30: Чебунина Кристина | C30: 301.58 | D30: 2000 | E30: 93 | F30: 93 | G30: 93 | H30: 93 | K30: 93 | L30: 93 | M30: 93 | N30: 93 | O30: 93 | Q30: 93 | R30: 93 | S30: 93 | T30: 93 | U30: 93 | W30: 93 | Z30: 93 | AC30: 93 | AE30: 93 | AF30: 93 | AH30: =(C30+D30+J30+P30+V30+AB30)-(SUM(E30:I30)+SUM(K30:O30)+SUM(Q30:U30)+SUM(W30:AA30)+SUM(AC30:AG30)) -> 534.58
A31: Сумма к уплате по дням | E31: =SUM(E4:E30) -> 1395 | F31: =SUM(F4:F30) -> 1488 | G31: =SUM(G4:G30) -> 1395 | H31: =SUM(H4:H30) -> 1302 | I31: =SUM(I4:I30) -> 0 | K31: =SUM(K4:K30) -> 1488 | L31: =SUM(L4:L30) -> 1209 | M31: =SUM(M4:M30) -> 1581 | N31: =SUM(N4:N30) -> 1488 | O31: =SUM(O4:O30) -> 1395 | Q31: =SUM(Q4:Q30) -> 1209 | R31: =SUM(R4:R30) -> 1209 | S31: =SUM(S4:S30) -> 1395 | T31: =SUM(T4:T30) -> 1395 | U31: =SUM(U4:U30) -> 1488 | W31: =SUM(W4:W30) -> 1395 | X31: =SUM(X4:X30) -> 1209 | Y31: =SUM(Y4:Y30) -> 1209 | Z31: =SUM(Z4:Z30) -> 1488 | AA31: =SUM(AA4:AA30) -> 1395 | AC31: =SUM(AC4:AC30) -> 1302 | AD31: =SUM(AD4:AD30) -> 1023 | AE31: =SUM(AE4:AE30) -> 1395 | AF31: =SUM(AF4:AF30) -> 1116 | AG31: =SUM(AG4:AG30) -> 0
A34: Сумма к зачету столовой на конец месяца (оплачено, но не использовано) | AH34: =SUM(AH4:AH30) -> 6225.6

Sheet ноябрь 2013
E2: ноябрь 2013
A3: № п/п | B3: Ф.И.О. ученика | C3: Сальдо октябрь | D3: Внесено | E3: 1-я неделя | J3: Внесено | K3: 2-я неделя | P3: Внесено | Q3: 3-я неделя | V3: Внесено | W3: 4-я неделя | AB3: Сальдо нояб.
I4: 1 | K4: 11 | L4: 12 | M4: 13 | N4: 14 | O4: 15 | Q4: 18 | R4: 19 | S4: 20 | T4: 21 | U4: 22 | W4: 25 | X4: 26 | Y4: 27 | Z4: 28 | AA4: 29
A5: 1 | B5: Баркова Александра | C5: 82.06 | D5: 1000 | K5: 93 | L5: 93 | M5: 93 | N5: 93 | Q5: 93 | R5: 93 | S5: 93 | T5: 93 | U5: 93 | W5: 93 | X5: 93 | Y5: 93 | Z5: 93 | AA5: 93 | AB5: =(C5+D5+J5+P5+V5)-(SUM(E5:I5)+SUM(K5:O5)+SUM(Q5:U5)+SUM(W5:AA5)) -> -219.94
A6: 2 | B6: Васильев Сергей | C6: 1116.16 | I6: 93 | L6: 93 | M6: 93 | O6: 93 | Y6: 93 | AA6: 93 | AB6: =(C6+D6+J6+P6+V6)-(SUM(E6:I6)+SUM(K6:O6)+SUM(Q6:U6)+SUM(W6:AA6)) -> 558.16
A7: 3 | B7: Горностаев Владислав | C7: 0 | AB7: =(C7+D7+J7+P7+V7)-(SUM(E7:I7)+SUM(K7:O7)+SUM(Q7:U7)+SUM(W7:AA7)) -> 0
A8: 4 | B8: Дашков Никита | C8: 4406.61 | M8: 93 | S8: 93 | Y8: 93 | AB8: =(C8+D8+J8+P8+V8)-(SUM(E8:I8)+SUM(K8:O8)+SUM(Q8:U8)+SUM(W8:AA8)) -> 4127.61
A9: 5 | B9: Девина София | C9: 893.63 | D9: 600 | I9: 93 | K9: 93 | L9: 93 | M9: 93 | N9: 93 | O9: 93 | Q9: 93 | R9: 93 | S9: 93 | T9: 93 | U9: 93 | W9: 93 | X9: 93 | Y9: 93 | Z9: 93 | AA9: 93 | AB9: =(C9+D9+J9+P9+V9)-(SUM(E9:I9)+SUM(K9:O9)+SUM(Q9:U9)+SUM(W9:AA9)) -> 5.63
A10: 6 | B10: Ендерова Марина | C10: -1104.39 | I10: 93 | K10: 93 | L10: 93 | M10: 93 | N10: 93 | O10: 93 | Q10: 93 | R10: 93 | S10: 93 | T10: 93 | W10: 93 | X10: 93 | Y10: 93 | Z10: 93 | AB10: =(C10+D10+J10+P10+V10)-(SUM(E10:I10)+SUM(K10:O10)+SUM(Q10:U10)+SUM(W10:AA10)) -> -2406.39
A11: 7 | B11: Журавлёв Сергей | C11: -1159.56 | D11: 5000 | I11: 93 | K11: 93 | L11: 93 | M11: 93 | O11: 93 | Q11: 93 | R11: 93 | S11: 93 | T11: 93 | U11: 93 | W11: 93 | X11: 93 | Y11: 93 | Z11: 93 | AA11: 93 | AB11: =(C11+D11+J11+P11+V11)-(SUM(E11:I11)+SUM(K11:O11)+SUM(Q11:U11)+SUM(W11:AA11)) -> 2445.44
A12: 8 | B12: Каранадце Диана | C12: 1280.78 | I12: 93 | K12: 93 | L12: 93 | M12: 93 | N12: 93 | O12: 93 | Q12: 93 | R12: 93 | S12: 93 | T12: 93 | U12: 93 | W12: 93 | X12: 93 | Y12: 93 | Z12: 93 | AA12: 93 | AB12: =(C12+D12+J12+P12+V12)-(SUM(E12:I12)+SUM(K12:O12)+SUM(Q12:U12)+SUM(W12:AA12)) -> -207.22
A13: 9 | B13: Крац Александр | C13: 0 | D13: 200 | Y13: 93 | AB13: =(C13+D13+J13+P13+V13)-(SUM(E13:I13)+SUM(K13:O13)+SUM(Q13:U13)+SUM(W13:AA13)) -> 107
A14: 10 | B14: Круглова Мария | C14: 1071.88 | I14: 93 | K14: 93 | L14: 93 | M14: 93 | N14: 93 | O14: 93 | Q14: 93 | R14: 93 | S14: 93 | T14: 93 | U14: 93 | W14: 93 | X14: 93 | Y14: 93 | Z14: 93 | AA14: 93 | AB14: =(C14+D14+J14+P14+V14)-(SUM(E14:I14)+SUM(K14:O14)+SUM(Q14:U14)+SUM(W14:AA14)) -> -416.12
A15: 11 | B15: Кузьмин Степан | C15: 1371.17 | AB15: 0
A16: 12 | B16: Кулинкович Ева | C16: 729.12 | D16: 2000 | K16: 93 | L16: 93 | M16: 93 | N16: 93 | O16: 93 | Q16: 93 | R16: 93 | S16: 93 | T16: 93 | U16: 93 | W16: 93 | X16: 93 | Y16: 93 | Z16: 93 | AA16: 93 | AB16: =(C16+D16+J16+P16+V16)-(SUM(E16:I16)+SUM(K16:O16)+SUM(Q16:U16)+SUM(W16:AA16)) -> 1334.12
A17: 13 | B17: Куст Ольга | C17: -41.88 | I17: 93 | K17: 93 | L17: 93 | M17: 93 | N17: 93 | O17: 93 | Q17: 93 | R17: 93 | S17: 93 | T17: 93 | U17: 93 | W17: 93 | X17: 93 | Y17: 93 | AA17: 93 | AB17: =(C17+D17+J17+P17+V17)-(SUM(E17:I17)+SUM(K17:O17)+SUM(Q17:U17)+SUM(W17:AA17)) -> -1436.88
A18: 14 | B18: Кученкова Анна | C18: 0 | AB18: =(C18+D18+J18+P18+V18)-(SUM(E18:I18)+SUM(K18:O18)+SUM(Q18:U18)+SUM(W18:AA18)) -> 0
A19: 15 | B19: Ларионова Марина | C19: 0 | AB19: =(C19+D19+J19+P19+V19)-(SUM(E19:I19)+SUM(K19:O19)+SUM(Q19:U19)+SUM(W19:AA19)) -> 0
A20: 16 | B20: Лацузбая Елизавета | C20: 0 | AB20: =(C20+D20+J20+P20+V20)-(SUM(E20:I20)+SUM(K20:O20)+SUM(Q20:U20)+SUM(W20:AA20)) -> 0
A21: 17 | B21: Лызинцев Евгений | C21: -728.21 | L21: 93 | N21: 93 | Q21: 93 | S21: 93 | T21: 93 | U21: 93 | Y21: 93 | AB21: =(C21+D21+J21+P21+V21)-(SUM(E21:I21)+SUM(K21:O21)+SUM(Q21:U21)+SUM(W21:AA21)) -> -1379.21
A22: 18 | B22: Макаренко Влад | C22: 0 | AB22: =(C22+D22+J22+P22+V22)-(SUM(E22:I22)+SUM(K22:O22)+SUM(Q22:U22)+SUM(W22:AA22)) -> 0
A23: 19 | B23: Никонова Алиса | C23: 3280.41 | I23: 93 | K23: 93 | L23: 93 | M23: 93 | N23: 93 | O23: 93 | Q23: 93 | R23: 93 | S23: 93 | T23: 93 | U23: 93 | W23: 93 | X23: 93 | Y23: 93 | Z23: 93 | AA23: 93 | AB23: =(C23+D23+J23+P23+V23)-(SUM(E23:I23)+SUM(K23:O23)+SUM(Q23:U23)+SUM(W23:AA23)) -> 1792.41
A24: 20 | B24: Пахилина Дарья | C24: -1330.77 | D24: 2000 | I24: 93 | M24: 93 | N24: 93 | O24: 93 | U24: 93 | W24: 93 | X24: 93 | Y24: 93 | Z24: 93 | AA24: 93 | AB24: =(C24+D24+J24+P24+V24)-(SUM(E24:I24)+SUM(K24:O24)+SUM(Q24:U24)+SUM(W24:AA24)) -> -260.77
A25: 21 | B25: Погорелова Таисия | C25: -651 | I25: 93 | AB25: =(C25+D25+J25+P25+V25)-(SUM(E25:I25)+SUM(K25:O25)+SUM(Q25:U25)+SUM(W25:AA25)) -> -744
A26: 22 | B26: Полякова Софья | C26: -680.49 | D26: 5000 | I26: 93 | K26: 93 | L26: 93 | M26: 93 | N26: 93 | O26: 93 | Q26: 93 | R26: 93 | S26: 93 | T26: 93 | U26: 93 | W26: 93 | X26: 93 | Y26: 93 | Z26: 93 | AA26: 93 | AB26: =(C26+D26+J26+P26+V26)-(SUM(E26:I26)+SUM(K26:O26)+SUM(Q26:U26)+SUM(W26:AA26)) -> 2831.51
A27: 23 | B27: Савенков Станислав | C27: 0 | AB27: =(C27+D27+J27+P27+V27)-(SUM(E27:I27)+SUM(K27:O27)+SUM(Q27:U27)+SUM(W27:AA27)) -> 0
A28: 24 | B28: Седых Алёна | C28: -2790 | K28: 93 | L28: 93 | M28: 93 | N28: 93 | O28: 93 | S28: 93 | T28: 93 | W28: 93 | Y28: 93 | Z28: 93 | AA28: 93 | AB28: =(C28+D28+J28+P28+V28)-(SUM(E28:I28)+SUM(K28:O28)+SUM(Q28:U28)+SUM(W28:AA28)) -> -3813
A29: 25 | B29: Спасская Софья | C29: 656.47 | D29: 2000 | L29: 93 | M29: 93 | N29: 93 | O29: 93 | Q29: 93 | R29: 93 | S29: 93 | T29: 93 | U29: 93 | W29: 93 | X29: 93 | Y29: 93 | Z29: 93 | AA29: 93 | AB29: =(C29+D29+J29+P29+V29)-(SUM(E29:I29)+SUM(K29:O29)+SUM(Q29:U29)+SUM(W29:AA29)) -> 1354.47
A30: 26 | B30: Харольская Софья | C30: -710.97 | D30: 1000 | M30: 93 | R30: 93 | T30: 93 | U30: 93 | X30: 93 | Z30: 93 | AB30: =(C30+D30+J30+P30+V30)-(SUM(E30:I30)+SUM(K30:O30)+SUM(Q30:U30)+SUM(W30:AA30)) -> -268.97
A31: 27 | B31: Чебунина Кристина | C31: 534.58 | D31: 2000 | I31: 93 | Q31: 93 | R31: 93 | S31: 93 | T31: 93 | U31: 93 | W31: 93 | Y31: 93 | Z31: 93 | AB31: =(C31+D31+J31+P31+V31)-(SUM(E31:I31)+SUM(K31:O31)+SUM(Q31:U31)+SUM(W31:AA31)) -> 1697.58
A32: Сумма к уплате по дням | E32: =SUM(E5:E31) -> 0 | F32: =SUM(F5:F31) -> 0 | G32: =SUM(G5:G31) -> 0 | H32: =SUM(H5:H31) -> 0 | I32: =SUM(I5:I31) -> 1116 | K32: =SUM(K5:K31) -> 1023 | L32: =SUM(L5:L31) -> 1302 | M32: =SUM(M5:M31) -> 1488 | N32: =SUM(N5:N31) -> 1209 | O32: =SUM(O5:O31) -> 1209 | Q32: =SUM(Q5:Q31) -> 1209 | R32: =SUM(R5:R31) -> 1209 | S32: =SUM(S5:S31) -> 1395 | T32: =SUM(T5:T31) -> 1395 | U32: =SUM(U5:U31) -> 1302 | W32: =SUM(W5:W31) -> 1302 | X32: =SUM(X5:X31) -> 1209 | Y32: =SUM(Y5:Y31) -> 1674 | Z32: =SUM(Z5:Z31) -> 1302 | AA32: =SUM(AA5:AA31) -> 1209
A35: Сумма к зачету столовой на конец месяца (оплачено, но не использовано) | AB35: =SUM(AB5:AB31) -> 5101.43

Sheet декабрь 2013
E2: декабрь2013
A3: № п/п | B3: Ф.И.О. ученика | C3: Сальдонояб. | D3: Внесено | E3: 1-я неделя | J3: Внесено | K3: 2-я неделя | P3: Внесено | Q3: 3-я неделя | V3: Внесено | W3: 4-я неделя | AB3: Сальдо дек.
E4: 2 | F4: 3 | G4: 4 | H4: 5 | I4: 6 | K4: 9 | L4: 10 | M4: 11 | N4: 12 | O4: 13 | Q4: 16 | R4: 17 | S4: 18 | T4: 19 | U4: 20 | W4: 23 | X4: 24 | Y4: 25
A5: 1 | B5: Баркова Александра | C5: -219.94 | D5: 3000 | E5: 93 | F5: 93 | G5: 93 | H5: 93 | I5: 93 | K5: 93 | L5: 93 | M5: 93 | N5: 93 | O5: 93 | Q5: 93 | R5: 93 | S5: 93 | T5: 93 | U5: 93 | W5: 93 | X5: 93 | Y5: 93 | AB5: =(C5+D5+J5+P5+V5)-(SUM(E5:I5)+SUM(K5:O5)+SUM(Q5:U5)+SUM(W5:AA5)) -> 1106.06
A6: 2 | B6: Васильев Сергей | C6: 558.16 | G6: 93 | I6: 93 | K6: 93 | O6: 93 | Q6: 93 | S6: 93 | U6: 93 | AB6: =(C6+D6+J6+P6+V6)-(SUM(E6:I6)+SUM(K6:O6)+SUM(Q6:U6)+SUM(W6:AA6)) -> -92.84
A7: 3 | B7: Горностаев Владислав | C7: 0 | AB7: =(C7+D7+J7+P7+V7)-(SUM(E7:I7)+SUM(K7:O7)+SUM(Q7:U7)+SUM(W7:AA7)) -> 0
A8: 4 | B8: Дашков Никита | C8: 4127.61 | G8: 93 | K8: 93 | M8: 93 | U8: 93 | AB8: =(C8+D8+J8+P8+V8)-(SUM(E8:I8)+SUM(K8:O8)+SUM(Q8:U8)+SUM(W8:AA8)) -> 3755.61
A9: 5 | B9: Девина София | C9: 5.63 | D9: 1500 | E9: 93 | F9: 93 | G9: 93 | H9: 93 | I9: 93 | K9: 93 | L9: 93 | M9: 93 | N9: 93 | O9: 93 | Q9: 93 | R9: 93 | S9: 93 | T9: 93 | U9: 93 | W9: 93 | X9: 93 | Y9: 93 | AB9: =(C9+D9+J9+P9+V9)-(SUM(E9:I9)+SUM(K9:O9)+SUM(Q9:U9)+SUM(W9:AA9)) -> -168.37
A10: 6 | B10: Ендерова Марина | C10: -2406.39 | D10: 3000 | K10: 93 | L10: 93 | M10: 93 | N10: 93 | T10: 93 | U10: 93 | W10: 93 | X10: 93 | AB10: =(C10+D10+J10+P10+V10)-(SUM(E10:I10)+SUM(K10:O10)+SUM(Q10:U10)+SUM(W10:AA10)) -> -150.39
A11: 7 | B11: Журавлёв Сергей | C11: 2445.44 | E11: 93 | F11: 93 | G11: 93 | H11: 93 | I11: 93 | R11: 93 | S11: 93 | T11: 93 | U11: 93 | W11: 93 | X11: 93 | AB11: =(C11+D11+J11+P11+V11)-(SUM(E11:I11)+SUM(K11:O11)+SUM(Q11:U11)+SUM(W11:AA11)) -> 1422.44
A12: 8 | B12: Каранадце Диана | C12: -207.22 | D12: 3000 | E12: 93 | F12: 93 | G12: 93 | H12: 93 | I12: 93 | K12: 93 | L12: 93 | N12: 93 | Q12: 93 | R12: 93 | S12: 93 | T12: 93 | U12: 93 | AB12: =(C12+D12+J12+P12+V12)-(SUM(E12:I12)+SUM(K12:O12)+SUM(Q12:U12)+SUM(W12:AA12)) -> 1583.78
A13: 9 | B13: Крац Александр | C13: 107 | D13: 100 | G13: 93 | Q13: 93 | AB13: =(C13+D13+J13+P13+V13)-(SUM(E13:I13)+SUM(K13:O13)+SUM(Q13:U13)+SUM(W13:AA13)) -> 21
A14: 10 | B14: Круглова Мария | C14: -416.12 | D14: 2000 | G14: 93 | H14: 93 | I14: 93 | K14: 93 | L14: 93 | M14: 93 | N14: 93 | O14: 93 | Q14: 93 | R14: 93 | T14: 93 | U14: 93 | AB14: =(C14+D14+J14+P14+V14)-(SUM(E14:I14)+SUM(K14:O14)+SUM(Q14:U14)+SUM(W14:AA14)) -> 467.88
A15: 11 | B15: Кузьмин Степан | C15: 0 | AB15: 0
A16: 12 | B16: Кулинкович Ева | C16: 1334.12 | D16: 1500 | E16: 93 | F16: 93 | G16: 93 | H16: 93 | I16: 93 | K16: 93 | L16: 93 | M16: 93 | N16: 93 | O16: 93 | T16: 93 | U16: 93 | W16: 93 | X16: 93 | Y16: 93 | AB16: =(C16+D16+J16+P16+V16)-(SUM(E16:I16)+SUM(K16:O16)+SUM(Q16:U16)+SUM(W16:AA16)) -> 1439.12
A17: 13 | B17: Куст Ольга | C17: -1436.88 | D17: 2000 | E17: 93 | F17: 93 | G17: 93 | H17: 93 | I17: 93 | K17: 93 | M17: 93 | N17: 93 | O17: 93 | S17: 93 | W17: 93 | X17: 93 | Y17: 93 | AB17: =(C17+D17+J17+P17+V17)-(SUM(E17:I17)+SUM(K17:O17)+SUM(Q17:U17)+SUM(W17:AA17)) -> -645.88
A18: 14 | B18: Кученкова Анна | C18: 0 | AB18: =(C18+D18+J18+P18+V18)-(SUM(E18:I18)+SUM(K18:O18)+SUM(Q18:U18)+SUM(W18:AA18)) -> 0
A19: 15 | B19: Ларионова Марина | C19: 0 | AB19: =(C19+D19+J19+P19+V19)-(SUM(E19:I19)+SUM(K19:O19)+SUM(Q19:U19)+SUM(W19:AA19)) -> 0
A20: 16 | B20: Лацузбая Елизавета | C20: 0 | AB20: =(C20+D20+J20+P20+V20)-(SUM(E20:I20)+SUM(K20:O20)+SUM(Q20:U20)+SUM(W20:AA20)) -> 0
A21: 17 | B21: Лызинцев Евгений | C21: -1379.21 | D21: 1000 | G21: 93 | H21: 93 | I21: 93 | S21: 93 | U21: 93 | W21: 93 | X21: 93 | AB21: =(C21+D21+J21+P21+V21)-(SUM(E21:I21)+SUM(K21:O21)+SUM(Q21:U21)+SUM(W21:AA21)) -> -1030.21
A22: 18 | B22: Макаренко Влад | C22: 0 | AB22: =(C22+D22+J22+P22+V22)-(SUM(E22:I22)+SUM(K22:O22)+SUM(Q22:U22)+SUM(W22:AA22)) -> 0
A23: 19 | B23: Никонова Алиса | C23: 1792.41 | D23: 3000 | E23: 93 | F23: 93 | G23: 93 | H23: 93 | I23: 93 | K23: 93 | L23: 93 | M23: 93 | N23: 93 | O23: 93 | Q23: 93 | R23: 93 | S23: 93 | T23: 93 | U23: 93 | W23: 93 | X23: 93 | AB23: =(C23+D23+J23+P23+V23)-(SUM(E23:I23)+SUM(K23:O23)+SUM(Q23:U23)+SUM(W23:AA23)) -> 3211.41
A24: 20 | B24: Пахилина Дарья | C24: -260.77 | D24: 2000 | E24: 93 | F24: 93 | G24: 93 | H24: 93 | I24: 93 | S24: 93 | W24: 93 | X24: 93 | Y24: 93 | AB24: =(C24+D24+J24+P24+V24)-(SUM(E24:I24)+SUM(K24:O24)+SUM(Q24:U24)+SUM(W24:AA24)) -> 902.23
A25: 21 | B25: Погорелова Таисия | C25: -744 | O25: 93 | AB25: =(C25+D25+J25+P25+V25)-(SUM(E25:I25)+SUM(K25:O25)+SUM(Q25:U25)+SUM(W25:AA25)) -> -837
A26: 22 | B26: Полякова Софья | C26: 2831.51 | E26: 93 | F26: 93 | G26: 93 | H26: 93 | I26: 93 | K26: 93 | M26: 93 | Q26: 93 | R26: 93 | S26: 93 | T26: 93 | U26: 93 | W26: 93 | X26: 93 | Y26: 93 | AB26: =(C26+D26+J26+P26+V26)-(SUM(E26:I26)+SUM(K26:O26)+SUM(Q26:U26)+SUM(W26:AA26)) -> 1436.51
A27: 23 | B27: Савенков Станислав | C27: 0 | AB27: =(C27+D27+J27+P27+V27)-(SUM(E27:I27)+SUM(K27:O27)+SUM(Q27:U27)+SUM(W27:AA27)) -> 0
A28: 24 | B28: Седых Алёна | C28: -3813 | E28: 93 | G28: 93 | H28: 93 | I28: 93 | K28: 93 | M28: 93 | N28: 93 | O28: 93 | Q28: 93 | R28: 93 | T28: 93 | AB28: =(C28+D28+J28+P28+V28)-(SUM(E28:I28)+SUM(K28:O28)+SUM(Q28:U28)+SUM(W28:AA28)) -> -4836
A29: 25 | B29: Спасская Софья | C29: 1354.47 | D29: 1000 | E29: 93 | F29: 93 | G29: 93 | H29: 93 | I29: 93 | K29: 93 | L29: 93 | M29: 93 | N29: 93 | O29: 93 | Q29: 93 | R29: 93 | S29: 93 | T29: 93 | U29: 93 | W29: 93 | X29: 93 | Y29: 93 | AB29: =(C29+D29+J29+P29+V29)-(SUM(E29:I29)+SUM(K29:O29)+SUM(Q29:U29)+SUM(W29:AA29)) -> 680.47
A30: 26 | B30: Харольская Софья | C30: -268.97 | F30: 93 | G30: 93 | H30: 93 | L30: 93 | M30: 93 | N30: 93 | R30: 93 | AB30: =(C30+D30+J30+P30+V30)-(SUM(E30:I30)+SUM(K30:O30)+SUM(Q30:U30)+SUM(W30:AA30)) -> -919.97
A31: 27 | B31: Чебунина Кристина | C31: 1697.58 | E31: 93 | F31: 93 | G31: 93 | H31: 93 | I31: 93 | K31: 93 | M31: 93 | N31: 93 | O31: 93 | Q31: 93 | R31: 93 | S31: 93 | T31: 93 | U31: 93 | W31: 93 | X31: 93 | AB31: =(C31+D31+J31+P31+V31)-(SUM(E31:I31)+SUM(K31:O31)+SUM(Q31:U31)+SUM(W31:AA31)) -> 209.58
A32: Сумма к уплате по дням | E32: =SUM(E5:E31) -> 1116 | F32: =SUM(F5:F31) -> 1116 | G32: =SUM(G5:G31) -> 1674 | H32: =SUM(H5:H31) -> 1395 | I32: =SUM(I5:I31) -> 1395 | K32: =SUM(K5:K31) -> 1302 | L32: =SUM(L5:L31) -> 837 | M32: =SUM(M5:M31) -> 1209 | N32: =SUM(N5:N31) -> 1116 | O32: =SUM(O5:O31) -> 1023 | Q32: =SUM(Q5:Q31) -> 1023 | R32: =SUM(R5:R31) -> 1023 | S32: =SUM(S5:S31) -> 1116 | T32: =SUM(T5:T31) -> 1116 | U32: =SUM(U5:U31) -> 1302 | W32: =SUM(W5:W31) -> 1116 | X32: =SUM(X5:X31) -> 1116 | Y32: =SUM(Y5:Y31) -> 651 | Z32: =SUM(Z5:Z31) -> 0 | AA32: =SUM(AA5:AA31) -> 0
A35: Сумма к зачету столовой на конец месяца (оплачено, но не использовано) | AB35: =SUM(AB5:AB31) -> 7555.43

Sheet январь2014
E1: январь 2014
A2: № п/п | B2: Ф.И.О. ученика | C2: Сальдо дек. | D2: Внесено | E2: 1-я неделя | J2: Внесено | K2: 2-я неделя | P2: Внесено | Q2: 3-я неделя | V2: Внесено | W2: 4-я неделя | AB2: Сальдо янв..
H3: 9 | I3: 10 | K3: 13 | L3: 14 | M3: 15 | N3: 16 | O3: 17 | Q3: 20 | R3: 21 | S3: 22 | T3: 23 | U3: 24 | W3: 27 | X3: 28 | Y3: 29
A4: 1 | B4: Баркова Александра | C4: 1106.06 | D4: 1000 | Q4: 93 | R4: 93 | S4: 93 | T4: 93 | U4: 93 | W4: 93 | X4: 93 | Y4: 93 | AB4: =(C4+D4+J4+P4+V4)-(SUM(E4:I4)+SUM(K4:O4)+SUM(Q4:U4)+SUM(W4:AA4)) -> 1362.06
A5: 2 | B5: Васильев Сергей | C5: -92.84 | D5: 1000 | I5: 93 | M5: 93 | N5: 93 | O5: 93 | Q5: 93 | R5: 93 | S5: 93 | AB5: =(C5+D5+J5+P5+V5)-(SUM(E5:I5)+SUM(K5:O5)+SUM(Q5:U5)+SUM(W5:AA5)) -> 256.16
A6: 3 | B6: Горностаев Владислав | C6: 0 | AB6: =(C6+D6+J6+P6+V6)-(SUM(E6:I6)+SUM(K6:O6)+SUM(Q6:U6)+SUM(W6:AA6)) -> 0
A7: 4 | B7: Дашков Никита | C7: 3755.61 | M7: 93 | O7: 93 | R7: 93 | S7: 93 | W7: 93 | Y7: 93 | AB7: =(C7+D7+J7+P7+V7)-(SUM(E7:I7)+SUM(K7:O7)+SUM(Q7:U7)+SUM(W7:AA7)) -> 3197.61
A8: 5 | B8: Девина София | C8: -168.37 | H8: 93 | I8: 93 | K8: 93 | L8: 93 | M8: 93 | N8: 93 | O8: 93 | Q8: 93 | R8: 93 | S8: 93 | T8: 93 | U8: 93 | W8: 93 | X8: 93 | Y8: 93 | AB8: =(C8+D8+J8+P8+V8)-(SUM(E8:I8)+SUM(K8:O8)+SUM(Q8:U8)+SUM(W8:AA8)) -> -1563.37
A9: 6 | B9: Ендерова Марина | C9: -150.39 | H9: 93 | I9: 93 | K9: 93 | L9: 93 | M9: 93 | N9: 93 | O9: 93 | AB9: =(C9+D9+J9+P9+V9)-(SUM(E9:I9)+SUM(K9:O9)+SUM(Q9:U9)+SUM(W9:AA9)) -> -801.39
A10: 7 | B10: Журавлёв Сергей | C10: 1422.44 | H10: 93 | I10: 93 | K10: 93 | L10: 93 | M10: 93 | N10: 93 | O10: 93 | Q10: 93 | R10: 93 | S10: 93 | T10: 93 | U10: 93 | W10: 93 | X10: 93 | Y10: 93 | AB10: =(C10+D10+J10+P10+V10)-(SUM(E10:I10)+SUM(K10:O10)+SUM(Q10:U10)+SUM(W10:AA10)) -> 27.44
A11: 8 | B11: Каранадце Диана | C11: 1583.78 | H11: 93 | I11: 93 | K11: 93 | L11: 93 | M11: 93 | N11: 93 | O11: 93 | R11: 93 | S11: 93 | T11: 93 | AB11: =(C11+D11+J11+P11+V11)-(SUM(E11:I11)+SUM(K11:O11)+SUM(Q11:U11)+SUM(W11:AA11)) -> 653.78
A12: 9 | B12: Крац Александр | C12: 21 | D12: 100 | O12: 93 | AB12: =(C12+D12+J12+P12+V12)-(SUM(E12:I12)+SUM(K12:O12)+SUM(Q12:U12)+SUM(W12:AA12)) -> 28
A13: 10 | B13: Круглова Мария | C13: 467.88 | H13: 93 | I13: 93 | K13: 93 | L13: 93 | M13: 93 | N13: 93 | O13: 93 | Q13: 93 | R13: 93 | S13: 93 | T13: 93 | U13: 93 | W13: 93 | X13: 93 | Y13: 93 | AB13: =(C13+D13+J13+P13+V13)-(SUM(E13:I13)+SUM(K13:O13)+SUM(Q13:U13)+SUM(W13:AA13)) -> -927.12
A14: 11 | B14: Кузьмин Степан | C14: 0 | AB14: 0
A15: 12 | B15: Кулинкович Ева | C15: 1439.12 | H15: 93 | I15: 93 | K15: 93 | L15: 93 | M15: 93 | N15: 93 | O15: 93 | Q15: 93 | R15: 93 | S15: 93 | T15: 93 | AB15: =(C15+D15+J15+P15+V15)-(SUM(E15:I15)+SUM(K15:O15)+SUM(Q15:U15)+SUM(W15:AA15)) -> 416.12
A16: 13 | B16: Куст Ольга | C16: -645.88 | D16: 2000 | I16: 93 | K16: 93 | L16: 93 | N16: 93 | O16: 93 | Q16: 93 | T16: 93 | U16: 93 | AB16: =(C16+D16+J16+P16+V16)-(SUM(E16:I16)+SUM(K16:O16)+SUM(Q16:U16)+SUM(W16:AA16)) -> 610.12
A17: 14 | B17: Кученкова Анна | C17: 0 | AB17: =(C17+D17+J17+P17+V17)-(SUM(E17:I17)+SUM(K17:O17)+SUM(Q17:U17)+SUM(W17:AA17)) -> 0
A18: 15 | B18: Ларионова Марина | C18: 0 | AB18: =(C18+D18+J18+P18+V18)-(SUM(E18:I18)+SUM(K18:O18)+SUM(Q18:U18)+SUM(W18:AA18)) -> 0
A19: 16 | B19: Лацузбая Елизавета | C19: 0 | AB19: =(C19+D19+J19+P19+V19)-(SUM(E19:I19)+SUM(K19:O19)+SUM(Q19:U19)+SUM(W19:AA19)) -> 0
A20: 17 | B20: Лызинцев Евгений | C20: -1030.21 | D20: 1000 | I20: 93 | K20: 93 | M20: 93 | O20: 93 | S20: 93 | U20: 93 | W20: 93 | AB20: =(C20+D20+J20+P20+V20)-(SUM(E20:I20)+SUM(K20:O20)+SUM(Q20:U20)+SUM(W20:AA20)) -> -681.21
A21: 18 | B21: Макаренко Влад | C21: 0 | AB21: =(C21+D21+J21+P21+V21)-(SUM(E21:I21)+SUM(K21:O21)+SUM(Q21:U21)+SUM(W21:AA21)) -> 0
A22: 19 | B22: Никонова Алиса | C22: 3211.41 | H22: 93 | I22: 93 | K22: 93 | L22: 93 | M22: 93 | N22: 93 | O22: 93 | Q22: 93 | R22: 93 | U22: 93 | W22: 93 | X22: 93 | Y22: 93 | AB22: =(C22+D22+J22+P22+V22)-(SUM(E22:I22)+SUM(K22:O22)+SUM(Q22:U22)+SUM(W22:AA22)) -> 2002.41
A23: 20 | B23: Пахилина Дарья | C23: 902.23 | H23: 93 | R23: 93 | T23: 93 | U23: 93 | W23: 93 | Y23: 93 | AB23: =(C23+D23+J23+P23+V23)-(SUM(E23:I23)+SUM(K23:O23)+SUM(Q23:U23)+SUM(W23:AA23)) -> 344.23
A24: 21 | B24: Погорелова Таисия | C24: -837 | D24: 837 | I24: 93 | O24: 93 | U24: 93 | AB24: =(C24+D24+J24+P24+V24)-(SUM(E24:I24)+SUM(K24:O24)+SUM(Q24:U24)+SUM(W24:AA24)) -> -279
A25: 22 | B25: Полякова Софья | C25: 1436.51 | H25: 93 | I25: 93 | K25: 93 | L25: 93 | M25: 93 | N25: 93 | O25: 93 | Q25: 93 | R25: 93 | S25: 93 | T25: 93 | U25: 93 | W25: 93 | X25: 93 | Y25: 93 | AB25: =(C25+D25+J25+P25+V25)-(SUM(E25:I25)+SUM(K25:O25)+SUM(Q25:U25)+SUM(W25:AA25)) -> 41.51
A26: 23 | B26: Савенков Станислав | C26: 0 | AB26: =(C26+D26+J26+P26+V26)-(SUM(E26:I26)+SUM(K26:O26)+SUM(Q26:U26)+SUM(W26:AA26)) -> 0
A27: 24 | B27: Седых Алёна | C27: -4836 | H27: 93 | I27: 93 | L27: 93 | M27: 93 | N27: 93 | Q27: 93 | S27: 93 | U27: 93 | AB27: =(C27+D27+J27+P27+V27)-(SUM(E27:I27)+SUM(K27:O27)+SUM(Q27:U27)+SUM(W27:AA27)) -> -5580
A28: 25 | B28: Спасская Софья | C28: 680.47 | D28: 2000 | H28: 93 | I28: 93 | K28: 93 | L28: 93 | M28: 93 | N28: 93 | O28: 93 | Q28: 93 | R28: 93 | S28: 93 | T28: 93 | U28: 93 | W28: 93 | X28: 93 | Y28: 93 | AB28: =(C28+D28+J28+P28+V28)-(SUM(E28:I28)+SUM(K28:O28)+SUM(Q28:U28)+SUM(W28:AA28)) -> 1285.47
A29: 26 | B29: Харольская Софья | C29: -919.97 | AB29: =(C29+D29+J29+P29+V29)-(SUM(E29:I29)+SUM(K29:O29)+SUM(Q29:U29)+SUM(W29:AA29)) -> -919.97
A30: 27 | B30: Чебунина Кристина | C30: 209.58 | D30: 1500 | H30: 93 | I30: 93 | K30: 93 | N30: 93 | AB30: =(C30+D30+J30+P30+V30)-(SUM(E30:I30)+SUM(K30:O30)+SUM(Q30:U30)+SUM(W30:AA30)) -> 1337.58
A31: Сумма к уплате по дням | E31: =SUM(E4:E30) -> 0 | F31: =SUM(F4:F30) -> 0 | G31: =SUM(G4:G30) -> 0 | H31: =SUM(H4:H30) -> 1116 | I31: =SUM(I4:I30) -> 1395 | K31: =SUM(K4:K30) -> 1116 | L31: =SUM(L4:L30) -> 1023 | M31: =SUM(M4:M30) -> 1209 | N31: =SUM(N4:N30) -> 1209 | O31: =SUM(O4:O30) -> 1395 | Q31: =SUM(Q4:Q30) -> 1023 | R31: =SUM(R4:R30) -> 1116 | S31: =SUM(S4:S30) -> 1116 | T31: =SUM(T4:T30) -> 930 | U31: =SUM(U4:U30) -> 1116 | W31: =SUM(W4:W30) -> 930 | X31: =SUM(X4:X30) -> 651 | Y31: =SUM(Y4:Y30) -> 837 | Z31: =SUM(Z4:Z30) -> 0 | AA31: =SUM(AA4:AA30) -> 0
A34: Сумма к зачету столовой на конец месяца (оплачено, но не использовано) | AB34: =SUM(AB4:AB30) -> 810.43

Sheet февраль 2014
A1: № п/п | B1: Ф.И.О. ученика | C1: Сальдо янв. | D1: Внесено | E1: 1-я неделя | J1: Внесено | K1: 2-я неделя | P1: Внесено | Q1: 3-я неделя | V1: Внесено | W1: 4-я неделя | AB1: Сальдо фев.
E2: 3 | F2: 4 | G2: 5 | H2: 6 | I2: 7 | K2: 10 | L2: 11 | M2: 12 | N2: 13 | O2: 14 | Q2: 17 | R2: 18 | S2: 19 | T2: 20 | U2: 21 | W2: 24 | X2: 25 | Y2: 26 | Z2: 27 | AA2: 28
A3: 1 | B3: Баркова Александра | C3: 1362.06 | E3: 93 | F3: 93 | G3: 93 | H3: 93 | I3: 93 | K3: 93 | L3: 93 | M3: 93 | N3: 93 | O3: 93 | Q3: 93 | R3: 93 | S3: 93 | T3: 93 | U3: 93 | W3: 93 | X3: 93 | Y3: 93 | Z3: 93 | AA3: 93 | AB3: =(C3+D3+J3+P3+V3)-(SUM(E3:I3)+SUM(K3:O3)+SUM(Q3:U3)+SUM(W3:AA3)) -> -497.94
A4: 2 | B4: Васильев Сергей | C4: 256.16 | G4: 93 | I4: 93 | K4: 93 | U4: 93 | Y4: 93 | AB4: =(C4+D4+J4+P4+V4)-(SUM(E4:I4)+SUM(K4:O4)+SUM(Q4:U4)+SUM(W4:AA4)) -> -208.84
A5: 3 | B5: Горностаев Владислав | C5: 0 | AB5: =(C5+D5+J5+P5+V5)-(SUM(E5:I5)+SUM(K5:O5)+SUM(Q5:U5)+SUM(W5:AA5)) -> 0
A6: 4 | B6: Дашков Никита | C6: 3197.61 | E6: 93 | G6: 93 | K6: 93 | M6: 93 | S6: 93 | Y6: 93 | Z6: 93 | AB6: =(C6+D6+J6+P6+V6)-(SUM(E6:I6)+SUM(K6:O6)+SUM(Q6:U6)+SUM(W6:AA6)) -> 2546.61
A7: 5 | B7: Девина София | C7: -1563.37 | E7: 93 | F7: 93 | G7: 93 | H7: 93 | I7: 93 | K7: 93 | L7: 93 | M7: 93 | N7: 93 | O7: 93 | Q7: 93 | R7: 93 | S7: 93 | T7: 93 | U7: 93 | W7: 93 | X7: 93 | Y7: 93 | Z7: 93 | AB7: =(C7+D7+J7+P7+V7)-(SUM(E7:I7)+SUM(K7:O7)+SUM(Q7:U7)+SUM(W7:AA7)) -> -3330.37
A8: 6 | B8: Ендерова Марина | C8: -801.39 | G8: 93 | H8: 93 | I8: 93 | K8: 93 | L8: 93 | M8: 93 | N8: 93 | O8: 93 | Q8: 93 | R8: 93 | S8: 93 | T8: 93 | U8: 93 | W8: 93 | X8: 93 | Y8: 93 | Z8: 93 | AA8: 93 | AB8: =(C8+D8+J8+P8+V8)-(SUM(E8:I8)+SUM(K8:O8)+SUM(Q8:U8)+SUM(W8:AA8)) -> -2475.39
A9: 7 | B9: Журавлёв Сергей | C9: 27.44 | E9: 93 | F9: 93 | G9: 93 | H9: 93 | I9: 93 | K9: 93 | L9: 93 | M9: 93 | N9: 93 | O9: 93 | Q9: 93 | R9: 93 | S9: 93 | T9: 93 | U9: 93 | W9: 93 | X9: 93 | Y9: 93 | Z9: 93 | AB9: =(C9+D9+J9+P9+V9)-(SUM(E9:I9)+SUM(K9:O9)+SUM(Q9:U9)+SUM(W9:AA9)) -> -1739.56
A10: 8 | B10: Каранадце Диана | C10: 653.78 | G10: 93 | H10: 93 | I10: 93 | K10: 93 | L10: 93 | M10: 93 | N10: 93 | O10: 93 | Q10: 93 | R10: 93 | S10: 93 | T10: 93 | U10: 93 | X10: 93 | Y10: 93 | Z10: 93 | AA10: 93 | AB10: =(C10+D10+J10+P10+V10)-(SUM(E10:I10)+SUM(K10:O10)+SUM(Q10:U10)+SUM(W10:AA10)) -> -927.22
A11: 9 | B11: Крац Александр | C11: 28 | Q11: 93 | W11: 93 | AB11: =(C11+D11+J11+P11+V11)-(SUM(E11:I11)+SUM(K11:O11)+SUM(Q11:U11)+SUM(W11:AA11)) -> -158
A12: 10 | B12: Круглова Мария | C12: -927.12 | E12: 93 | F12: 93 | G12: 93 | H12: 93 | I12: 93 | K12: 93 | L12: 93 | M12: 93 | O12: 93 | Q12: 93 | R12: 93 | S12: 93 | T12: 93 | U12: 93 | Y12: 93 | Z12: 93 | AA12: 93 | AB12: =(C12+D12+J12+P12+V12)-(SUM(E12:I12)+SUM(K12:O12)+SUM(Q12:U12)+SUM(W12:AA12)) -> -2508.12
A13: 11 | B13: Кузьмин Степан | C13: 0 | O13: 93 | Z13: 93 | AB13: 0
A14: 12 | B14: Кулинкович Ева | C14: 416.12 | E14: 93 | F14: 93 | G14: 93 | H14: 93 | I14: 93 | K14: 93 | L14: 93 | M14: 93 | N14: 93 | O14: 93 | Q14: 93 | R14: 93 | S14: 93 | T14: 93 | U14: 93 | W14: 93 | X14: 93 | Y14: 93 | AB14: =(C14+D14+J14+P14+V14)-(SUM(E14:I14)+SUM(K14:O14)+SUM(Q14:U14)+SUM(W14:AA14)) -> -1257.88
A15: 13 | B15: Куст Ольга | C15: 610.12 | K15: 93 | M15: 93 | O15: 93 | Q15: 93 | T15: 93 | W15: 93 | Y15: 93 | Z15: 93 | AB15: =(C15+D15+J15+P15+V15)-(SUM(E15:I15)+SUM(K15:O15)+SUM(Q15:U15)+SUM(W15:AA15)) -> -133.88
A16: 14 | B16: Кученкова Анна | C16: 0 | AB16: =(C16+D16+J16+P16+V16)-(SUM(E16:I16)+SUM(K16:O16)+SUM(Q16:U16)+SUM(W16:AA16)) -> 0
A17: 15 | B17: Ларионова Марина | C17: 0 | AB17: =(C17+D17+J17+P17+V17)-(SUM(E17:I17)+SUM(K17:O17)+SUM(Q17:U17)+SUM(W17:AA17)) -> 0
A18: 16 | B18: Лацузбая Елизавета | C18: 0 | AB18: =(C18+D18+J18+P18+V18)-(SUM(E18:I18)+SUM(K18:O18)+SUM(Q18:U18)+SUM(W18:AA18)) -> 0
A19: 17 | B19: Лызинцев Евгений | C19: -681.21 | G19: 93 | O19: 93 | R19: 93 | S19: 93 | U19: 93 | Y19: 93 | Z19: 93 | AB19: =(C19+D19+J19+P19+V19)-(SUM(E19:I19)+SUM(K19:O19)+SUM(Q19:U19)+SUM(W19:AA19)) -> -1332.21
A20: 18 | B20: Макаренко Влад | C20: 0 | AB20: =(C20+D20+J20+P20+V20)-(SUM(E20:I20)+SUM(K20:O20)+SUM(Q20:U20)+SUM(W20:AA20)) -> 0
A21: 19 | B21: Никонова Алиса | C21: 2002.41 | E21: 93 | F21: 93 | G21: 93 | H21: 93 | I21: 93 | K21: 93 | L21: 93 | M21: 93 | N21: 93 | O21: 93 | Q21: 93 | R21: 93 | S21: 93 | T21: 93 | U21: 93 | W21: 93 | X21: 93 | Y21: 93 | Z21: 93 | AA21: 93 | AB21: =(C21+D21+J21+P21+V21)-(SUM(E21:I21)+SUM(K21:O21)+SUM(Q21:U21)+SUM(W21:AA21)) -> 142.41
A22: 20 | B22: Пахилина Дарья | C22: 344.23 | E22: 93 | F22: 93 | G22: 93 | K22: 93 | N22: 93 | O22: 93 | Q22: 93 | R22: 93 | S22: 93 | U22: 93 | X22: 93 | Y22: 93 | Z22: 93 | AB22: =(C22+D22+J22+P22+V22)-(SUM(E22:I22)+SUM(K22:O22)+SUM(Q22:U22)+SUM(W22:AA22)) -> -864.77
A23: 21 | B23: Погорелова Таисия | C23: -279 | U23: 93 | AA23: 93 | AB23: =(C23+D23+J23+P23+V23)-(SUM(E23:I23)+SUM(K23:O23)+SUM(Q23:U23)+SUM(W23:AA23)) -> -465
A24: 22 | B24: Полякова Софья | C24: 41.51 | E24: 93 | F24: 93 | G24: 93 | H24: 93 | I24: 93 | K24: 93 | L24: 93 | M24: 93 | N24: 93 | O24: 93 | Q24: 93 | R24: 93 | S24: 93 | T24: 93 | U24: 93 | W24: 93 | X24: 93 | Y24: 93 | Z24: 93 | AA24: 93 | AB24: =(C24+D24+J24+P24+V24)-(SUM(E24:I24)+SUM(K24:O24)+SUM(Q24:U24)+SUM(W24:AA24)) -> -1818.49
A25: 23 | B25: Савенков Станислав | C25: 0 | AB25: =(C25+D25+J25+P25+V25)-(SUM(E25:I25)+SUM(K25:O25)+SUM(Q25:U25)+SUM(W25:AA25)) -> 0
A26: 24 | B26: Седых Алёна | C26: -5580 | H26: 93 | I26: 93 | K26: 93 | M26: 93 | N26: 93 | Q26: 93 | S26: 93 | T26: 93 | U26: 93 | W26: 93 | X26: 93 | AB26: =(C26+D26+J26+P26+V26)-(SUM(E26:I26)+SUM(K26:O26)+SUM(Q26:U26)+SUM(W26:AA26)) -> -6603
A27: 25 | B27: Спасская Софья | C27: 1285.47 | E27: 93 | F27: 93 | G27: 93 | H27: 93 | I27: 93 | K27: 93 | L27: 93 | M27: 93 | N27: 93 | O27: 93 | Q27: 93 | R27: 93 | S27: 93 | T27: 93 | U27: 93 | W27: 93 | X27: 93 | Y27: 93 | Z27: 93 | AA27: 93 | AB27: =(C27+D27+J27+P27+V27)-(SUM(E27:I27)+SUM(K27:O27)+SUM(Q27:U27)+SUM(W27:AA27)) -> -574.53
A28: 26 | B28: Харольская Софья | C28: -919.97 | K28: 93 | O28: 93 | Z28: 93 | AB28: =(C28+D28+J28+P28+V28)-(SUM(E28:I28)+SUM(K28:O28)+SUM(Q28:U28)+SUM(W28:AA28)) -> -1198.97
A29: 27 | B29: Чебунина Кристина | C29: 1337.58 | G29: 93 | K29: 93 | L29: 93 | M29: 93 | N29: 93 | O29: 93 | Q29: 93 | R29: 93 | S29: 93 | T29: 93 | W29: 93 | X29: 93 | Z29: 93 | AA29: 93 | AB29: =(C29+D29+J29+P29+V29)-(SUM(E29:I29)+SUM(K29:O29)+SUM(Q29:U29)+SUM(W29:AA29)) -> 35.58
A30: Сумма к уплате по дням | E30: =SUM(E3:E29) -> 930 | F30: =SUM(F3:F29) -> 837 | G30: =SUM(G3:G29) -> 1395 | H30: =SUM(H3:H29) -> 1023 | I30: =SUM(I3:I29) -> 1116 | K30: =SUM(K3:K29) -> 1581 | L30: =SUM(L3:L29) -> 1023 | M30: =SUM(M3:M29) -> 1302 | N30: =SUM(N3:N29) -> 1116 | O30: =SUM(O3:O29) -> 1488 | Q30: =SUM(Q3:Q29) -> 1395 | R30: =SUM(R3:R29) -> 1209 | S30: =SUM(S3:S29) -> 1395 | T30: =SUM(T3:T29) -> 1209 | U30: =SUM(U3:U29) -> 1395 | W30: =SUM(W3:W29) -> 1116 | X30: =SUM(X3:X29) -> 1116 | Y30: =SUM(Y3:Y29) -> 1395 | Z30: =SUM(Z3:Z29) -> 1488 | AA30: =SUM(AA3:AA29) -> 837
A33: Сумма к зачету столовой на конец месяца (оплачено, но не использовано) | AB33: =SUM(AB3:AB29) -> -23369.57

Sheet март 2014
A1: № п/п | B1: Ф.И.О. ученика | C1: Сальдо фев. | D1: Внесено | E1: 1-я неделя | J1: Внесено | K1: 2-я неделя | P1: Внесено | Q1: 3-я неделя | V1: Внесено | W1: 4-я неделя | AB1: Сальдо мар.
E2: 3 | F2: 4 | G2: 5 | H2: 6 | I2: 7 | K2: 17 | L2: 18 | M2: 19 | N2: 20 | O2: 21 | Q2: 24 | R2: 25 | S2: 26 | T2: 27 | U2: 28 | W2: 31
A3: 1 | B3: Баркова Александра | C3: -497.94 | D3: 2000 | E3: 93 | F3: 93 | G3: 93 | H3: 93 | K3: 93 | L3: 93 | M3: 93 | N3: 93 | Q3: 93 | R3: 93 | S3: 93 | T3: 93 | U3: 93 | W3: 93 | AB3: =(C3+D3+J3+P3+V3)-(SUM(E3:I3)+SUM(K3:O3)+SUM(Q3:U3)+SUM(W3:AA3)) -> 200.06
A4: 2 | B4: Васильев Сергей | C4: -208.84 | D4: 2000 | M4: 93 | AB4: =(C4+D4+J4+P4+V4)-(SUM(E4:I4)+SUM(K4:O4)+SUM(Q4:U4)+SUM(W4:AA4)) -> 1698.16
A5: 3 | B5: Горностаев Владислав | C5: 0 | AB5: =(C5+D5+J5+P5+V5)-(SUM(E5:I5)+SUM(K5:O5)+SUM(Q5:U5)+SUM(W5:AA5)) -> 0
A6: 4 | B6: Дашков Никита | C6: 2546.61 | G6: 93 | M6: 93 | N6: 93 | S6: 93 | AB6: =(C6+D6+J6+P6+V6)-(SUM(E6:I6)+SUM(K6:O6)+SUM(Q6:U6)+SUM(W6:AA6)) -> 2174.61
A7: 5 | B7: Девина София | C7: -3330.37 | D7: 4600 | E7: 93 | F7: 93 | G7: 93 | H7: 93 | K7: 93 | L7: 93 | M7: 93 | N7: 93 | O7: 93 | Q7: 93 | R7: 93 | S7: 93 | T7: 93 | U7: 93 | W7: 93 | AB7: =(C7+D7+J7+P7+V7)-(SUM(E7:I7)+SUM(K7:O7)+SUM(Q7:U7)+SUM(W7:AA7)) -> -125.37
A8: 6 | B8: Ендерова Марина | C8: -2475.39 | D8: 2000 | E8: 93 | F8: 93 | G8: 93 | H8: 93 | K8: 93 | L8: 93 | M8: 93 | N8: 93 | O8: 93 | Q8: 93 | R8: 93 | S8: 93 | T8: 93 | U8: 93 | W8: 93 | AB8: =(C8+D8+J8+P8+V8)-(SUM(E8:I8)+SUM(K8:O8)+SUM(Q8:U8)+SUM(W8:AA8)) -> -1870.39
A9: 7 | B9: Журавлёв Сергей | C9: -1739.56 | D9: 5000 | E9: 93 | F9: 93 | G9: 93 | M9: 93 | N9: 93 | O9: 93 | Q9: 93 | R9: 93 | S9: 93 | T9: 93 | U9: 93 | AB9: =(C9+D9+J9+P9+V9)-(SUM(E9:I9)+SUM(K9:O9)+SUM(Q9:U9)+SUM(W9:AA9)) -> 2237.44
A10: 8 | B10: Каранадце Диана | C10: -927.22 | E10: 93 | F10: 93 | G10: 93 | H10: 93 | K10: 93 | L10: 93 | M10: 93 | N10: 93 | O10: 93 | Q10: 93 | R10: 93 | S10: 93 | T10: 93 | U10: 93 | W10: 93 | AB10: =(C10+D10+J10+P10+V10)-(SUM(E10:I10)+SUM(K10:O10)+SUM(Q10:U10)+SUM(W10:AA10)) -> -2322.22
A11: 9 | B11: Крац Александр | C11: -158 | AB11: =(C11+D11+J11+P11+V11)-(SUM(E11:I11)+SUM(K11:O11)+SUM(Q11:U11)+SUM(W11:AA11)) -> -158
A12: 10 | B12: Круглова Мария | C12: -2508.12 | D12: 4000 | E12: 93 | F12: 93 | G12: 93 | H12: 93 | K12: 93 | L12: 93 | M12: 93 | N12: 93 | O12: 93 | Q12: 93 | R12: 93 | S12: 93 | T12: 93 | U12: 93 | W12: 93 | AB12: =(C12+D12+J12+P12+V12)-(SUM(E12:I12)+SUM(K12:O12)+SUM(Q12:U12)+SUM(W12:AA12)) -> 96.88
A13: 11 | B13: Кузьмин Степан | C13: 0 | AB13: 0
A14: 12 | B14: Кулинкович Ева | C14: -1257.88 | D14: 4000 | K14: 93 | L14: 93 | M14: 93 | N14: 93 | O14: 93 | Q14: 93 | R14: 93 | T14: 93 | U14: 93 | W14: 93 | AB14: =(C14+D14+J14+P14+V14)-(SUM(E14:I14)+SUM(K14:O14)+SUM(Q14:U14)+SUM(W14:AA14)) -> 1812.12
A15: 13 | B15: Куст Ольга | C15: -133.88 | D15: 1000 | AB15: =(C15+D15+J15+P15+V15)-(SUM(E15:I15)+SUM(K15:O15)+SUM(Q15:U15)+SUM(W15:AA15)) -> 866.12
A16: 14 | B16: Кученкова Анна | C16: 0 | AB16: =(C16+D16+J16+P16+V16)-(SUM(E16:I16)+SUM(K16:O16)+SUM(Q16:U16)+SUM(W16:AA16)) -> 0
A17: 15 | B17: Ларионова Марина | C17: 0 | AB17: =(C17+D17+J17+P17+V17)-(SUM(E17:I17)+SUM(K17:O17)+SUM(Q17:U17)+SUM(W17:AA17)) -> 0
A18: 16 | B18: Лацузбая Елизавета | C18: 0 | AB18: =(C18+D18+J18+P18+V18)-(SUM(E18:I18)+SUM(K18:O18)+SUM(Q18:U18)+SUM(W18:AA18)) -> 0
A19: 17 | B19: Лызинцев Евгений | C19: -1332.21 | D19: 2710 | G19: 93 | K19: 93 | M19: 93 | N19: 93 | Q19: 93 | S19: 93 | T19: 93 | AB19: =(C19+D19+J19+P19+V19)-(SUM(E19:I19)+SUM(K19:O19)+SUM(Q19:U19)+SUM(W19:AA19)) -> 726.79
A20: 18 | B20: Макаренко Влад | C20: 0 | AB20: =(C20+D20+J20+P20+V20)-(SUM(E20:I20)+SUM(K20:O20)+SUM(Q20:U20)+SUM(W20:AA20)) -> 0
A21: 19 | B21: Никонова Алиса | C21: 142.41 | D21: 5000 | E21: 93 | F21: 93 | G21: 93 | H21: 93 | K21: 93 | L21: 93 | M21: 93 | N21: 93 | O21: 93 | Q21: 93 | R21: 93 | S21: 93 | T21: 93 | U21: 93 | W21: 93 | AB21: =(C21+D21+J21+P21+V21)-(SUM(E21:I21)+SUM(K21:O21)+SUM(Q21:U21)+SUM(W21:AA21)) -> 3747.41
A22: 20 | B22: Пахилина Дарья | C22: -864.77 | D22: 1000 | E22: 93 | L22: 93 | M22: 93 | N22: 93 | O22: 93 | Q22: 93 | S22: 93 | AB22: =(C22+D22+J22+P22+V22)-(SUM(E22:I22)+SUM(K22:O22)+SUM(Q22:U22)+SUM(W22:AA22)) -> -515.77
A23: 21 | B23: Погорелова Таисия | C23: -465 | AB23: =(C23+D23+J23+P23+V23)-(SUM(E23:I23)+SUM(K23:O23)+SUM(Q23:U23)+SUM(W23:AA23)) -> -465
A24: 22 | B24: Полякова Софья | C24: -1818.49 | D24: 5000 | E24: 93 | F24: 93 | G24: 93 | H24: 93 | I24: 93 | K24: 93 | L24: 93 | M24: 93 | N24: 93 | O24: 93 | Q24: 93 | R24: 93 | S24: 93 | T24: 93 | U24: 93 | W24: 93 | AB24: =(C24+D24+J24+P24+V24)-(SUM(E24:I24)+SUM(K24:O24)+SUM(Q24:U24)+SUM(W24:AA24)) -> 1693.51
A25: 23 | B25: Савенков Станислав | C25: 0 | AB25: =(C25+D25+J25+P25+V25)-(SUM(E25:I25)+SUM(K25:O25)+SUM(Q25:U25)+SUM(W25:AA25)) -> 0
A26: 24 | B26: Седых Алёна | C26: -6603 | D26: 6231 | AB26: =(C26+D26+J26+P26+V26)-(SUM(E26:I26)+SUM(K26:O26)+SUM(Q26:U26)+SUM(W26:AA26)) -> -372
A27: 25 | B27: Спасская Софья | C27: -574.53 | D27: 2000 | E27: 93 | F27: 93 | G27: 93 | H27: 93 | I27: 93 | K27: 93 | L27: 93 | M27: 93 | N27: 93 | O27: 93 | Q27: 93 | R27: 93 | S27: 93 | T27: 93 | U27: 93 | W27: 93 | AB27: =(C27+D27+J27+P27+V27)-(SUM(E27:I27)+SUM(K27:O27)+SUM(Q27:U27)+SUM(W27:AA27)) -> -62.53
A28: 26 | B28: Харольская Софья | C28: -1198.97 | D28: 1000 | AB28: =(C28+D28+J28+P28+V28)-(SUM(E28:I28)+SUM(K28:O28)+SUM(Q28:U28)+SUM(W28:AA28)) -> -198.97
A29: 27 | B29: Чебунина Кристина | C29: 35.58 | D29: 2000 | E29: 93 | F29: 93 | G29: 93 | M29: 93 | S29: 93 | AB29: =(C29+D29+J29+P29+V29)-(SUM(E29:I29)+SUM(K29:O29)+SUM(Q29:U29)+SUM(W29:AA29)) -> 1570.58
A30: Сумма к уплате по дням | E30: =SUM(E3:E29) -> 1023 | F30: =SUM(F3:F29) -> 930 | G30: =SUM(G3:G29) -> 1116 | H30: =SUM(H3:H29) -> 744 | I30: =SUM(I3:I29) -> 186 | K30: =SUM(K3:K29) -> 930 | L30: =SUM(L3:L29) -> 930 | M30: =SUM(M3:M29) -> 1395 | N30: =SUM(N3:N29) -> 1209 | O30: =SUM(O3:O29) -> 930 | Q30: =SUM(Q3:Q29) -> 1116 | R30: =SUM(R3:R29) -> 930 | S30: =SUM(S3:S29) -> 1209 | T30: =SUM(T3:T29) -> 1023 | U30: =SUM(U3:U29) -> 930 | W30: =SUM(W3:W29) -> 837 | X30: =SUM(X3:X29) -> 0 | Y30: =SUM(Y3:Y29) -> 0 | Z30: =SUM(Z3:Z29) -> 0 | AA30: =SUM(AA3:AA29) -> 0
A33: Сумма к зачету столовой на конец месяца (оплачено, но не использовано) | AB33: =SUM(AB3:AB29) -> 10733.43

Sheet апрель 2014
E1: апрель 2014
A2: № п/п | B2: Ф.И.О. ученика | C2: Сальдо март | D2: Внесено | E2: 1-я неделя | J2: Внесено | K2: 2-я неделя | P2: Внесено | Q2: 3-я неделя | V2: Внесено | W2: 4-я неделя | AB2: Внесено | AC2: 5-я неделя | AH2: Сальдо апрель
E3: 1 | F3: 2 | G3: 3 | H3: 4 | K3: 7 | L3: 8 | M3: 9 | N3: 10 | O3: 11 | Q3: 14 | R3: 15 | S3: 16 | T3: 17 | U3: 18 | W3: 21 | X3: 22 | Y3: 23 | Z3: 24 | AA3: 25 | AC3: 28 | AD3: 29 | AE3: 30
A4: 1 | B4: Баркова Александра | C4: 200.06 | E4: 93 | F4: 93 | G4: 93 | H4: 93 | K4: 93 | L4: 93 | M4: 93 | N4: 93 | O4: 93 | Q4: 93 | S4: 93 | T4: 93 | U4: 93 | W4: 93 | X4: 93 | Y4: 93 | Z4: 93 | AA4: 93 | AC4: 93 | AD4: 93 | AH4: =(C4+D4+J4+P4+V4+AB4)-(SUM(E4:I4)+SUM(K4:O4)+SUM(Q4:U4)+SUM(W4:AA4)+SUM(AC4:AG4)) -> -1659.94
A5: 2 | B5: Васильев Сергей | C5: 1698.16 | F5: 93 | H5: 93 | M5: 93 | O5: 93 | S5: 93 | AC5: 93 | AH5: =(C5+D5+J5+P5+V5+AB5)-(SUM(E5:I5)+SUM(K5:O5)+SUM(Q5:U5)+SUM(W5:AA5)+SUM(AC5:AG5)) -> 1140.16
A6: 3 | B6: Горностаев Владислав | C6: 0 | AH6: =(C6+D6+J6+P6+V6+AB6)-(SUM(E6:I6)+SUM(K6:O6)+SUM(Q6:U6)+SUM(W6:AA6)+SUM(AC6:AG6)) -> 0
A7: 4 | B7: Дашков Никита | C7: 2174.61 | F7: 93 | M7: 93 | S7: 93 | Y7: 93 | AC7: 93 | AH7: =(C7+D7+J7+P7+V7+AB7)-(SUM(E7:I7)+SUM(K7:O7)+SUM(Q7:U7)+SUM(W7:AA7)+SUM(AC7:AG7)) -> 1709.61
A8: 5 | B8: Девина София | C8: -125.37 | E8: 93 | F8: 93 | G8: 93 | H8: 93 | K8: 93 | L8: 93 | M8: 93 | N8: 93 | O8: 93 | Q8: 93 | S8: 93 | T8: 93 | U8: 93 | W8: 93 | X8: 93 | Y8: 93 | Z8: 93 | AA8: 93 | AC8: 93 | AD8: 93 | AE8: 93 | AH8: =(C8+D8+J8+P8+V8+AB8)-(SUM(E8:I8)+SUM(K8:O8)+SUM(Q8:U8)+SUM(W8:AA8)+SUM(AC8:AG8)) -> -2078.37
A9: 6 | B9: Ендерова Марина | C9: -1870.39 | E9: 93 | F9: 93 | G9: 93 | H9: 93 | K9: 93 | L9: 93 | M9: 93 | N9: 93 | O9: 93 | Q9: 93 | S9: 93 | T9: 93 | U9: 93 | W9: 93 | X9: 93 | Y9: 93 | Z9: 93 | AA9: 93 | AC9: 93 | AD9: 93 | AH9: =(C9+D9+J9+P9+V9+AB9)-(SUM(E9:I9)+SUM(K9:O9)+SUM(Q9:U9)+SUM(W9:AA9)+SUM(AC9:AG9)) -> -3730.39
A10: 7 | B10: Журавлёв Сергей | C10: 2237.44 | E10: 93 | F10: 93 | K10: 93 | L10: 93 | M10: 93 | N10: 93 | O10: 93 | S10: 93 | T10: 93 | W10: 93 | X10: 93 | Y10: 93 | Z10: 93 | AA10: 93 | AC10: 93 | AD10: 93 | AH10: =(C10+D10+J10+P10+V10+AB10)-(SUM(E10:I10)+SUM(K10:O10)+SUM(Q10:U10)+SUM(W10:AA10)+SUM(AC10:AG10)) -> 749.44
A11: 8 | B11: Каранадце Диана | C11: -2322.22 | E11: 93 | F11: 93 | G11: 93 | H11: 93 | K11: 93 | L11: 93 | M11: 93 | N11: 93 | O11: 93 | Q11: 93 | U11: 93 | W11: 93 | X11: 93 | Y11: 93 | Z11: 93 | AA11: 93 | AH11: =(C11+D11+J11+P11+V11+AB11)-(SUM(E11:I11)+SUM(K11:O11)+SUM(Q11:U11)+SUM(W11:AA11)+SUM(AC11:AG11)) -> -3810.22
A12: 9 | B12: Крац Александр | C12: -158 | AH12: =(C12+D12+J12+P12+V12+AB12)-(SUM(E12:I12)+SUM(K12:O12)+SUM(Q12:U12)+SUM(W12:AA12)+SUM(AC12:AG12)) -> -158
A13: 10 | B13: Круглова Мария | C13: 96.88 | E13: 93 | F13: 93 | G13: 93 | Q13: 93 | S13: 93 | T13: 93 | U13: 93 | W13: 93 | X13: 93 | Z13: 93 | AA13: 93 | AC13: 93 | AD13: 93 | AH13: =(C13+D13+J13+P13+V13+AB13)-(SUM(E13:I13)+SUM(K13:O13)+SUM(Q13:U13)+SUM(W13:AA13)+SUM(AC13:AG13)) -> -1112.12
A14: 11 | B14: Кузьмин Степан | C14: 0 | AH14: =(C14+D14+J14+P14+V14+AB14)-(SUM(E14:I14)+SUM(K14:O14)+SUM(Q14:U14)+SUM(W14:AA14)+SUM(AC14:AG14)) -> 0
A15: 12 | B15: Кулинкович Ева | C15: 1812.12 | E15: 93 | F15: 93 | G15: 93 | H15: 93 | K15: 93 | L15: 93 | Q15: 93 | S15: 93 | T15: 93 | U15: 93 | W15: 93 | X15: 93 | Y15: 93 | Z15: 93 | AA15: 93 | AC15: 93 | AD15: 93 | AE15: 93 | AH15: =(C15+D15+J15+P15+V15+AB15)-(SUM(E15:I15)+SUM(K15:O15)+SUM(Q15:U15)+SUM(W15:AA15)+SUM(AC15:AG15)) -> 138.12
A16: 13 | B16: Куст Ольга | C16: 866.12 | F16: 93 | M16: 93 | S16: 93 | U16: 93 | X16: 93 | AH16: =(C16+D16+J16+P16+V16+AB16)-(SUM(E16:I16)+SUM(K16:O16)+SUM(Q16:U16)+SUM(W16:AA16)+SUM(AC16:AG16)) -> 401.12
A17: 14 | B17: Кученкова Анна | C17: 0 | AH17: =(C17+D17+J17+P17+V17+AB17)-(SUM(E17:I17)+SUM(K17:O17)+SUM(Q17:U17)+SUM(W17:AA17)+SUM(AC17:AG17)) -> 0
A18: 15 | B18: Ларионова Марина | C18: 0 | AH18: =(C18+D18+J18+P18+V18+AB18)-(SUM(E18:I18)+SUM(K18:O18)+SUM(Q18:U18)+SUM(W18:AA18)+SUM(AC18:AG18)) -> 0
A19: 16 | B19: Лацузбая Елизавета | C19: 0 | AH19: =(C19+D19+J19+P19+V19+AB19)-(SUM(E19:I19)+SUM(K19:O19)+SUM(Q19:U19)+SUM(W19:AA19)+SUM(AC19:AG19)) -> 0
A20: 17 | B20: Лызинцев Евгений | C20: 726.79 | E20: 93 | F20: 93 | K20: 93 | M20: 93 | S20: 93 | AD20: 93 | AH20: =(C20+D20+J20+P20+V20+AB20)-(SUM(E20:I20)+SUM(K20:O20)+SUM(Q20:U20)+SUM(W20:AA20)+SUM(AC20:AG20)) -> 168.79
A21: 18 | B21: Макаренко Влад | C21: 0 | AH21: =(C21+D21+J21+P21+V21+AB21)-(SUM(E21:I21)+SUM(K21:O21)+SUM(Q21:U21)+SUM(W21:AA21)+SUM(AC21:AG21)) -> 0
A22: 19 | B22: Никонова Алиса | C22: 3747.41 | E22: 93 | F22: 93 | G22: 93 | H22: 93 | O22: 93 | Q22: 93 | S22: 93 | T22: 93 | U22: 93 | W22: 93 | X22: 93 | Y22: 93 | Z22: 93 | AA22: 93 | AC22: 93 | AD22: 93 | AE22: 93 | AH22: =(C22+D22+J22+P22+V22+AB22)-(SUM(E22:I22)+SUM(K22:O22)+SUM(Q22:U22)+SUM(W22:AA22)+SUM(AC22:AG22)) -> 2166.41
A23: 20 | B23: Пахилина Дарья | C23: -515.77 | E23: 93 | F23: 93 | H23: 93 | K23: 93 | L23: 93 | M23: 93 | N23: 93 | O23: 93 | T23: 93 | W23: 93 | X23: 93 | AH23: =(C23+D23+J23+P23+V23+AB23)-(SUM(E23:I23)+SUM(K23:O23)+SUM(Q23:U23)+SUM(W23:AA23)+SUM(AC23:AG23)) -> -1538.77
A24: 21 | B24: Погорелова Таисия | C24: -465 | AH24: =(C24+D24+J24+P24+V24+AB24)-(SUM(E24:I24)+SUM(K24:O24)+SUM(Q24:U24)+SUM(W24:AA24)+SUM(AC24:AG24)) -> -465
A25: 22 | B25: Полякова Софья | C25: 1693.51 | E25: 93 | F25: 93 | G25: 93 | H25: 93 | K25: 93 | L25: 93 | M25: 93 | N25: 93 | O25: 93 | Q25: 93 | S25: 93 | T25: 93 | U25: 93 | W25: 93 | X25: 93 | Y25: 93 | Z25: 93 | AA25: 93 | AC25: 93 | AD25: 93 | AH25: =(C25+D25+J25+P25+V25+AB25)-(SUM(E25:I25)+SUM(K25:O25)+SUM(Q25:U25)+SUM(W25:AA25)+SUM(AC25:AG25)) -> -166.49
A26: 23 | B26: Савенков Станислав | C26: 0 | AH26: =(C26+D26+J26+P26+V26+AB26)-(SUM(E26:I26)+SUM(K26:O26)+SUM(Q26:U26)+SUM(W26:AA26)+SUM(AC26:AG26)) -> 0
A27: 24 | B27: Седых Алёна | C27: -372 | AH27: =(C27+D27+J27+P27+V27+AB27)-(SUM(E27:I27)+SUM(K27:O27)+SUM(Q27:U27)+SUM(W27:AA27)+SUM(AC27:AG27)) -> -372
A28: 25 | B28: Спасская Софья | C28: -62.53 | E28: 93 | F28: 93 | G28: 93 | H28: 93 | I28: 93 | K28: 93 | L28: 93 | M28: 93 | N28: 93 | O28: 93 | Q28: 93 | S28: 93 | T28: 93 | U28: 93 | W28: 93 | X28: 93 | Y28: 93 | Z28: 93 | AA28: 93 | AC28: 93 | AD28: 93 | AH28: =(C28+D28+J28+P28+V28+AB28)-(SUM(E28:I28)+SUM(K28:O28)+SUM(Q28:U28)+SUM(W28:AA28)+SUM(AC28:AG28)) -> -2015.53
A29: 26 | B29: Харольская Софья | C29: -198.97 | L29: 93 | M29: 93 | N29: 93 | W29: 93 | AH29: =(C29+D29+J29+P29+V29+AB29)-(SUM(E29:I29)+SUM(K29:O29)+SUM(Q29:U29)+SUM(W29:AA29)+SUM(AC29:AG29)) -> -570.97
A30: 27 | B30: Чебунина Кристина | C30: 1570.58 | F30: 93 | G30: 93 | K30: 93 | L30: 93 | N30: 93 | O30: 93 | Q30: 93 | S30: 93 | T30: 93 | U30: 93 | W30: 93 | X30: 93 | Y30: 93 | AC30: 93 | AD30: 93 | AH30: =(C30+D30+J30+P30+V30+AB30)-(SUM(E30:I30)+SUM(K30:O30)+SUM(Q30:U30)+SUM(W30:AA30)+SUM(AC30:AG30)) -> 175.58
A31: Сумма к уплате по дням | E31: =SUM(E4:E30) -> 1116 | F31: =SUM(F4:F30) -> 1488 | G31: =SUM(G4:G30) -> 930 | H31: =SUM(H4:H30) -> 930 | I31: =SUM(I4:I30) -> 93 | K31: =SUM(K4:K30) -> 1023 | L31: =SUM(L4:L30) -> 1023 | M31: =SUM(M4:M30) -> 1209 | N31: =SUM(N4:N30) -> 930 | O31: =SUM(O4:O30) -> 1023 | Q31: =SUM(Q4:Q30) -> 930 | R31: =SUM(R4:R30) -> 0 | S31: =SUM(S4:S30) -> 1302 | T31: =SUM(T4:T30) -> 1023 | U31: =SUM(U4:U30) -> 1023 | W31: =SUM(W4:W30) -> 1209 | X31: =SUM(X4:X30) -> 1209 | Y31: =SUM(Y4:Y30) -> 1023 | Z31: =SUM(Z4:Z30) -> 930 | AA31: =SUM(AA4:AA30) -> 930 | AC31: =SUM(AC4:AC30) -> 1116 | AD31: =SUM(AD4:AD30) -> 1023 | AE31: =SUM(AE4:AE30) -> 279 | AF31: =SUM(AF4:AF30) -> 0 | AG31: =SUM(AG4:AG30) -> 0
A34: Сумма к зачету столовой на конец месяца (оплачено, но не использовано) | AH34: =SUM(AH4:AH30) -> -11028.57

Sheet май 2014
E1: май 2014
A2: № п/п | B2: Ф.И.О. ученика | C2: Сальдо апрель | D2: Внесено | E2: 1-я неделя | J2: Внесено | K2: 2-я неделя | P2: Внесено | Q2: 3-я неделя | V2: Внесено | W2: 4-я неделя | AB2: Внесено | AC2: 5-я неделя | AH2: Сальдо апрель
E3: 5 | F3: 6 | G3: 7 | H3: 8 | K3: 12 | L3: 13 | M3: 14 | N3: 15 | O3: 16 | Q3: 19 | R3: 20 | S3: 21 | T3: 22 | U3: 23
A4: 1 | B4: Баркова Александра | C4: -1659.94 | D4: 2000 | E4: 93 | F4: 93 | G4: 93 | H4: 93 | K4: 93 | L4: 93 | M4: 93 | N4: 93 | O4: 93 | Q4: 93 | S4: 93 | T4: 93 | U4: 93 | AH4: =(C4+D4+J4+P4+AB4)-(SUM(E4:I4)+SUM(K4:O4)+SUM(Q4:U4)+SUM(AC4:AG4)) -> -868.94
A5: 2 | B5: Васильев Сергей | C5: 1140.16 | E5: 93 | M5: 93 | O5: 93 | S5: 93 | U5: 93 | AH5: =(C5+D5+J5+P5+AB5)-(SUM(E5:I5)+SUM(K5:O5)+SUM(Q5:U5)+SUM(AC5:AG5)) -> 675.16
A6: 3 | B6: Горностаев Владислав | C6: 0 | AH6: =(C6+D6+J6+P6+AB6)-(SUM(E6:I6)+SUM(K6:O6)+SUM(Q6:U6)+SUM(AC6:AG6)) -> 0
A7: 4 | B7: Дашков Никита | C7: 1709.61 | M7: 93 | S7: 93 | AH7: =(C7+D7+J7+P7+AB7)-(SUM(E7:I7)+SUM(K7:O7)+SUM(Q7:U7)+SUM(AC7:AG7)) -> 1523.61
A8: 5 | B8: Девина София | C8: -2078.37 | D8: 3000 | E8: 93 | F8: 93 | G8: 93 | H8: 93 | K8: 93 | L8: 93 | M8: 93 | N8: 93 | O8: 93 | Q8: 93 | R8: 93 | S8: 93 | T8: 93 | U8: 93 | AH8: =(C8+D8+J8+P8+AB8)-(SUM(E8:I8)+SUM(K8:O8)+SUM(Q8:U8)+SUM(AC8:AG8)) -> -380.37
A9: 6 | B9: Ендерова Марина | C9: -3730.39 | D9: 3400 | E9: 93 | F9: 93 | G9: 93 | H9: 93 | K9: 93 | L9: 93 | M9: 93 | N9: 93 | O9: 93 | Q9: 93 | R9: 93 | S9: 93 | T9: 93 | U9: 93 | AH9: =(C9+D9+J9+P9+AB9)-(SUM(E9:I9)+SUM(K9:O9)+SUM(Q9:U9)+SUM(AC9:AG9)) -> -1632.39
A10: 7 | B10: Журавлёв Сергей | C10: 749.44 | F10: 93 | K10: 93 | L10: 93 | M10: 93 | N10: 93 | O10: 93 | Q10: 93 | S10: 93 | T10: 93 | U10: 93 | AH10: =(C10+D10+J10+P10+AB10)-(SUM(E10:I10)+SUM(K10:O10)+SUM(Q10:U10)+SUM(AC10:AG10)) -> -180.56
A11: 8 | B11: Каранадце Диана | C11: -3810.22 | D11: 4000 | E11: 93 | F11: 93 | G11: 93 | H11: 93 | K11: 93 | L11: 93 | M11: 93 | N11: 93 | O11: 93 | Q11: 93 | R11: 93 | S11: 93 | T11: 93 | AH11: =(C11+D11+J11+P11+AB11)-(SUM(E11:I11)+SUM(K11:O11)+SUM(Q11:U11)+SUM(AC11:AG11)) -> -1019.22
A12: 9 | B12: Крац Александр | C12: -158 | AH12: =(C12+D12+J12+P12+AB12)-(SUM(E12:I12)+SUM(K12:O12)+SUM(Q12:U12)+SUM(AC12:AG12)) -> -158
A13: 10 | B13: Круглова Мария | C13: -1112.12 | D13: 2000 | F13: 93 | K13: 93 | L13: 93 | M13: 93 | N13: 93 | O13: 93 | Q13: 93 | R13: 93 | S13: 93 | T13: 93 | U13: 93 | AH13: =(C13+D13+J13+P13+AB13)-(SUM(E13:I13)+SUM(K13:O13)+SUM(Q13:U13)+SUM(AC13:AG13)) -> -135.12
A14: 11 | B14: Кузьмин Степан | C14: 0 | AH14: =(C14+D14+J14+P14+AB14)-(SUM(E14:I14)+SUM(K14:O14)+SUM(Q14:U14)+SUM(AC14:AG14)) -> 0
A15: 12 | B15: Кулинкович Ева | C15: 138.12 | D15: 600 | E15: 93 | F15: 93 | H15: 93 | K15: 93 | L15: 93 | M15: 93 | N15: 93 | O15: 93 | Q15: 93 | R15: 93 | S15: 93 | T15: 93 | U15: 93 | AH15: =(C15+D15+J15+P15+AB15)-(SUM(E15:I15)+SUM(K15:O15)+SUM(Q15:U15)+SUM(AC15:AG15)) -> -470.88
A16: 13 | B16: Куст Ольга | C16: 401.12 | E16: 93 | G16: 93 | K16: 93 | M16: 93 | O16: 93 | Q16: 93 | S16: 93 | T16: 93 | AH16: =(C16+D16+J16+P16+AB16)-(SUM(E16:I16)+SUM(K16:O16)+SUM(Q16:U16)+SUM(AC16:AG16)) -> -342.88
A17: 14 | B17: Кученкова Анна | C17: 0 | AH17: 0
A18: 15 | B18: Ларионова Марина | C18: 0 | AH18: 0
A19: 16 | B19: Лацузбая Елизавета | C19: 0 | AH19: 0
A20: 17 | B20: Лызинцев Евгений | C20: 168.79 | G20: 93 | H20: 93 | O20: 93 | Q20: 93 | S20: 93 | T20: 93 | U20: 93 | AH20: =(C20+D20+J20+P20+AB20)-(SUM(E20:I20)+SUM(K20:O20)+SUM(Q20:U20)+SUM(AC20:AG20)) -> -482.21
A21: 18 | B21: Макаренко Влад | C21: 0 | AH21: =(C21+D21+J21+P21+AB21)-(SUM(E21:I21)+SUM(K21:O21)+SUM(Q21:U21)+SUM(AC21:AG21)) -> 0
A22: 19 | B22: Никонова Алиса | C22: 2166.41 | D22: 1500 | E22: 93 | F22: 93 | G22: 93 | H22: 93 | I22: 93 | K22: 93 | L22: 93 | M22: 93 | N22: 93 | O22: 93 | Q22: 93 | R22: 93 | S22: 93 | T22: 93 | AH22: =(C22+D22+J22+P22+AB22)-(SUM(E22:I22)+SUM(K22:O22)+SUM(Q22:U22)+SUM(AC22:AG22)) -> 2364.41
A23: 20 | B23: Пахилина Дарья | C23: -1538.77 | D23: 2000 | F23: 93 | L23: 93 | S23: 93 | T23: 93 | U23: 93 | AH23: =(C23+D23+J23+P23+AB23)-(SUM(E23:I23)+SUM(K23:O23)+SUM(Q23:U23)+SUM(AC23:AG23)) -> -3.77
A24: 21 | B24: Погорелова Таисия | C24: -465 | D24: 465 | AH24: =(C24+D24+J24+P24+AB24)-(SUM(E24:I24)+SUM(K24:O24)+SUM(Q24:U24)+SUM(AC24:AG24)) -> 0
A25: 22 | B25: Полякова Софья | C25: -166.49 | E25: 93 | F25: 93 | G25: 93 | H25: 93 | I25: 93 | K25: 93 | L25: 93 | M25: 93 | N25: 93 | O25: 93 | Q25: 93 | R25: 93 | S25: 93 | T25: 93 | U25: 93 | AH25: =(C25+D25+J25+P25+AB25)-(SUM(E25:I25)+SUM(K25:O25)+SUM(Q25:U25)+SUM(AC25:AG25)) -> -1561.49
A26: 23 | B26: Савенков Станислав | C26: 0 | AH26: =(C26+D26+J26+P26+AB26)-(SUM(E26:I26)+SUM(K26:O26)+SUM(Q26:U26)+SUM(AC26:AG26)) -> 0
A27: 24 | B27: Седых Алёна | C27: 0 | AH27: =(C27+D27+J27+P27+AB27)-(SUM(E27:I27)+SUM(K27:O27)+SUM(Q27:U27)+SUM(AC27:AG27)) -> 0
A28: 25 | B28: Спасская Софья | C28: -2015.53 | D28: 2000 | E28: 93 | F28: 93 | G28: 93 | H28: 93 | I28: 93 | K28: 93 | L28: 93 | M28: 93 | N28: 93 | O28: 93 | Q28: 93 | R28: 93 | S28: 93 | T28: 93 | U28: 93 | AH28: =(C28+D28+J28+P28+AB28)-(SUM(E28:I28)+SUM(K28:O28)+SUM(Q28:U28)+SUM(AC28:AG28)) -> -1410.53
A29: 26 | B29: Харольская Софья | C29: -570.97 | D29: 500 | T29: 93 | AH29: =(C29+D29+J29+P29+AB29)-(SUM(E29:I29)+SUM(K29:O29)+SUM(Q29:U29)+SUM(AC29:AG29)) -> -163.97
A30: 27 | B30: Чебунина Кристина | C30: 175.58 | E30: 93 | F30: 93 | G30: 93 | H30: 93 | I30: 93 | K30: 93 | L30: 93 | M30: 93 | N30: 93 | O30: 93 | Q30: 93 | R30: 93 | S30: 93 | AH30: =(C30+D30+J30+P30+AB30)-(SUM(E30:I30)+SUM(K30:O30)+SUM(Q30:U30)+SUM(AC30:AG30)) -> -1033.42
A31: Сумма к уплате по дням | E31: =SUM(E4:E30) -> 1023 | F31: =SUM(F4:F30) -> 1116 | G31: =SUM(G4:G30) -> 930 | H31: =SUM(H4:H30) -> 930 | I31: =SUM(I4:I30) -> 372 | K31: =SUM(K4:K30) -> 1116 | L31: =SUM(L4:L30) -> 1116 | M31: =SUM(M4:M30) -> 1302 | N31: =SUM(N4:N30) -> 1023 | O31: =SUM(O4:O30) -> 1302 | Q31: =SUM(Q4:Q30) -> 1209 | R31: =SUM(R4:R30) -> 837 | S31: =SUM(S4:S30) -> 1488 | T31: =SUM(T4:T30) -> 1302 | U31: =SUM(U4:U30) -> 1023 | W31: =SUM(W4:W30) -> 0 | X31: =SUM(X4:X30) -> 0 | Y31: =SUM(Y4:Y30) -> 0 | Z31: =SUM(Z4:Z30) -> 0 | AA31: =SUM(AA4:AA30) -> 0 | AC31: =SUM(AC4:AC30) -> 0 | AD31: =SUM(AD4:AD30) -> 0 | AE31: =SUM(AE4:AE30) -> 0 | AF31: =SUM(AF4:AF30) -> 0 | AG31: =SUM(AG4:AG30) -> 0
A34: Сумма к зачету столовой на конец месяца (оплачено, но не использовано) | AH34: =SUM(AH4:AH30) -> -5280.57

Sheet сентябрь 2014
E1: сентябрь 2014
A2: № п/п | B2: Ф.И.О. ученика | C2: Сальдо май | D2: Внесено | E2: 1-я неделя | J2: Внесено | K2: 2-я неделя | P2: Внесено | Q2: 3-я неделя | V2: Внесено | W2: 4-я неделя | AB2: Внесено | AC2: 5-я неделя | AH2: Сальдо сентябрь
E3: 1 | F3: 2 | G3: 3 | H3: 4 | I3: 5 | K3: 8 | L3: 9 | M3: 10 | N3: 11 | O3: 12 | Q3: 15 | R3: 16 | S3: 17 | T3: 18 | U3: 19 | W3: 22 | X3: 23 | Y3: 24 | Z3: 25 | AA3: 26 | AC3: 29 | AD3: 30
A4: 1 | B4: Баркова Александра | C4: -868.94 | D4: 2000 | E4: 93 | F4: 93 | G4: 93 | H4: 93 | I4: 93 | K4: 93 | L4: 93 | M4: 93 | N4: 93 | O4: 93 | Q4: 93 | R4: 93 | S4: 93 | T4: 93 | U4: 93 | W4: 93 | X4: 93 | Y4: 93 | Z4: 93 | AA4: 93 | AC4: 93 | AD4: 93 | AH4: =(C4+D4+J4+P4+V4+AB4)-(SUM(E4:I4)+SUM(K4:O4)+SUM(Q4:U4)+SUM(W4:AA4)+SUM(AC4:AG4)) -> -914.94
A5: 2 | B5: Васильев Сергей | C5: 675.16 | D5: 1000 | F5: 93 | H5: 93 | L5: 93 | N5: 93 | R5: 93 | T5: 93 | X5: 93 | Z5: 93 | AD5: 93 | AH5: =(C5+D5+J5+P5+V5+AB5)-(SUM(E5:I5)+SUM(K5:O5)+SUM(Q5:U5)+SUM(W5:AA5)+SUM(AC5:AG5)) -> 838.16
A6: 3 | B6: Горностаев Владислав | C6: 0 | AH6: =(C6+D6+J6+P6+V6+AB6)-(SUM(E6:I6)+SUM(K6:O6)+SUM(Q6:U6)+SUM(W6:AA6)+SUM(AC6:AG6)) -> 0
A7: 4 | B7: Дашков Никита | C7: 1523.61 | E7: 93 | G7: 93 | K7: 93 | M7: 93 | Q7: 93 | S7: 93 | W7: 93 | Y7: 93 | AC7: 93 | AH7: =(C7+D7+J7+P7+V7+AB7)-(SUM(E7:I7)+SUM(K7:O7)+SUM(Q7:U7)+SUM(W7:AA7)+SUM(AC7:AG7)) -> 686.61
A8: 5 | B8: Девина София | C8: -380.37 | E8: 93 | F8: 93 | G8: 93 | H8: 93 | I8: 93 | K8: 93 | L8: 93 | M8: 93 | N8: 93 | O8: 93 | Q8: 93 | R8: 93 | S8: 93 | T8: 93 | U8: 93 | W8: 93 | X8: 93 | Y8: 93 | Z8: 93 | AA8: 93 | AC8: 93 | AD8: 93 | AH8: =(C8+D8+J8+P8+V8+AB8)-(SUM(E8:I8)+SUM(K8:O8)+SUM(Q8:U8)+SUM(W8:AA8)+SUM(AC8:AG8)) -> -2426.37
A9: 6 | B9: Ендерова Марина | C9: -1632.39 | D9: 2000 | E9: 93 | F9: 93 | G9: 93 | H9: 93 | I9: 93 | K9: 93 | L9: 93 | M9: 93 | N9: 93 | O9: 93 | Q9: 93 | R9: 93 | S9: 93 | T9: 93 | U9: 93 | W9: 93 | X9: 93 | Y9: 93 | Z9: 93 | AA9: 93 | AC9: 93 | AD9: 93 | AH9: =(C9+D9+J9+P9+V9+AB9)-(SUM(E9:I9)+SUM(K9:O9)+SUM(Q9:U9)+SUM(W9:AA9)+SUM(AC9:AG9)) -> -1678.39
A10: 7 | B10: Журавлёв Сергей | C10: -180.56 | E10: 93 | F10: 93 | G10: 93 | H10: 93 | I10: 93 | K10: 93 | L10: 93 | M10: 93 | N10: 93 | O10: 93 | Q10: 93 | R10: 93 | S10: 93 | T10: 93 | U10: 93 | W10: 93 | X10: 93 | Y10: 93 | Z10: 93 | AA10: 93 | AC10: 93 | AD10: 93 | AH10: =(C10+D10+J10+P10+V10+AB10)-(SUM(E10:I10)+SUM(K10:O10)+SUM(Q10:U10)+SUM(W10:AA10)+SUM(AC10:AG10)) -> -2226.56
A11: 8 | B11: Каранадце Диана | C11: -1019.22 | D11: 1000 | E11: 93 | F11: 93 | G11: 93 | H11: 93 | I11: 93 | K11: 93 | L11: 93 | M11: 93 | N11: 93 | O11: 93 | Q11: 93 | R11: 93 | S11: 93 | T11: 93 | U11: 93 | W11: 93 | X11: 93 | Y11: 93 | Z11: 93 | AA11: 93 | AC11: 93 | AD11: 93 | AH11: =(C11+D11+J11+P11+V11+AB11)-(SUM(E11:I11)+SUM(K11:O11)+SUM(Q11:U11)+SUM(W11:AA11)+SUM(AC11:AG11)) -> -2065.22
A12: 9 | B12: Крац Александр | C12: -158 | AH12: =(C12+D12+J12+P12+V12+AB12)-(SUM(E12:I12)+SUM(K12:O12)+SUM(Q12:U12)+SUM(W12:AA12)+SUM(AC12:AG12)) -> -158
A13: 10 | B13: Круглова Мария | C13: -135.12 | D13: 1000 | E13: 93 | F13: 93 | G13: 93 | H13: 93 | I13: 93 | K13: 93 | L13: 93 | M13: 93 | N13: 93 | O13: 93 | Q13: 93 | R13: 93 | S13: 93 | T13: 93 | U13: 93 | W13: 93 | X13: 93 | Y13: 93 | Z13: 93 | AA13: 93 | AC13: 93 | AD13: 93 | AH13: =(C13+D13+J13+P13+V13+AB13)-(SUM(E13:I13)+SUM(K13:O13)+SUM(Q13:U13)+SUM(W13:AA13)+SUM(AC13:AG13)) -> -1181.12
A14: 11 | B14: Балашов Степан | C14: 0 | D14: 500 | AH14: =(C14+D14+J14+P14+V14+AB14)-(SUM(E14:I14)+SUM(K14:O14)+SUM(Q14:U14)+SUM(W14:AA14)+SUM(AC14:AG14)) -> 500
A15: 12 | B15: Кулинкович Ева | C15: -470.88 | D15: 5000 | E15: 93 | F15: 93 | G15: 93 | H15: 93 | I15: 93 | K15: 93 | L15: 93 | M15: 93 | N15: 93 | O15: 93 | Q15: 93 | R15: 93 | S15: 93 | T15: 93 | U15: 93 | W15: 93 | X15: 93 | Y15: 93 | Z15: 93 | AA15: 93 | AC15: 93 | AD15: 93 | AH15: =(C15+D15+J15+P15+V15+AB15)-(SUM(E15:I15)+SUM(K15:O15)+SUM(Q15:U15)+SUM(W15:AA15)+SUM(AC15:AG15)) -> 2483.12
A16: 13 | B16: Куст Ольга | C16: -342.88 | D16: 2500 | E16: 93 | F16: 93 | G16: 93 | H16: 93 | I16: 93 | K16: 93 | L16: 93 | M16: 93 | N16: 93 | O16: 93 | Q16: 93 | R16: 93 | S16: 93 | T16: 93 | U16: 93 | W16: 93 | X16: 93 | Y16: 93 | Z16: 93 | AA16: 93 | AC16: 93 | AD16: 93 | AH16: =(C16+D16+J16+P16+V16+AB16)-(SUM(E16:I16)+SUM(K16:O16)+SUM(Q16:U16)+SUM(W16:AA16)+SUM(AC16:AG16)) -> 111.12
A17: 14 | B17: Кученкова Анна | C17: 0 | AH17: =(C17+D17+J17+P17+V17+AB17)-(SUM(E17:I17)+SUM(K17:O17)+SUM(Q17:U17)+SUM(W17:AA17)+SUM(AC17:AG17)) -> 0
A18: 15 | B18: Ларионова Марина | C18: 0 | AH18: =(C18+D18+J18+P18+V18+AB18)-(SUM(E18:I18)+SUM(K18:O18)+SUM(Q18:U18)+SUM(W18:AA18)+SUM(AC18:AG18)) -> 0
A19: 16 | B19: Лацузбая Елизавета | C19: 0 | AH19: =(C19+D19+J19+P19+V19+AB19)-(SUM(E19:I19)+SUM(K19:O19)+SUM(Q19:U19)+SUM(W19:AA19)+SUM(AC19:AG19)) -> 0
A20: 17 | B20: Лызинцев Евгений | C20: -482.21 | AH20: =(C20+D20+J20+P20+V20+AB20)-(SUM(E20:I20)+SUM(K20:O20)+SUM(Q20:U20)+SUM(W20:AA20)+SUM(AC20:AG20)) -> -482.21
A21: 18 | B21: Макаренко Влад | C21: 0 | AH21: =(C21+D21+J21+P21+V21+AB21)-(SUM(E21:I21)+SUM(K21:O21)+SUM(Q21:U21)+SUM(W21:AA21)+SUM(AC21:AG21)) -> 0
A22: 19 | B22: Никонова Алиса | C22: 2364.41 | E22: 93 | F22: 93 | G22: 93 | H22: 93 | I22: 93 | K22: 93 | L22: 93 | M22: 93 | N22: 93 | O22: 93 | Q22: 93 | R22: 93 | S22: 93 | T22: 93 | U22: 93 | W22: 93 | X22: 93 | Y22: 93 | Z22: 93 | AA22: 93 | AC22: 93 | AD22: 93 | AH22: =(C22+D22+J22+P22+V22+AB22)-(SUM(E22:I22)+SUM(K22:O22)+SUM(Q22:U22)+SUM(W22:AA22)+SUM(AC22:AG22)) -> 318.41
A23: 20 | B23: Пахилина Дарья | C23: -3.77 | E23: 93 | F23: 93 | G23: 93 | H23: 93 | I23: 93 | K23: 93 | L23: 93 | M23: 93 | N23: 93 | O23: 93 | Q23: 93 | R23: 93 | S23: 93 | T23: 93 | U23: 93 | W23: 93 | X23: 93 | Y23: 93 | Z23: 93 | AA23: 93 | AC23: 93 | AD23: 93 | AH23: =(C23+D23+J23+P23+V23+AB23)-(SUM(E23:I23)+SUM(K23:O23)+SUM(Q23:U23)+SUM(W23:AA23)+SUM(AC23:AG23)) -> -2049.77
A24: 21 | B24: Погорелова Таисия | C24: 0 | D24: 360 | F24: 93 | I24: 93 | L24: 93 | O24: 93 | R24: 93 | U24: 93 | X24: 93 | AA24: 93 | AD24: 93 | AH24: =(C24+D24+J24+P24+V24+AB24)-(SUM(E24:I24)+SUM(K24:O24)+SUM(Q24:U24)+SUM(W24:AA24)+SUM(AC24:AG24)) -> -477
A25: 22 | B25: Полякова Софья | C25: -1561.49 | D25: 3000 | E25: 93 | F25: 93 | G25: 93 | H25: 93 | I25: 93 | K25: 93 | L25: 93 | M25: 93 | N25: 93 | O25: 93 | Q25: 93 | R25: 93 | S25: 93 | T25: 93 | U25: 93 | W25: 93 | X25: 93 | Y25: 93 | Z25: 93 | AA25: 93 | AC25: 93 | AD25: 93 | AH25: =(C25+D25+J25+P25+V25+AB25)-(SUM(E25:I25)+SUM(K25:O25)+SUM(Q25:U25)+SUM(W25:AA25)+SUM(AC25:AG25)) -> -607.49
A26: 23 | B26: Евсюков Сергей | C26: 0 | D26: 1000 | AH26: =(C26+D26+J26+P26+V26+AB26)-(SUM(E26:I26)+SUM(K26:O26)+SUM(Q26:U26)+SUM(W26:AA26)+SUM(AC26:AG26)) -> 1000
A27: 24 | B27: Седых Алёна | C27: 0 | D27: 1000 | E27: 93 | F27: 93 | G27: 93 | H27: 93 | I27: 93 | K27: 93 | L27: 93 | M27: 93 | N27: 93 | O27: 93 | Q27: 93 | R27: 93 | S27: 93 | T27: 93 | U27: 93 | W27: 93 | X27: 93 | Y27: 93 | Z27: 93 | AA27: 93 | AC27: 93 | AD27: 93 | AH27: =(C27+D27+J27+P27+V27+AB27)-(SUM(E27:I27)+SUM(K27:O27)+SUM(Q27:U27)+SUM(W27:AA27)+SUM(AC27:AG27)) -> -1046
A28: 25 | B28: Спасская Софья | C28: -1410.53 | E28: 93 | F28: 93 | G28: 93 | H28: 93 | I28: 93 | K28: 93 | L28: 93 | M28: 93 | N28: 93 | O28: 93 | Q28: 93 | R28: 93 | S28: 93 | T28: 93 | U28: 93 | W28: 93 | X28: 93 | Y28: 93 | Z28: 93 | AA28: 93 | AC28: 93 | AD28: 93 | AH28: =(C28+D28+J28+P28+V28+AB28)-(SUM(E28:I28)+SUM(K28:O28)+SUM(Q28:U28)+SUM(W28:AA28)+SUM(AC28:AG28)) -> -3456.53
A29: 26 | B29: Харольская Софья | C29: -163.97 | E29: 93 | F29: 93 | G29: 93 | H29: 93 | I29: 93 | K29: 93 | L29: 93 | M29: 93 | N29: 93 | O29: 93 | Q29: 93 | R29: 93 | S29: 93 | T29: 93 | U29: 93 | W29: 93 | X29: 93 | Y29: 93 | Z29: 93 | AA29: 93 | AC29: 93 | AD29: 93 | AH29: =(C29+D29+J29+P29+V29+AB29)-(SUM(E29:I29)+SUM(K29:O29)+SUM(Q29:U29)+SUM(W29:AA29)+SUM(AC29:AG29)) -> -2209.97
A30: 27 | B30: Чебунина Кристина | C30: -1033.42 | D30: 1000 | E30: 93 | F30: 93 | G30: 93 | H30: 93 | I30: 93 | K30: 93 | L30: 93 | M30: 93 | N30: 93 | O30: 93 | Q30: 93 | R30: 93 | S30: 93 | T30: 93 | U30: 93 | W30: 93 | X30: 93 | Y30: 93 | Z30: 93 | AA30: 93 | AC30: 93 | AD30: 93 | AH30: =(C30+D30+J30+P30+V30+AB30)-(SUM(E30:I30)+SUM(K30:O30)+SUM(Q30:U30)+SUM(W30:AA30)+SUM(AC30:AG30)) -> -2079.42
A31: Сумма к уплате по дням | E31: =SUM(E4:E30) -> 1488 | F31: =SUM(F4:F30) -> 1581 | G31: =SUM(G4:G30) -> 1488 | H31: =SUM(H4:H30) -> 1488 | I31: =SUM(I4:I30) -> 1488 | K31: =SUM(K4:K30) -> 1488 | L31: =SUM(L4:L30) -> 1581 | M31: =SUM(M4:M30) -> 1488 | N31: =SUM(N4:N30) -> 1488 | O31: =SUM(O4:O30) -> 1488 | Q31: =SUM(Q4:Q30) -> 1488 | R31: =SUM(R4:R30) -> 1581 | S31: =SUM(S4:S30) -> 1488 | T31: =SUM(T4:T30) -> 1488 | U31: =SUM(U4:U30) -> 1488 | W31: =SUM(W4:W30) -> 1488 | X31: =SUM(X4:X30) -> 1581 | Y31: =SUM(Y4:Y30) -> 1488 | Z31: =SUM(Z4:Z30) -> 1488 | AA31: =SUM(AA4:AA30) -> 1488 | AC31: =SUM(AC4:AC30) -> 1488 | AD31: =SUM(AD4:AD30) -> 1581 | AE31: =SUM(AE4:AE30) -> 0 | AF31: =SUM(AF4:AF30) -> 0 | AG31: =SUM(AG4:AG30) -> 0
A34: Сумма к зачету столовой на конец месяца (оплачено, но не использовано) | AH34: =SUM(AH4:AH30) -> -17121.57

Sheet октябрь 2014
E1: октябрь 2014
A2: № п/п | B2: Ф.И.О. ученика | C2: Сальдо сентябрь | D2: Внесено | E2: 1-я неделя | J2: Внесено | K2: 2-я неделя | P2: Внесено | Q2: 3-я неделя | V2: Внесено | W2: 4-я неделя | AB2: Внесено | AC2: 5-я неделя | AH2: Сальдо октябрь
G3: 1 | H3: 2 | I3: 3 | K3: 6 | L3: 7 | M3: 8 | N3: 9 | O3: 10 | Q3: 13 | R3: 14 | S3: 15 | T3: 16 | U3: 17 | W3: 20 | X3: 21 | Y3: 22 | Z3: 23 | AA3: 24 | AC3: 27 | AD3: 28
A4: 1 | B4: Баркова Александра | C4: -914.94 | D4: 3571.2 | G4: 93 | H4: 93 | I4: 93 | K4: 93 | L4: 93 | M4: 93 | N4: 93 | O4: 93 | Q4: 93 | R4: 93 | S4: 93 | T4: 93 | U4: 93 | W4: 93 | X4: 93 | Y4: 93 | Z4: 93 | AA4: 93 | AC4: 93 | AD4: 93 | AH4: =(C4+D4+J4+P4+V4+AB4)-(SUM(E4:I4)+SUM(K4:O4)+SUM(Q4:U4)+SUM(W4:AA4)+SUM(AC4:AG4)) -> 796.26
A5: 2 | B5: Васильев Сергей | C5: 838.16 | G5: 93 | H5: 93 | I5: 93 | L5: 93 | M5: 93 | N5: 93 | O5: 93 | R5: 93 | S5: 93 | T5: 93 | U5: 93 | X5: 93 | Y5: 93 | Z5: 93 | AA5: 93 | AD5: 93 | AH5: =(C5+D5+J5+P5+V5+AB5)-(SUM(E5:I5)+SUM(K5:O5)+SUM(Q5:U5)+SUM(W5:AA5)+SUM(AC5:AG5)) -> -649.84
A6: 3 | B6: Горностаев Владислав | C6: 0 | AH6: =(C6+D6+J6+P6+V6+AB6)-(SUM(E6:I6)+SUM(K6:O6)+SUM(Q6:U6)+SUM(W6:AA6)+SUM(AC6:AG6)) -> 0
A7: 4 | B7: Дашков Никита | C7: 686.61 | G7: 93 | H7: 93 | I7: 93 | K7: 93 | L7: 93 | M7: 93 | N7: 93 | O7: 93 | Q7: 93 | R7: 93 | S7: 93 | T7: 93 | U7: 93 | W7: 93 | X7: 93 | Y7: 93 | AH7: =(C7+D7+J7+P7+V7+AB7)-(SUM(E7:I7)+SUM(K7:O7)+SUM(Q7:U7)+SUM(W7:AA7)+SUM(AC7:AG7)) -> -801.39
A8: 5 | B8: Девина София | C8: -2426.37 | D8: 5000 | G8: 93 | H8: 93 | I8: 93 | K8: 93 | L8: 93 | M8: 93 | N8: 93 | O8: 93 | Q8: 93 | R8: 93 | S8: 93 | T8: 93 | U8: 93 | W8: 93 | X8: 93 | Y8: 93 | Z8: 93 | AA8: 93 | AC8: 93 | AD8: 93 | AH8: =(C8+D8+J8+P8+V8+AB8)-(SUM(E8:I8)+SUM(K8:O8)+SUM(Q8:U8)+SUM(W8:AA8)+SUM(AC8:AG8)) -> 713.63
A9: 6 | B9: Ендерова Марина | C9: -1678.39 | D9: 5000 | G9: 93 | H9: 93 | I9: 93 | K9: 93 | L9: 93 | M9: 93 | N9: 93 | O9: 93 | Q9: 93 | R9: 93 | S9: 93 | T9: 93 | U9: 93 | W9: 93 | X9: 93 | Y9: 93 | Z9: 93 | AA9: 93 | AC9: 93 | AD9: 93 | AH9: =(C9+D9+J9+P9+V9+AB9)-(SUM(E9:I9)+SUM(K9:O9)+SUM(Q9:U9)+SUM(W9:AA9)+SUM(AC9:AG9)) -> 1461.61
A10: 7 | B10: Журавлёв Сергей | C10: -2226.56 | D10: 5000 | G10: 93 | H10: 93 | I10: 93 | K10: 93 | L10: 93 | M10: 93 | N10: 93 | O10: 93 | Q10: 93 | R10: 93 | S10: 93 | T10: 93 | U10: 93 | W10: 93 | X10: 93 | Y10: 93 | Z10: 93 | AA10: 93 | AC10: 93 | AD10: 93 | AH10: =(C10+D10+J10+P10+V10+AB10)-(SUM(E10:I10)+SUM(K10:O10)+SUM(Q10:U10)+SUM(W10:AA10)+SUM(AC10:AG10)) -> 913.44
A11: 8 | B11: Каранадце Диана | C11: -2065.22 | D11: 5000 | G11: 93 | H11: 93 | I11: 93 | K11: 93 | L11: 93 | M11: 93 | N11: 93 | O11: 93 | Q11: 93 | R11: 93 | S11: 93 | T11: 93 | U11: 93 | W11: 93 | X11: 93 | Y11: 93 | Z11: 93 | AA11: 93 | AC11: 93 | AD11: 93 | AH11: =(C11+D11+J11+P11+V11+AB11)-(SUM(E11:I11)+SUM(K11:O11)+SUM(Q11:U11)+SUM(W11:AA11)+SUM(AC11:AG11)) -> 1074.78
A12: 9 | B12: Крац Александр | C12: 0 | AH12: =(C12+D12+J12+P12+V12+AB12)-(SUM(E12:I12)+SUM(K12:O12)+SUM(Q12:U12)+SUM(W12:AA12)+SUM(AC12:AG12)) -> 0
A13: 10 | B13: Круглова Мария | C13: -1181.12 | D13: 3000 | G13: 93 | H13: 93 | I13: 93 | K13: 93 | L13: 93 | M13: 93 | N13: 93 | O13: 93 | Q13: 93 | R13: 93 | S13: 93 | T13: 93 | U13: 93 | W13: 93 | X13: 93 | Y13: 93 | Z13: 93 | AA13: 93 | AC13: 93 | AD13: 93 | AH13: =(C13+D13+J13+P13+V13+AB13)-(SUM(E13:I13)+SUM(K13:O13)+SUM(Q13:U13)+SUM(W13:AA13)+SUM(AC13:AG13)) -> -41.12
A14: 11 | B14: Балашов Степан | C14: 500 | AH14: =(C14+D14+J14+P14+V14+AB14)-(SUM(E14:I14)+SUM(K14:O14)+SUM(Q14:U14)+SUM(W14:AA14)+SUM(AC14:AG14)) -> 500
A15: 12 | B15: Кулинкович Ева | C15: 2483.12 | G15: 93 | H15: 93 | I15: 93 | K15: 93 | L15: 93 | M15: 93 | N15: 93 | O15: 93 | Q15: 93 | R15: 93 | S15: 93 | T15: 93 | U15: 93 | W15: 93 | X15: 93 | Y15: 93 | Z15: 93 | AA15: 93 | AC15: 93 | AD15: 93 | AH15: =(C15+D15+J15+P15+V15+AB15)-(SUM(E15:I15)+SUM(K15:O15)+SUM(Q15:U15)+SUM(W15:AA15)+SUM(AC15:AG15)) -> 623.12
A16: 13 | B16: Куст Ольга | C16: 111.12 | D16: 2500 | G16: 93 | I16: 93 | L16: 93 | M16: 93 | O16: 93 | R16: 93 | S16: 93 | U16: 93 | X16: 93 | Y16: 93 | AA16: 93 | AD16: 93 | AH16: =(C16+D16+J16+P16+V16+AB16)-(SUM(E16:I16)+SUM(K16:O16)+SUM(Q16:U16)+SUM(W16:AA16)+SUM(AC16:AG16)) -> 1495.12
A17: 14 | B17: Кученкова Анна | C17: 0 | AH17: =(C17+D17+J17+P17+V17+AB17)-(SUM(E17:I17)+SUM(K17:O17)+SUM(Q17:U17)+SUM(W17:AA17)+SUM(AC17:AG17)) -> 0
A18: 15 | B18: Ларионова Марина | C18: 0 | AH18: =(C18+D18+J18+P18+V18+AB18)-(SUM(E18:I18)+SUM(K18:O18)+SUM(Q18:U18)+SUM(W18:AA18)+SUM(AC18:AG18)) -> 0
A19: 16 | B19: Лацузбая Елизавета | C19: 0 | AH19: =(C19+D19+J19+P19+V19+AB19)-(SUM(E19:I19)+SUM(K19:O19)+SUM(Q19:U19)+SUM(W19:AA19)+SUM(AC19:AG19)) -> 0
A20: 17 | B20: Лызинцев Евгений | C20: -482.21 | D20: 2000 | I20: 93 | L20: 93 | O20: 93 | R20: 93 | U20: 93 | X20: 93 | AA20: 93 | AD20: 93 | AH20: =(C20+D20+J20+P20+V20+AB20)-(SUM(E20:I20)+SUM(K20:O20)+SUM(Q20:U20)+SUM(W20:AA20)+SUM(AC20:AG20)) -> 773.79
A21: 18 | B21: Макаренко Влад | C21: 0 | AH21: =(C21+D21+J21+P21+V21+AB21)-(SUM(E21:I21)+SUM(K21:O21)+SUM(Q21:U21)+SUM(W21:AA21)+SUM(AC21:AG21)) -> 0
A22: 19 | B22: Никонова Алиса | C22: 318.41 | D22: 1500 | G22: 93 | H22: 93 | I22: 93 | K22: 93 | L22: 93 | M22: 93 | N22: 93 | O22: 93 | Q22: 93 | R22: 93 | S22: 93 | T22: 93 | U22: 93 | W22: 93 | X22: 93 | Y22: 93 | Z22: 93 | AA22: 93 | AB22: 2000 | AC22: 93 | AD22: 93 | AH22: =(C22+D22+J22+P22+V22+AB22)-(SUM(E22:I22)+SUM(K22:O22)+SUM(Q22:U22)+SUM(W22:AA22)+SUM(AC22:AG22)) -> 1958.41
A23: 20 | B23: Пахилина Дарья | C23: -2049.77 | D23: 3000 | G23: 93 | H23: 93 | I23: 93 | K23: 93 | L23: 93 | M23: 93 | N23: 93 | O23: 93 | Q23: 93 | R23: 93 | S23: 93 | T23: 93 | U23: 93 | W23: 93 | X23: 93 | Y23: 93 | Z23: 93 | AA23: 93 | AB23: 2500 | AC23: 93 | AD23: 93 | AH23: =(C23+D23+J23+P23+V23+AB23)-(SUM(E23:I23)+SUM(K23:O23)+SUM(Q23:U23)+SUM(W23:AA23)+SUM(AC23:AG23)) -> 1590.23
A24: 21 | B24: Погорелова Таисия | C24: -477 | D24: 1000 | I24: 93 | L24: 93 | O24: 93 | R24: 93 | U24: 93 | X24: 93 | AA24: 93 | AD24: 93 | AH24: =(C24+D24+J24+P24+V24+AB24)-(SUM(E24:I24)+SUM(K24:O24)+SUM(Q24:U24)+SUM(W24:AA24)+SUM(AC24:AG24)) -> -221
A25: 22 | B25: Полякова Софья | C25: -607.49 | D25: 5000 | G25: 93 | H25: 93 | I25: 93 | K25: 93 | L25: 93 | M25: 93 | N25: 93 | O25: 93 | Q25: 93 | R25: 93 | S25: 93 | T25: 93 | U25: 93 | W25: 93 | X25: 93 | Y25: 93 | Z25: 93 | AA25: 93 | AC25: 93 | AD25: 93 | AH25: =(C25+D25+J25+P25+V25+AB25)-(SUM(E25:I25)+SUM(K25:O25)+SUM(Q25:U25)+SUM(W25:AA25)+SUM(AC25:AG25)) -> 2532.51
A26: 23 | B26: Евсюков Сергей | C26: 1000 | AH26: =(C26+D26+J26+P26+V26+AB26)-(SUM(E26:I26)+SUM(K26:O26)+SUM(Q26:U26)+SUM(W26:AA26)+SUM(AC26:AG26)) -> 1000
A27: 24 | B27: Седых Алёна | C27: -1046 | D27: 2000 | G27: 93 | H27: 93 | I27: 93 | K27: 93 | L27: 93 | M27: 93 | N27: 93 | O27: 93 | Q27: 93 | R27: 93 | S27: 93 | T27: 93 | U27: 93 | W27: 93 | X27: 93 | Y27: 93 | Z27: 93 | AA27: 93 | AC27: 93 | AD27: 93 | AH27: =(C27+D27+J27+P27+V27+AB27)-(SUM(E27:I27)+SUM(K27:O27)+SUM(Q27:U27)+SUM(W27:AA27)+SUM(AC27:AG27)) -> -906
A28: 25 | B28: Спасская Софья | C28: -3456.53 | D28: 6000 | G28: 93 | H28: 93 | I28: 93 | K28: 93 | L28: 93 | M28: 93 | N28: 93 | O28: 93 | Q28: 93 | R28: 93 | S28: 93 | T28: 93 | U28: 93 | W28: 93 | X28: 93 | Y28: 93 | Z28: 93 | AA28: 93 | AH28: =(C28+D28+J28+P28+V28+AB28)-(SUM(E28:I28)+SUM(K28:O28)+SUM(Q28:U28)+SUM(W28:AA28)+SUM(AC28:AG28)) -> 869.47
A29: 26 | B29: Харольская Софья | C29: -2209.97 | D29: 2200 | G29: 93 | H29: 93 | I29: 93 | K29: 93 | L29: 93 | M29: 93 | N29: 93 | O29: 93 | Q29: 93 | R29: 93 | S29: 93 | T29: 93 | U29: 93 | W29: 93 | X29: 93 | Y29: 93 | Z29: 93 | AA29: 93 | AC29: 93 | AD29: 93 | AH29: =(C29+D29+J29+P29+V29+AB29)-(SUM(E29:I29)+SUM(K29:O29)+SUM(Q29:U29)+SUM(W29:AA29)+SUM(AC29:AG29)) -> -1869.97
A30: 27 | B30: Чебунина Кристина | C30: -2079.42 | D30: 3000 | G30: 93 | H30: 93 | I30: 93 | K30: 93 | L30: 93 | M30: 93 | N30: 93 | O30: 93 | Q30: 93 | R30: 93 | S30: 93 | T30: 93 | U30: 93 | W30: 93 | X30: 93 | Y30: 93 | Z30: 93 | AA30: 93 | AC30: 93 | AD30: 93 | AH30: =(C30+D30+J30+P30+V30+AB30)-(SUM(E30:I30)+SUM(K30:O30)+SUM(Q30:U30)+SUM(W30:AA30)+SUM(AC30:AG30)) -> -939.42
A31: Сумма к уплате по дням | E31: =SUM(E4:E30) -> 0 | F31: =SUM(F4:F30) -> 0 | G31: =SUM(G4:G30) -> 1581 | H31: =SUM(H4:H30) -> 1488 | I31: =SUM(I4:I30) -> 1767 | K31: =SUM(K4:K30) -> 1395 | L31: =SUM(L4:L30) -> 1767 | M31: =SUM(M4:M30) -> 1581 | N31: =SUM(N4:N30) -> 1488 | O31: =SUM(O4:O30) -> 1767 | Q31: =SUM(Q4:Q30) -> 1395 | R31: =SUM(R4:R30) -> 1767 | S31: =SUM(S4:S30) -> 1581 | T31: =SUM(T4:T30) -> 1488 | U31: =SUM(U4:U30) -> 1767 | W31: =SUM(W4:W30) -> 1395 | X31: =SUM(X4:X30) -> 1767 | Y31: =SUM(Y4:Y30) -> 1581 | Z31: =SUM(Z4:Z30) -> 1395 | AA31: =SUM(AA4:AA30) -> 1674 | AC31: =SUM(AC4:AC30) -> 1209 | AD31: =SUM(AD4:AD30) -> 1581 | AE31: =SUM(AE4:AE30) -> 0 | AF31: =SUM(AF4:AF30) -> 0 | AG31: =SUM(AG4:AG30) -> 0
A34: Сумма к зачету столовой на конец месяца (оплачено, но не использовано) | AH34: =SUM(AH4:AH30) -> 10873.63

Sheet ноябрь 2014
E1: ноябрь 2014
A2: № п/п | B2: Ф.И.О. ученика | C2: Сальдо октябрь | D2: Внесено | E2: 1-я неделя | J2: Внесено | K2: 2-я неделя | P2: Внесено | Q2: 3-я неделя | V2: Внесено | W2: 4-я неделя | AB2: Внесено | AC2: 5-я неделя | AH2: Сальдо ноябрь
G3: 5 | H3: 6 | I3: 7 | K3: 10 | L3: 11 | M3: 12 | N3: 13 | O3: 14 | Q3: 17 | R3: 18 | S3: 19 | T3: 20 | U3: 21 | W3: 24 | X3: 25 | Y3: 26 | Z3: 27 | AA3: 28
A4: 1 | B4: Баркова Александра | C4: 796.26 | D4: 1000 | G4: 93 | H4: 93 | K4: 93 | L4: 93 | M4: 93 | N4: 93 | O4: 93 | Q4: 93 | R4: 93 | S4: 93 | T4: 93 | U4: 93 | W4: 93 | X4: 93 | Y4: 93 | Z4: 93 | AA4: 93 | AH4: =(C4+D4+J4+P4+V4+AB4)-(SUM(E4:I4)+SUM(K4:O4)+SUM(Q4:U4)+SUM(W4:AA4)+SUM(AC4:AG4)) -> 215.26
A5: 2 | B5: Васильев Сергей | C5: -649.84 | I5: 93 | L5: 93 | O5: 93 | AH5: =(C5+D5+J5+P5+V5+AB5)-(SUM(E5:I5)+SUM(K5:O5)+SUM(Q5:U5)+SUM(W5:AA5)+SUM(AC5:AG5)) -> -928.84
A6: 3 | B6: Горностаев Владислав | C6: 0 | AH6: =(C6+D6+J6+P6+V6+AB6)-(SUM(E6:I6)+SUM(K6:O6)+SUM(Q6:U6)+SUM(W6:AA6)+SUM(AC6:AG6)) -> 0
A7: 4 | B7: Дашков Никита | C7: -801.39 | D7: 801.39 | AH7: =(C7+D7+J7+P7+V7+AB7)-(SUM(E7:I7)+SUM(K7:O7)+SUM(Q7:U7)+SUM(W7:AA7)+SUM(AC7:AG7)) -> 5.6843419e-13
A8: 5 | B8: Девина София | C8: 713.63 | G8: 93 | H8: 93 | I8: 93 | K8: 93 | L8: 93 | M8: 93 | N8: 93 | O8: 93 | Q8: 93 | R8: 93 | S8: 93 | T8: 93 | U8: 93 | W8: 93 | X8: 93 | Y8: 93 | Z8: 93 | AA8: 93 | AH8: =(C8+D8+J8+P8+V8+AB8)-(SUM(E8:I8)+SUM(K8:O8)+SUM(Q8:U8)+SUM(W8:AA8)+SUM(AC8:AG8)) -> -960.37
A9: 6 | B9: Ендерова Марина | C9: 1461.61 | G9: 93 | H9: 93 | I9: 93 | K9: 93 | L9: 93 | M9: 93 | N9: 93 | O9: 93 | R9: 93 | U9: 93 | W9: 93 | X9: 93 | AA9: 93 | AH9: =(C9+D9+J9+P9+V9+AB9)-(SUM(E9:I9)+SUM(K9:O9)+SUM(Q9:U9)+SUM(W9:AA9)+SUM(AC9:AG9)) -> 252.61
A10: 7 | B10: Журавлёв Сергей | C10: 913.44 | G10: 93 | H10: 93 | I10: 93 | K10: 93 | L10: 93 | M10: 93 | N10: 93 | O10: 93 | Q10: 93 | R10: 93 | S10: 93 | T10: 93 | U10: 93 | W10: 93 | X10: 93 | Y10: 93 | Z10: 93 | AA10: 93 | AH10: =(C10+D10+J10+P10+V10+AB10)-(SUM(E10:I10)+SUM(K10:O10)+SUM(Q10:U10)+SUM(W10:AA10)+SUM(AC10:AG10)) -> -760.56
A11: 8 | B11: Каранадце Диана | C11: 1074.78 | G11: 93 | H11: 93 | I11: 93 | K11: 93 | L11: 93 | M11: 93 | N11: 93 | O11: 93 | Q11: 93 | R11: 93 | S11: 93 | T11: 93 | U11: 93 | W11: 93 | X11: 93 | Y11: 93 | Z11: 93 | AA11: 93 | AH11: =(C11+D11+J11+P11+V11+AB11)-(SUM(E11:I11)+SUM(K11:O11)+SUM(Q11:U11)+SUM(W11:AA11)+SUM(AC11:AG11)) -> -599.22
A12: 9 | B12: Крац Александр | C12: 0 | AH12: =(C12+D12+J12+P12+V12+AB12)-(SUM(E12:I12)+SUM(K12:O12)+SUM(Q12:U12)+SUM(W12:AA12)+SUM(AC12:AG12)) -> 0
A13: 10 | B13: Круглова Мария | C13: -41.12 | D13: 3000 | G13: 93 | H13: 93 | I13: 93 | K13: 93 | L13: 93 | M13: 93 | N13: 93 | O13: 93 | Q13: 93 | R13: 93 | S13: 93 | T13: 93 | U13: 93 | AH13: =(C13+D13+J13+P13+V13+AB13)-(SUM(E13:I13)+SUM(K13:O13)+SUM(Q13:U13)+SUM(W13:AA13)+SUM(AC13:AG13)) -> 1749.88
A14: 11 | B14: Балашов Степан | C14: 500 | AH14: =(C14+D14+J14+P14+V14+AB14)-(SUM(E14:I14)+SUM(K14:O14)+SUM(Q14:U14)+SUM(W14:AA14)+SUM(AC14:AG14)) -> 500
A15: 12 | B15: Кулинкович Ева | C15: 623.12 | G15: 93 | H15: 93 | I15: 93 | K15: 93 | L15: 93 | M15: 93 | N15: 93 | O15: 93 | Q15: 93 | R15: 93 | S15: 93 | T15: 93 | U15: 93 | W15: 93 | X15: 93 | Y15: 93 | Z15: 93 | AA15: 93 | AH15: =(C15+D15+J15+P15+V15+AB15)-(SUM(E15:I15)+SUM(K15:O15)+SUM(Q15:U15)+SUM(W15:AA15)+SUM(AC15:AG15)) -> -1050.88
A16: 13 | B16: Куст Ольга | C16: 1495.12 | G16: 93 | I16: 93 | L16: 93 | M16: 93 | O16: 93 | R16: 93 | S16: 93 | U16: 93 | X16: 93 | Y16: 93 | AA16: 93 | AH16: =(C16+D16+J16+P16+V16+AB16)-(SUM(E16:I16)+SUM(K16:O16)+SUM(Q16:U16)+SUM(W16:AA16)+SUM(AC16:AG16)) -> 472.12
A17: 14 | B17: Кученкова Анна | C17: 0 | AH17: =(C17+D17+J17+P17+V17+AB17)-(SUM(E17:I17)+SUM(K17:O17)+SUM(Q17:U17)+SUM(W17:AA17)+SUM(AC17:AG17)) -> 0
A18: 15 | B18: Ларионова Марина | C18: 0 | AH18: =(C18+D18+J18+P18+V18+AB18)-(SUM(E18:I18)+SUM(K18:O18)+SUM(Q18:U18)+SUM(W18:AA18)+SUM(AC18:AG18)) -> 0
A19: 16 | B19: Лацузбая Елизавета | C19: 0 | AH19: =(C19+D19+J19+P19+V19+AB19)-(SUM(E19:I19)+SUM(K19:O19)+SUM(Q19:U19)+SUM(W19:AA19)+SUM(AC19:AG19)) -> 0
A20: 17 | B20: Лызинцев Евгений | C20: 773.79 | I20: 93 | L20: 93 | O20: 93 | R20: 93 | U20: 93 | X20: 93 | AA20: 93 | AH20: =(C20+D20+J20+P20+V20+AB20)-(SUM(E20:I20)+SUM(K20:O20)+SUM(Q20:U20)+SUM(W20:AA20)+SUM(AC20:AG20)) -> 122.79
A21: 18 | B21: Макаренко Влад | C21: 0 | AH21: =(C21+D21+J21+P21+V21+AB21)-(SUM(E21:I21)+SUM(K21:O21)+SUM(Q21:U21)+SUM(W21:AA21)+SUM(AC21:AG21)) -> 0
A22: 19 | B22: Никонова Алиса | C22: 1958.41 | G22: 93 | H22: 93 | I22: 93 | K22: 93 | L22: 93 | M22: 93 | N22: 93 | O22: 93 | Q22: 93 | R22: 93 | S22: 93 | T22: 93 | U22: 93 | W22: 93 | X22: 93 | Y22: 93 | Z22: 93 | AA22: 93 | AH22: =(C22+D22+J22+P22+V22+AB22)-(SUM(E22:I22)+SUM(K22:O22)+SUM(Q22:U22)+SUM(W22:AA22)+SUM(AC22:AG22)) -> 284.41
A23: 20 | B23: Пахилина Дарья | C23: 1590.23 | G23: 93 | H23: 93 | I23: 93 | K23: 93 | L23: 93 | M23: 93 | N23: 93 | O23: 93 | Q23: 93 | R23: 93 | S23: 93 | T23: 93 | U23: 93 | W23: 93 | X23: 93 | Y23: 93 | Z23: 93 | AA23: 93 | AH23: =(C23+D23+J23+P23+V23+AB23)-(SUM(E23:I23)+SUM(K23:O23)+SUM(Q23:U23)+SUM(W23:AA23)+SUM(AC23:AG23)) -> -83.77
A24: 21 | B24: Погорелова Таисия | C24: -221 | I24: 93 | L24: 93 | O24: 93 | R24: 93 | U24: 93 | X24: 93 | AA24: 93 | AH24: =(C24+D24+J24+P24+V24+AB24)-(SUM(E24:I24)+SUM(K24:O24)+SUM(Q24:U24)+SUM(W24:AA24)+SUM(AC24:AG24)) -> -872
A25: 22 | B25: Полякова Софья | C25: 2532.51 | G25: 93 | H25: 93 | I25: 93 | K25: 93 | L25: 93 | M25: 93 | N25: 93 | O25: 93 | Q25: 93 | R25: 93 | S25: 93 | T25: 93 | U25: 93 | W25: 93 | X25: 93 | Y25: 93 | Z25: 93 | AA25: 93 | AH25: =(C25+D25+J25+P25+V25+AB25)-(SUM(E25:I25)+SUM(K25:O25)+SUM(Q25:U25)+SUM(W25:AA25)+SUM(AC25:AG25)) -> 858.51
A26: 23 | B26: Евсюков Сергей | C26: 1000 | AH26: =(C26+D26+J26+P26+V26+AB26)-(SUM(E26:I26)+SUM(K26:O26)+SUM(Q26:U26)+SUM(W26:AA26)+SUM(AC26:AG26)) -> 1000
A27: 24 | B27: Седых Алёна | C27: -906 | D27: 1000 | G27: 93 | H27: 93 | K27: 93 | L27: 93 | M27: 93 | N27: 93 | O27: 93 | Q27: 93 | R27: 93 | S27: 93 | T27: 93 | U27: 93 | W27: 93 | X27: 93 | Z27: 93 | AA27: 93 | AH27: =(C27+D27+J27+P27+V27+AB27)-(SUM(E27:I27)+SUM(K27:O27)+SUM(Q27:U27)+SUM(W27:AA27)+SUM(AC27:AG27)) -> -1394
A28: 25 | B28: Спасская Софья | C28: 869.47 | K28: 93 | L28: 93 | M28: 93 | N28: 93 | O28: 93 | Q28: 93 | R28: 93 | S28: 93 | T28: 93 | U28: 93 | W28: 93 | X28: 93 | Y28: 93 | Z28: 93 | AA28: 93 | AH28: =(C28+D28+J28+P28+V28+AB28)-(SUM(E28:I28)+SUM(K28:O28)+SUM(Q28:U28)+SUM(W28:AA28)+SUM(AC28:AG28)) -> -525.53
A29: 26 | B29: Харольская Софья | C29: -1869.97 | G29: 93 | H29: 93 | K29: 93 | L29: 93 | M29: 93 | N29: 93 | O29: 93 | Q29: 93 | R29: 93 | S29: 93 | T29: 93 | U29: 93 | W29: 93 | X29: 93 | Y29: 93 | Z29: 93 | AA29: 93 | AH29: =(C29+D29+J29+P29+V29+AB29)-(SUM(E29:I29)+SUM(K29:O29)+SUM(Q29:U29)+SUM(W29:AA29)+SUM(AC29:AG29)) -> -3450.97
A30: 27 | B30: Чебунина Кристина | C30: -939.42 | D30: 2900 | G30: 93 | H30: 93 | K30: 93 | L30: 93 | M30: 93 | N30: 93 | O30: 93 | Q30: 93 | R30: 93 | S30: 93 | T30: 93 | U30: 93 | W30: 93 | X30: 93 | Y30: 93 | Z30: 93 | AA30: 93 | AH30: =(C30+D30+J30+P30+V30+AB30)-(SUM(E30:I30)+SUM(K30:O30)+SUM(Q30:U30)+SUM(W30:AA30)+SUM(AC30:AG30)) -> 379.58
A31: Сумма к уплате по дням | E31: =SUM(E4:E30) -> 0 | F31: =SUM(F4:F30) -> 0 | G31: =SUM(G4:G30) -> 1302 | H31: =SUM(H4:H30) -> 1209 | I31: =SUM(I4:I30) -> 1209 | K31: =SUM(K4:K30) -> 1302 | L31: =SUM(L4:L30) -> 1674 | M31: =SUM(M4:M30) -> 1395 | N31: =SUM(N4:N30) -> 1302 | O31: =SUM(O4:O30) -> 1674 | Q31: =SUM(Q4:Q30) -> 1209 | R31: =SUM(R4:R30) -> 1581 | S31: =SUM(S4:S30) -> 1302 | T31: =SUM(T4:T30) -> 1209 | U31: =SUM(U4:U30) -> 1581 | W31: =SUM(W4:W30) -> 1209 | X31: =SUM(X4:X30) -> 1488 | Y31: =SUM(Y4:Y30) -> 1116 | Z31: =SUM(Z4:Z30) -> 1116 | AA31: =SUM(AA4:AA30) -> 1488 | AC31: =SUM(AC4:AC30) -> 0 | AD31: =SUM(AD4:AD30) -> 0 | AE31: =SUM(AE4:AE30) -> 0 | AF31: =SUM(AF4:AF30) -> 0 | AG31: =SUM(AG4:AG30) -> 0
A34: Сумма к зачету столовой на конец месяца (оплачено, но не использовано) | AH34: =SUM(AH4:AH30) -> -4790.98
